| Back to Multiple platform build/check report for BioC 3.14 |
|
This page was generated on 2022-04-13 12:07:17 -0400 (Wed, 13 Apr 2022).
| Hostname | OS | Arch (*) | R version | Installed pkgs |
|---|---|---|---|---|
| nebbiolo2 | Linux (Ubuntu 20.04.4 LTS) | x86_64 | 4.1.3 (2022-03-10) -- "One Push-Up" | 4324 |
| tokay2 | Windows Server 2012 R2 Standard | x64 | 4.1.3 (2022-03-10) -- "One Push-Up" | 4077 |
| machv2 | macOS 10.14.6 Mojave | x86_64 | 4.1.3 (2022-03-10) -- "One Push-Up" | 4137 |
| Click on any hostname to see more info about the system (e.g. compilers) (*) as reported by 'uname -p', except on Windows and Mac OS X | ||||
|
To the developers/maintainers of the scAlign package: - Please allow up to 24 hours (and sometimes 48 hours) for your latest push to git@git.bioconductor.org:packages/scAlign.git to reflect on this report. See How and When does the builder pull? When will my changes propagate? for more information. - Make sure to use the following settings in order to reproduce any error or warning you see on this page. |
| Package 1702/2083 | Hostname | OS / Arch | INSTALL | BUILD | CHECK | BUILD BIN | ||||||||
| scAlign 1.8.0 (landing page) Nelson Johansen
| nebbiolo2 | Linux (Ubuntu 20.04.4 LTS) / x86_64 | OK | OK | ERROR | |||||||||
| tokay2 | Windows Server 2012 R2 Standard / x64 | OK | OK | ERROR | OK | |||||||||
| machv2 | macOS 10.14.6 Mojave / x86_64 | OK | OK | ERROR | OK | |||||||||
| Package: scAlign |
| Version: 1.8.0 |
| Command: rm -rf scAlign.buildbin-libdir && mkdir scAlign.buildbin-libdir && C:\Users\biocbuild\bbs-3.14-bioc\R\bin\R.exe --arch x64 CMD INSTALL --no-multiarch --build --library=scAlign.buildbin-libdir scAlign_1.8.0.tar.gz |
| StartedAt: 2022-04-13 07:04:13 -0400 (Wed, 13 Apr 2022) |
| EndedAt: 2022-04-13 07:04:51 -0400 (Wed, 13 Apr 2022) |
| EllapsedTime: 37.8 seconds |
| RetCode: 0 |
| Status: OK |
| PackageFile: scAlign_1.8.0.zip |
| PackageFileSize: 1.048 MiB |
##############################################################################
##############################################################################
###
### Running command:
###
### rm -rf scAlign.buildbin-libdir && mkdir scAlign.buildbin-libdir && C:\Users\biocbuild\bbs-3.14-bioc\R\bin\R.exe --arch x64 CMD INSTALL --no-multiarch --build --library=scAlign.buildbin-libdir scAlign_1.8.0.tar.gz
###
##############################################################################
##############################################################################
* installing *source* package 'scAlign' ...
** using staged installation
** R
** data
** inst
** byte-compile and prepare package for lazy loading
** help
*** installing help indices
converting help for package 'scAlign'
finding HTML links ... done
GetCrit html
PlotTSNE html
RunMultiCCA html
UpdateW html
alignment_score html
cellbench html
compute_kernel_matrix html
decoderModel_add_mse_loss html
decoderModel_calc_projection html
decoderModel_create_train_op html
decoderModel_emb_to_proj html
decoderModel_train_decoder html
decoder_large html
decoder_medium html
decoder_small html
define_kernel_matrix html
dot-check_all_args html
dot-check_tensorflow html
dot-data_setup html
dot-early_stop html
dot-is.wholenumber html
dot-learning_rate html
dot-plotTSNE html
encoderModel_add_logit_loss html
encoderModel_add_semisup_loss_data_driven
html
encoderModel_calc_embedding html
encoderModel_calc_logit html
encoderModel_create_train_op html
encoderModel_data_to_embedding html
encoderModel_embedding_to_logit html
encoderModel_gaussian_kernel html
encoderModel_train_encoder html
encoderModel_train_encoder_multi html
encoder_large html
encoder_medium html
encoder_small html
gaussianKernel html
l2n html
scAlign html
scAlignArguments html
scAlignCreateObject html
scAlignMulti html
scAlignOptions html
** building package indices
** installing vignettes
** testing if installed package can be loaded from temporary location
** testing if installed package can be loaded from final location
** testing if installed package keeps a record of temporary installation path
* MD5 sums
packaged installation of 'scAlign' as scAlign_1.8.0.zip
* DONE (scAlign)