| Back to Multiple platform build/check report for BioC 3.14 |
|
This page was generated on 2022-04-13 12:07:17 -0400 (Wed, 13 Apr 2022).
| Hostname | OS | Arch (*) | R version | Installed pkgs |
|---|---|---|---|---|
| nebbiolo2 | Linux (Ubuntu 20.04.4 LTS) | x86_64 | 4.1.3 (2022-03-10) -- "One Push-Up" | 4324 |
| tokay2 | Windows Server 2012 R2 Standard | x64 | 4.1.3 (2022-03-10) -- "One Push-Up" | 4077 |
| machv2 | macOS 10.14.6 Mojave | x86_64 | 4.1.3 (2022-03-10) -- "One Push-Up" | 4137 |
| Click on any hostname to see more info about the system (e.g. compilers) (*) as reported by 'uname -p', except on Windows and Mac OS X | ||||
|
To the developers/maintainers of the savR package: - Please allow up to 24 hours (and sometimes 48 hours) for your latest push to git@git.bioconductor.org:packages/savR.git to reflect on this report. See How and When does the builder pull? When will my changes propagate? for more information. - Make sure to use the following settings in order to reproduce any error or warning you see on this page. |
| Package 1696/2083 | Hostname | OS / Arch | INSTALL | BUILD | CHECK | BUILD BIN | ||||||||
| savR 1.32.0 (landing page) R. Brent Calder
| nebbiolo2 | Linux (Ubuntu 20.04.4 LTS) / x86_64 | OK | OK | OK | |||||||||
| tokay2 | Windows Server 2012 R2 Standard / x64 | OK | OK | OK | OK | |||||||||
| machv2 | macOS 10.14.6 Mojave / x86_64 | OK | OK | OK | OK | |||||||||
| Package: savR |
| Version: 1.32.0 |
| Command: C:\cygwin\bin\curl.exe -O http://155.52.207.166/BBS/3.14/bioc/src/contrib/savR_1.32.0.tar.gz && rm -rf savR.buildbin-libdir && mkdir savR.buildbin-libdir && C:\Users\biocbuild\bbs-3.14-bioc\R\bin\R.exe CMD INSTALL --merge-multiarch --build --library=savR.buildbin-libdir savR_1.32.0.tar.gz && C:\Users\biocbuild\bbs-3.14-bioc\R\bin\R.exe CMD INSTALL savR_1.32.0.zip && rm savR_1.32.0.tar.gz savR_1.32.0.zip |
| StartedAt: 2022-04-12 04:51:52 -0400 (Tue, 12 Apr 2022) |
| EndedAt: 2022-04-12 04:53:33 -0400 (Tue, 12 Apr 2022) |
| EllapsedTime: 101.1 seconds |
| RetCode: 0 |
| Status: OK |
##############################################################################
##############################################################################
###
### Running command:
###
### C:\cygwin\bin\curl.exe -O http://155.52.207.166/BBS/3.14/bioc/src/contrib/savR_1.32.0.tar.gz && rm -rf savR.buildbin-libdir && mkdir savR.buildbin-libdir && C:\Users\biocbuild\bbs-3.14-bioc\R\bin\R.exe CMD INSTALL --merge-multiarch --build --library=savR.buildbin-libdir savR_1.32.0.tar.gz && C:\Users\biocbuild\bbs-3.14-bioc\R\bin\R.exe CMD INSTALL savR_1.32.0.zip && rm savR_1.32.0.tar.gz savR_1.32.0.zip
###
##############################################################################
##############################################################################
% Total % Received % Xferd Average Speed Time Time Time Current
Dload Upload Total Spent Left Speed
0 0 0 0 0 0 0 0 --:--:-- --:--:-- --:--:-- 0
100 391k 100 391k 0 0 581k 0 --:--:-- --:--:-- --:--:-- 582k
install for i386
* installing *source* package 'savR' ...
** using staged installation
** R
** inst
** byte-compile and prepare package for lazy loading
** help
*** installing help indices
converting help for package 'savR'
finding HTML links ... done
buildReports html
clusterQualityGtN html
clusters html
correctedIntensities html
cycles html
directions html
errorMetrics html
extractionMetrics html
flowcellLayout html
illuminaFlowCellLayout-class html
illuminaRead-class html
location html
pfBoxplot html
pfClusters html
plotFWHM html
plotIntensity html
plotQGT30 html
qualityHeatmap html
qualityMetrics html
reads html
run html
savCorrectedIntensityFormat-class html
savData-class html
savErrorFormat-class html
savExtractionFormat-class html
savFormat-class html
savProject-class html
savQualityFormat-class html
savQualityFormatV5-class html
savR-package html
savR html
savTileFormat-class html
tileMetrics html
** building package indices
** installing vignettes
** testing if installed package can be loaded from temporary location
** testing if installed package can be loaded from final location
** testing if installed package keeps a record of temporary installation path
install for x64
* installing *source* package 'savR' ...
** testing if installed package can be loaded
* MD5 sums
packaged installation of 'savR' as savR_1.32.0.zip
* DONE (savR)
* installing to library 'C:/Users/biocbuild/bbs-3.14-bioc/R/library'
package 'savR' successfully unpacked and MD5 sums checked