| Back to Multiple platform build/check report for BioC 3.14 | 
 | 
This page was generated on 2022-04-13 12:07:15 -0400 (Wed, 13 Apr 2022).
| Hostname | OS | Arch (*) | R version | Installed pkgs | 
|---|---|---|---|---|
| nebbiolo2 | Linux (Ubuntu 20.04.4 LTS) | x86_64 | 4.1.3 (2022-03-10) -- "One Push-Up" | 4324 | 
| tokay2 | Windows Server 2012 R2 Standard | x64 | 4.1.3 (2022-03-10) -- "One Push-Up" | 4077 | 
| machv2 | macOS 10.14.6 Mojave | x86_64 | 4.1.3 (2022-03-10) -- "One Push-Up" | 4137 | 
| Click on any hostname to see more info about the system (e.g. compilers) (*) as reported by 'uname -p', except on Windows and Mac OS X | ||||
| To the developers/maintainers of the rqubic package: - Please allow up to 24 hours (and sometimes 48 hours) for your latest push to git@git.bioconductor.org:packages/rqubic.git to reflect on this report. See How and When does the builder pull? When will my changes propagate? for more information. - Make sure to use the following settings in order to reproduce any error or warning you see on this page. | 
| Package 1655/2083 | Hostname | OS / Arch | INSTALL | BUILD | CHECK | BUILD BIN | ||||||||
| rqubic 1.40.0  (landing page) Jitao David Zhang 
 | nebbiolo2 | Linux (Ubuntu 20.04.4 LTS) / x86_64 | OK | OK | WARNINGS |  | ||||||||
| tokay2 | Windows Server 2012 R2 Standard / x64 | OK | OK | WARNINGS | OK |  | ||||||||
| machv2 | macOS 10.14.6 Mojave / x86_64 | OK | OK | OK | OK |  | ||||||||
| Package: rqubic | 
| Version: 1.40.0 | 
| Command: C:\cygwin\bin\curl.exe -O http://155.52.207.166/BBS/3.14/bioc/src/contrib/rqubic_1.40.0.tar.gz && rm -rf rqubic.buildbin-libdir && mkdir rqubic.buildbin-libdir && C:\Users\biocbuild\bbs-3.14-bioc\R\bin\R.exe CMD INSTALL --merge-multiarch --build --library=rqubic.buildbin-libdir rqubic_1.40.0.tar.gz && C:\Users\biocbuild\bbs-3.14-bioc\R\bin\R.exe CMD INSTALL rqubic_1.40.0.zip && rm rqubic_1.40.0.tar.gz rqubic_1.40.0.zip | 
| StartedAt: 2022-04-12 06:35:31 -0400 (Tue, 12 Apr 2022) | 
| EndedAt: 2022-04-12 06:37:19 -0400 (Tue, 12 Apr 2022) | 
| EllapsedTime: 108.0 seconds | 
| RetCode: 0 | 
| Status: OK | 
##############################################################################
##############################################################################
###
### Running command:
###
###   C:\cygwin\bin\curl.exe -O http://155.52.207.166/BBS/3.14/bioc/src/contrib/rqubic_1.40.0.tar.gz && rm -rf rqubic.buildbin-libdir && mkdir rqubic.buildbin-libdir && C:\Users\biocbuild\bbs-3.14-bioc\R\bin\R.exe CMD INSTALL --merge-multiarch --build --library=rqubic.buildbin-libdir rqubic_1.40.0.tar.gz && C:\Users\biocbuild\bbs-3.14-bioc\R\bin\R.exe CMD INSTALL rqubic_1.40.0.zip && rm rqubic_1.40.0.tar.gz rqubic_1.40.0.zip
###
##############################################################################
##############################################################################
  % Total    % Received % Xferd  Average Speed   Time    Time     Time  Current
                                 Dload  Upload   Total   Spent    Left  Speed
  0     0    0     0    0     0      0      0 --:--:-- --:--:-- --:--:--     0
100 74921  100 74921    0     0   313k      0 --:--:-- --:--:-- --:--:--  315k
install for i386
* installing *source* package 'rqubic' ...
** using staged installation
** libs
"C:/rtools40/mingw32/bin/"gcc  -I"C:/Users/BIOCBU~1/BBS-3~1.14-/R/include" -DNDEBUG     -I"C:/extsoft/include"     -O2 -Wall  -std=gnu99 -mfpmath=sse -msse2 -mstackrealign  -c bicluster.c -o bicluster.o
bicluster.c: In function 'seed_intersect_r':
bicluster.c:354:11: warning: suggest parentheses around assignment used as truth value [-Wparentheses]
       if (flag=ss) (*m_cnt)++;
           ^~~~
"C:/rtools40/mingw32/bin/"gcc  -I"C:/Users/BIOCBU~1/BBS-3~1.14-/R/include" -DNDEBUG     -I"C:/extsoft/include"     -O2 -Wall  -std=gnu99 -mfpmath=sse -msse2 -mstackrealign  -c discretize.c -o discretize.o
In file included from discretize.c:9:
rqubic.h:62:20: warning: 'MINCOL_ATT_NAME' defined but not used [-Wunused-variable]
 static const char *MINCOL_ATT_NAME="minimumCol";
                    ^~~~~~~~~~~~~~~
rqubic.h:61:20: warning: 'EDGELIST_ATT_NAME' defined but not used [-Wunused-variable]
 static const char *EDGELIST_ATT_NAME="edgelist";
                    ^~~~~~~~~~~~~~~~~
"C:/rtools40/mingw32/bin/"gcc  -I"C:/Users/BIOCBU~1/BBS-3~1.14-/R/include" -DNDEBUG     -I"C:/extsoft/include"     -O2 -Wall  -std=gnu99 -mfpmath=sse -msse2 -mstackrealign  -c fib.c -o fib.o
In file included from fib.c:35:
rqubic.h:62:20: warning: 'MINCOL_ATT_NAME' defined but not used [-Wunused-variable]
 static const char *MINCOL_ATT_NAME="minimumCol";
                    ^~~~~~~~~~~~~~~
rqubic.h:61:20: warning: 'EDGELIST_ATT_NAME' defined but not used [-Wunused-variable]
 static const char *EDGELIST_ATT_NAME="edgelist";
                    ^~~~~~~~~~~~~~~~~
"C:/rtools40/mingw32/bin/"gcc  -I"C:/Users/BIOCBU~1/BBS-3~1.14-/R/include" -DNDEBUG     -I"C:/extsoft/include"     -O2 -Wall  -std=gnu99 -mfpmath=sse -msse2 -mstackrealign  -c graph.c -o graph.o
"C:/rtools40/mingw32/bin/"gcc  -I"C:/Users/BIOCBU~1/BBS-3~1.14-/R/include" -DNDEBUG     -I"C:/extsoft/include"     -O2 -Wall  -std=gnu99 -mfpmath=sse -msse2 -mstackrealign  -c rqubic.c -o rqubic.o
In file included from rqubic.c:5:
rqubic.h:62:20: warning: 'MINCOL_ATT_NAME' defined but not used [-Wunused-variable]
 static const char *MINCOL_ATT_NAME="minimumCol";
                    ^~~~~~~~~~~~~~~
rqubic.h:61:20: warning: 'EDGELIST_ATT_NAME' defined but not used [-Wunused-variable]
 static const char *EDGELIST_ATT_NAME="edgelist";
                    ^~~~~~~~~~~~~~~~~
C:/rtools40/mingw32/bin/gcc -shared -s -static-libgcc -o rqubic.dll tmp.def bicluster.o discretize.o fib.o graph.o rqubic.o -LC:/extsoft/lib/i386 -LC:/extsoft/lib -LC:/Users/BIOCBU~1/BBS-3~1.14-/R/bin/i386 -lR
installing to C:/Users/biocbuild/bbs-3.14-bioc/meat/rqubic.buildbin-libdir/00LOCK-rqubic/00new/rqubic/libs/i386
** R
** inst
** byte-compile and prepare package for lazy loading
** help
*** installing help indices
  converting help for package 'rqubic'
    finding HTML links ... done
    QUBICBiclusterSet-class                 html  
    finding level-2 HTML links ... done
    combineBiclusts-methods                 html  
    discretize                              html  
    eSetDimName                             html  
    fcFilter-methods                        html  
    fcFilter                                html  
    features-methods                        html  
    generateSeeds-methods                   html  
    parseQubicBlocks                        html  
    quBicluster                             html  
    readBiclusterResults                    html  
    rqubic-package                          html  
    writeQubicInputFile                     html  
** building package indices
** installing vignettes
** testing if installed package can be loaded from temporary location
** testing if installed package can be loaded from final location
** testing if installed package keeps a record of temporary installation path
install for x64
* installing *source* package 'rqubic' ...
** libs
"C:/rtools40/mingw64/bin/"gcc  -I"C:/Users/BIOCBU~1/BBS-3~1.14-/R/include" -DNDEBUG     -I"C:/extsoft/include"     -O2 -Wall  -std=gnu99 -mfpmath=sse -msse2 -mstackrealign  -c bicluster.c -o bicluster.o
bicluster.c: In function 'seed_intersect_r':
bicluster.c:354:11: warning: suggest parentheses around assignment used as truth value [-Wparentheses]
       if (flag=ss) (*m_cnt)++;
           ^~~~
"C:/rtools40/mingw64/bin/"gcc  -I"C:/Users/BIOCBU~1/BBS-3~1.14-/R/include" -DNDEBUG     -I"C:/extsoft/include"     -O2 -Wall  -std=gnu99 -mfpmath=sse -msse2 -mstackrealign  -c discretize.c -o discretize.o
In file included from discretize.c:9:
rqubic.h:62:20: warning: 'MINCOL_ATT_NAME' defined but not used [-Wunused-variable]
 static const char *MINCOL_ATT_NAME="minimumCol";
                    ^~~~~~~~~~~~~~~
rqubic.h:61:20: warning: 'EDGELIST_ATT_NAME' defined but not used [-Wunused-variable]
 static const char *EDGELIST_ATT_NAME="edgelist";
                    ^~~~~~~~~~~~~~~~~
"C:/rtools40/mingw64/bin/"gcc  -I"C:/Users/BIOCBU~1/BBS-3~1.14-/R/include" -DNDEBUG     -I"C:/extsoft/include"     -O2 -Wall  -std=gnu99 -mfpmath=sse -msse2 -mstackrealign  -c fib.c -o fib.o
In file included from fib.c:35:
rqubic.h:62:20: warning: 'MINCOL_ATT_NAME' defined but not used [-Wunused-variable]
 static const char *MINCOL_ATT_NAME="minimumCol";
                    ^~~~~~~~~~~~~~~
rqubic.h:61:20: warning: 'EDGELIST_ATT_NAME' defined but not used [-Wunused-variable]
 static const char *EDGELIST_ATT_NAME="edgelist";
                    ^~~~~~~~~~~~~~~~~
"C:/rtools40/mingw64/bin/"gcc  -I"C:/Users/BIOCBU~1/BBS-3~1.14-/R/include" -DNDEBUG     -I"C:/extsoft/include"     -O2 -Wall  -std=gnu99 -mfpmath=sse -msse2 -mstackrealign  -c graph.c -o graph.o
"C:/rtools40/mingw64/bin/"gcc  -I"C:/Users/BIOCBU~1/BBS-3~1.14-/R/include" -DNDEBUG     -I"C:/extsoft/include"     -O2 -Wall  -std=gnu99 -mfpmath=sse -msse2 -mstackrealign  -c rqubic.c -o rqubic.o
In file included from rqubic.c:5:
rqubic.h:62:20: warning: 'MINCOL_ATT_NAME' defined but not used [-Wunused-variable]
 static const char *MINCOL_ATT_NAME="minimumCol";
                    ^~~~~~~~~~~~~~~
rqubic.h:61:20: warning: 'EDGELIST_ATT_NAME' defined but not used [-Wunused-variable]
 static const char *EDGELIST_ATT_NAME="edgelist";
                    ^~~~~~~~~~~~~~~~~
C:/rtools40/mingw64/bin/gcc -shared -s -static-libgcc -o rqubic.dll tmp.def bicluster.o discretize.o fib.o graph.o rqubic.o -LC:/extsoft/lib/x64 -LC:/extsoft/lib -LC:/Users/BIOCBU~1/BBS-3~1.14-/R/bin/x64 -lR
installing to C:/Users/biocbuild/bbs-3.14-bioc/meat/rqubic.buildbin-libdir/rqubic/libs/x64
** testing if installed package can be loaded
* MD5 sums
packaged installation of 'rqubic' as rqubic_1.40.0.zip
* DONE (rqubic)
* installing to library 'C:/Users/biocbuild/bbs-3.14-bioc/R/library'
package 'rqubic' successfully unpacked and MD5 sums checked