| Back to Multiple platform build/check report for BioC 3.14 | 
 | 
This page was generated on 2022-04-13 12:07:15 -0400 (Wed, 13 Apr 2022).
| Hostname | OS | Arch (*) | R version | Installed pkgs | 
|---|---|---|---|---|
| nebbiolo2 | Linux (Ubuntu 20.04.4 LTS) | x86_64 | 4.1.3 (2022-03-10) -- "One Push-Up" | 4324 | 
| tokay2 | Windows Server 2012 R2 Standard | x64 | 4.1.3 (2022-03-10) -- "One Push-Up" | 4077 | 
| machv2 | macOS 10.14.6 Mojave | x86_64 | 4.1.3 (2022-03-10) -- "One Push-Up" | 4137 | 
| Click on any hostname to see more info about the system (e.g. compilers) (*) as reported by 'uname -p', except on Windows and Mac OS X | ||||
| To the developers/maintainers of the rqt package: - Please allow up to 24 hours (and sometimes 48 hours) for your latest push to git@git.bioconductor.org:packages/rqt.git to reflect on this report. See How and When does the builder pull? When will my changes propagate? for more information. - Make sure to use the following settings in order to reproduce any error or warning you see on this page. | 
| Package 1654/2083 | Hostname | OS / Arch | INSTALL | BUILD | CHECK | BUILD BIN | ||||||||
| rqt 1.20.0  (landing page) Ilya Y. Zhbannikov 
 | nebbiolo2 | Linux (Ubuntu 20.04.4 LTS) / x86_64 | OK | OK | OK |  | ||||||||
| tokay2 | Windows Server 2012 R2 Standard / x64 | OK | OK | OK | OK |  | ||||||||
| machv2 | macOS 10.14.6 Mojave / x86_64 | OK | OK | OK | OK |  | ||||||||
| Package: rqt | 
| Version: 1.20.0 | 
| Command: C:\Users\biocbuild\bbs-3.14-bioc\R\bin\R.exe CMD check --force-multiarch --install=check:rqt.install-out.txt --library=C:\Users\biocbuild\bbs-3.14-bioc\R\library --no-vignettes --timings rqt_1.20.0.tar.gz | 
| StartedAt: 2022-04-13 02:00:23 -0400 (Wed, 13 Apr 2022) | 
| EndedAt: 2022-04-13 02:03:43 -0400 (Wed, 13 Apr 2022) | 
| EllapsedTime: 200.5 seconds | 
| RetCode: 0 | 
| Status: OK | 
| CheckDir: rqt.Rcheck | 
| Warnings: 0 | 
############################################################################## ############################################################################## ### ### Running command: ### ### C:\Users\biocbuild\bbs-3.14-bioc\R\bin\R.exe CMD check --force-multiarch --install=check:rqt.install-out.txt --library=C:\Users\biocbuild\bbs-3.14-bioc\R\library --no-vignettes --timings rqt_1.20.0.tar.gz ### ############################################################################## ############################################################################## * using log directory 'C:/Users/biocbuild/bbs-3.14-bioc/meat/rqt.Rcheck' * using R version 4.1.3 (2022-03-10) * using platform: x86_64-w64-mingw32 (64-bit) * using session charset: ISO8859-1 * using option '--no-vignettes' * checking for file 'rqt/DESCRIPTION' ... OK * checking extension type ... Package * this is package 'rqt' version '1.20.0' * package encoding: UTF-8 * checking package namespace information ... OK * checking package dependencies ... OK * checking if this is a source package ... OK * checking if there is a namespace ... OK * checking for hidden files and directories ... OK * checking for portable file names ... OK * checking whether package 'rqt' can be installed ... OK * checking installed package size ... OK * checking package directory ... OK * checking 'build' directory ... OK * checking DESCRIPTION meta-information ... OK * checking top-level files ... OK * checking for left-over files ... OK * checking index information ... OK * checking package subdirectories ... OK * checking R files for non-ASCII characters ... OK * checking R files for syntax errors ... OK * loading checks for arch 'i386' ** checking whether the package can be loaded ... OK ** checking whether the package can be loaded with stated dependencies ... OK ** checking whether the package can be unloaded cleanly ... OK ** checking whether the namespace can be loaded with stated dependencies ... OK ** checking whether the namespace can be unloaded cleanly ... OK * loading checks for arch 'x64' ** checking whether the package can be loaded ... OK ** checking whether the package can be loaded with stated dependencies ... OK ** checking whether the package can be unloaded cleanly ... OK ** checking whether the namespace can be loaded with stated dependencies ... OK ** checking whether the namespace can be unloaded cleanly ... OK * checking dependencies in R code ... OK * checking S3 generic/method consistency ... OK * checking replacement functions ... OK * checking foreign function calls ... OK * checking R code for possible problems ... OK * checking Rd files ... OK * checking Rd metadata ... OK * checking Rd cross-references ... OK * checking for missing documentation entries ... OK * checking for code/documentation mismatches ... OK * checking Rd \usage sections ... OK * checking Rd contents ... OK * checking for unstated dependencies in examples ... OK * checking R/sysdata.rda ... OK * checking files in 'vignettes' ... OK * checking examples ... ** running examples for arch 'i386' ... OK ** running examples for arch 'x64' ... OK * checking for unstated dependencies in 'tests' ... OK * checking tests ... ** running tests for arch 'i386' ... Running 'runTests.R' OK ** running tests for arch 'x64' ... Running 'runTests.R' OK * checking for unstated dependencies in vignettes ... OK * checking package vignettes in 'inst/doc' ... OK * checking running R code from vignettes ... SKIPPED * checking re-building of vignette outputs ... SKIPPED * checking PDF version of manual ... OK * DONE Status: OK
rqt.Rcheck/00install.out
##############################################################################
##############################################################################
###
### Running command:
###
###   C:\cygwin\bin\curl.exe -O http://155.52.207.166/BBS/3.14/bioc/src/contrib/rqt_1.20.0.tar.gz && rm -rf rqt.buildbin-libdir && mkdir rqt.buildbin-libdir && C:\Users\biocbuild\bbs-3.14-bioc\R\bin\R.exe CMD INSTALL --merge-multiarch --build --library=rqt.buildbin-libdir rqt_1.20.0.tar.gz && C:\Users\biocbuild\bbs-3.14-bioc\R\bin\R.exe CMD INSTALL rqt_1.20.0.zip && rm rqt_1.20.0.tar.gz rqt_1.20.0.zip
###
##############################################################################
##############################################################################
  % Total    % Received % Xferd  Average Speed   Time    Time     Time  Current
                                 Dload  Upload   Total   Spent    Left  Speed
  0     0    0     0    0     0      0      0 --:--:-- --:--:-- --:--:--     0
100  377k  100  377k    0     0   550k      0 --:--:-- --:--:-- --:--:--  550k
100  377k  100  377k    0     0   549k      0 --:--:-- --:--:-- --:--:--  550k
install for i386
* installing *source* package 'rqt' ...
** using staged installation
** R
** inst
** byte-compile and prepare package for lazy loading
** help
*** installing help indices
  converting help for package 'rqt'
    finding HTML links ... done
    build.null.model                        html  
    get.a                                   html  
    preprocess                              html  
    rqt-class                               html  
    rqt-covariates                          html  
    rqt-geneTest                            html  
    rqt-geneTestMeta                        html  
    rqt-general                             html  
    rqt-genotype                            html  
    rqt-methods                             html  
    rqt-phenotype                           html  
    rqt-results                             html  
    simple.multvar.reg                      html  
    vcov_ridge                              html  
** building package indices
** installing vignettes
** testing if installed package can be loaded from temporary location
** testing if installed package can be loaded from final location
** testing if installed package keeps a record of temporary installation path
install for x64
* installing *source* package 'rqt' ...
** testing if installed package can be loaded
* MD5 sums
packaged installation of 'rqt' as rqt_1.20.0.zip
* DONE (rqt)
* installing to library 'C:/Users/biocbuild/bbs-3.14-bioc/R/library'
package 'rqt' successfully unpacked and MD5 sums checked
| rqt.Rcheck/tests_i386/runTests.Rout 
R version 4.1.3 (2022-03-10) -- "One Push-Up"
Copyright (C) 2022 The R Foundation for Statistical Computing
Platform: i386-w64-mingw32/i386 (32-bit)
R is free software and comes with ABSOLUTELY NO WARRANTY.
You are welcome to redistribute it under certain conditions.
Type 'license()' or 'licence()' for distribution details.
R is a collaborative project with many contributors.
Type 'contributors()' for more information and
'citation()' on how to cite R or R packages in publications.
Type 'demo()' for some demos, 'help()' for on-line help, or
'help.start()' for an HTML browser interface to help.
Type 'q()' to quit R.
> # Adapted from: http://rwiki.sciviews.org/doku.php?id=developers:runit
> 
> if( identical( .Platform$OS.type, "windows" ) && 
+     identical( .Platform$r_arch, "x64" ) ){
+   print( "unit tests not run on windows 64 (workaround alert)" )
+ } else {
+   if(require("RUnit", quietly = TRUE)) {
+     pkg <- "rqt"
+     if(Sys.getenv("RCMDCHECK") == "FALSE") {
+       path <- file.path(getwd(), "..", "inst", "unitTests")
+     } else {
+       path <- system.file(package=pkg, "unitTests")
+     }
+ 
+     cat("\nRunning unit tests:\n")
+     print(list(pkg=pkg, getwd=getwd(), pathToUnitTests=path))
+     
+     library(package=pkg, character.only=TRUE)
+     
+     # Define tests
+     testSuite <- defineTestSuite(name=paste(pkg, "unit testing"), 
+                                  dirs=path, 
+                                  testFuncRegexp = "^test_+", 
+                                  testFileRegexp = "^test_+")
+     
+     # Run
+     tests <- runTestSuite(testSuite)
+     
+     # Default report name
+     pathReport <- file.path(path, "report")
+     
+     # Report to stdout
+     printTextProtocol(tests, showDetails=FALSE)
+     
+     # Return stop() to cause R CMD check stop in case of
+     #  - failures i.e. FALSE to unit tests or
+     #  - errors i.e. R errors
+     tmp <- getErrors(tests)
+     if(tmp$nFail > 0 | tmp$nErr > 0) {
+       stop(paste("\n\nUnit testing failed (#test failures: ", tmp$nFail, ", 
+                  #R errors: ",  tmp$nErr, ")\n\n", sep=""))
+     }
+     
+   } else {
+     print( "package RUnit not available, cannot run unit tests" )
+   }       
+ }
Running unit tests:
$pkg
[1] "rqt"
$getwd
[1] "C:/Users/biocbuild/bbs-3.14-bioc/meat/rqt.Rcheck/tests_i386"
$pathToUnitTests
[1] "C:/Users/biocbuild/bbs-3.14-bioc/R/library/rqt/unitTests"
Loading required package: SummarizedExperiment
Loading required package: MatrixGenerics
Loading required package: matrixStats
Attaching package: 'MatrixGenerics'
The following objects are masked from 'package:matrixStats':
    colAlls, colAnyNAs, colAnys, colAvgsPerRowSet, colCollapse,
    colCounts, colCummaxs, colCummins, colCumprods, colCumsums,
    colDiffs, colIQRDiffs, colIQRs, colLogSumExps, colMadDiffs,
    colMads, colMaxs, colMeans2, colMedians, colMins, colOrderStats,
    colProds, colQuantiles, colRanges, colRanks, colSdDiffs, colSds,
    colSums2, colTabulates, colVarDiffs, colVars, colWeightedMads,
    colWeightedMeans, colWeightedMedians, colWeightedSds,
    colWeightedVars, rowAlls, rowAnyNAs, rowAnys, rowAvgsPerColSet,
    rowCollapse, rowCounts, rowCummaxs, rowCummins, rowCumprods,
    rowCumsums, rowDiffs, rowIQRDiffs, rowIQRs, rowLogSumExps,
    rowMadDiffs, rowMads, rowMaxs, rowMeans2, rowMedians, rowMins,
    rowOrderStats, rowProds, rowQuantiles, rowRanges, rowRanks,
    rowSdDiffs, rowSds, rowSums2, rowTabulates, rowVarDiffs, rowVars,
    rowWeightedMads, rowWeightedMeans, rowWeightedMedians,
    rowWeightedSds, rowWeightedVars
Loading required package: GenomicRanges
Loading required package: stats4
Loading required package: BiocGenerics
Attaching package: 'BiocGenerics'
The following objects are masked from 'package:stats':
    IQR, mad, sd, var, xtabs
The following objects are masked from 'package:base':
    Filter, Find, Map, Position, Reduce, anyDuplicated, append,
    as.data.frame, basename, cbind, colnames, dirname, do.call,
    duplicated, eval, evalq, get, grep, grepl, intersect, is.unsorted,
    lapply, mapply, match, mget, order, paste, pmax, pmax.int, pmin,
    pmin.int, rank, rbind, rownames, sapply, setdiff, sort, table,
    tapply, union, unique, unsplit, which.max, which.min
Loading required package: S4Vectors
Attaching package: 'S4Vectors'
The following objects are masked from 'package:base':
    I, expand.grid, unname
Loading required package: IRanges
Attaching package: 'IRanges'
The following object is masked from 'package:grDevices':
    windows
Loading required package: GenomeInfoDb
Loading required package: Biobase
Welcome to Bioconductor
    Vignettes contain introductory material; view with
    'browseVignettes()'. To cite Bioconductor, see
    'citation("Biobase")', and for packages 'citation("pkgname")'.
Attaching package: 'Biobase'
The following object is masked from 'package:MatrixGenerics':
    rowMedians
The following objects are masked from 'package:matrixStats':
    anyMissing, rowMedians
Executing test function test_geneTest  ...  done successfully.
Executing test function test_geneTestMeta  ...  done successfully.
RUNIT TEST PROTOCOL -- Wed Apr 13 02:03:35 2022 
*********************************************** 
Number of test functions: 2 
Number of errors: 0 
Number of failures: 0 
 
1 Test Suite : 
rqt unit testing - 2 test functions, 0 errors, 0 failures
Warning messages:
1: In RNGkind(kind = testSuite$rngKind, normal.kind = testSuite$rngNormalKind) :
  RNGkind: Marsaglia-Multicarry has poor statistical properties
2: In RNGkind(kind = testSuite$rngKind, normal.kind = testSuite$rngNormalKind) :
  RNGkind: severe deviations from normality for Kinderman-Ramage + Marsaglia-Multicarry
3: In RNGkind(kind = testSuite$rngKind, normal.kind = testSuite$rngNormalKind) :
  RNGkind: Marsaglia-Multicarry has poor statistical properties
4: In RNGkind(kind = testSuite$rngKind, normal.kind = testSuite$rngNormalKind) :
  RNGkind: severe deviations from normality for Kinderman-Ramage + Marsaglia-Multicarry
> 
> proc.time()
   user  system elapsed 
   7.28    0.76    8.01 
 | rqt.Rcheck/tests_x64/runTests.Rout 
R version 4.1.3 (2022-03-10) -- "One Push-Up"
Copyright (C) 2022 The R Foundation for Statistical Computing
Platform: x86_64-w64-mingw32/x64 (64-bit)
R is free software and comes with ABSOLUTELY NO WARRANTY.
You are welcome to redistribute it under certain conditions.
Type 'license()' or 'licence()' for distribution details.
R is a collaborative project with many contributors.
Type 'contributors()' for more information and
'citation()' on how to cite R or R packages in publications.
Type 'demo()' for some demos, 'help()' for on-line help, or
'help.start()' for an HTML browser interface to help.
Type 'q()' to quit R.
> # Adapted from: http://rwiki.sciviews.org/doku.php?id=developers:runit
> 
> if( identical( .Platform$OS.type, "windows" ) && 
+     identical( .Platform$r_arch, "x64" ) ){
+   print( "unit tests not run on windows 64 (workaround alert)" )
+ } else {
+   if(require("RUnit", quietly = TRUE)) {
+     pkg <- "rqt"
+     if(Sys.getenv("RCMDCHECK") == "FALSE") {
+       path <- file.path(getwd(), "..", "inst", "unitTests")
+     } else {
+       path <- system.file(package=pkg, "unitTests")
+     }
+ 
+     cat("\nRunning unit tests:\n")
+     print(list(pkg=pkg, getwd=getwd(), pathToUnitTests=path))
+     
+     library(package=pkg, character.only=TRUE)
+     
+     # Define tests
+     testSuite <- defineTestSuite(name=paste(pkg, "unit testing"), 
+                                  dirs=path, 
+                                  testFuncRegexp = "^test_+", 
+                                  testFileRegexp = "^test_+")
+     
+     # Run
+     tests <- runTestSuite(testSuite)
+     
+     # Default report name
+     pathReport <- file.path(path, "report")
+     
+     # Report to stdout
+     printTextProtocol(tests, showDetails=FALSE)
+     
+     # Return stop() to cause R CMD check stop in case of
+     #  - failures i.e. FALSE to unit tests or
+     #  - errors i.e. R errors
+     tmp <- getErrors(tests)
+     if(tmp$nFail > 0 | tmp$nErr > 0) {
+       stop(paste("\n\nUnit testing failed (#test failures: ", tmp$nFail, ", 
+                  #R errors: ",  tmp$nErr, ")\n\n", sep=""))
+     }
+     
+   } else {
+     print( "package RUnit not available, cannot run unit tests" )
+   }       
+ }
[1] "unit tests not run on windows 64 (workaround alert)"
> 
> proc.time()
   user  system elapsed 
   0.29    0.04    0.32 
 | 
| rqt.Rcheck/examples_i386/rqt-Ex.timings 
 | rqt.Rcheck/examples_x64/rqt-Ex.timings 
 |