| Back to Multiple platform build/check report for BioC 3.14 |
|
This page was generated on 2022-04-13 12:05:50 -0400 (Wed, 13 Apr 2022).
| Hostname | OS | Arch (*) | R version | Installed pkgs |
|---|---|---|---|---|
| nebbiolo2 | Linux (Ubuntu 20.04.4 LTS) | x86_64 | 4.1.3 (2022-03-10) -- "One Push-Up" | 4324 |
| tokay2 | Windows Server 2012 R2 Standard | x64 | 4.1.3 (2022-03-10) -- "One Push-Up" | 4077 |
| machv2 | macOS 10.14.6 Mojave | x86_64 | 4.1.3 (2022-03-10) -- "One Push-Up" | 4137 |
| Click on any hostname to see more info about the system (e.g. compilers) (*) as reported by 'uname -p', except on Windows and Mac OS X | ||||
|
To the developers/maintainers of the regioneR package: - Please allow up to 24 hours (and sometimes 48 hours) for your latest push to git@git.bioconductor.org:packages/regioneR.git to reflect on this report. See How and When does the builder pull? When will my changes propagate? for more information. - Make sure to use the following settings in order to reproduce any error or warning you see on this page. |
| Package 1573/2083 | Hostname | OS / Arch | INSTALL | BUILD | CHECK | BUILD BIN | ||||||||
| regioneR 1.26.1 (landing page) Bernat Gel
| nebbiolo2 | Linux (Ubuntu 20.04.4 LTS) / x86_64 | OK | OK | OK | |||||||||
| tokay2 | Windows Server 2012 R2 Standard / x64 | OK | OK | OK | OK | |||||||||
| machv2 | macOS 10.14.6 Mojave / x86_64 | OK | OK | OK | OK | |||||||||
| Package: regioneR |
| Version: 1.26.1 |
| Command: /home/biocbuild/bbs-3.14-bioc/R/bin/R CMD check --install=check:regioneR.install-out.txt --library=/home/biocbuild/bbs-3.14-bioc/R/library --no-vignettes --timings regioneR_1.26.1.tar.gz |
| StartedAt: 2022-04-12 08:59:21 -0400 (Tue, 12 Apr 2022) |
| EndedAt: 2022-04-12 09:06:11 -0400 (Tue, 12 Apr 2022) |
| EllapsedTime: 409.9 seconds |
| RetCode: 0 |
| Status: OK |
| CheckDir: regioneR.Rcheck |
| Warnings: 0 |
##############################################################################
##############################################################################
###
### Running command:
###
### /home/biocbuild/bbs-3.14-bioc/R/bin/R CMD check --install=check:regioneR.install-out.txt --library=/home/biocbuild/bbs-3.14-bioc/R/library --no-vignettes --timings regioneR_1.26.1.tar.gz
###
##############################################################################
##############################################################################
* using log directory ‘/home/biocbuild/bbs-3.14-bioc/meat/regioneR.Rcheck’
* using R version 4.1.3 (2022-03-10)
* using platform: x86_64-pc-linux-gnu (64-bit)
* using session charset: UTF-8
* using option ‘--no-vignettes’
* checking for file ‘regioneR/DESCRIPTION’ ... OK
* checking extension type ... Package
* this is package ‘regioneR’ version ‘1.26.1’
* package encoding: UTF-8
* checking package namespace information ... OK
* checking package dependencies ... OK
* checking if this is a source package ... OK
* checking if there is a namespace ... OK
* checking for hidden files and directories ... OK
* checking for portable file names ... OK
* checking for sufficient/correct file permissions ... OK
* checking whether package ‘regioneR’ can be installed ... OK
* checking installed package size ... OK
* checking package directory ... OK
* checking ‘build’ directory ... OK
* checking DESCRIPTION meta-information ... NOTE
Package listed in more than one of Depends, Imports, Suggests, Enhances:
‘GenomicRanges’
A package should be listed in only one of these fields.
* checking top-level files ... OK
* checking for left-over files ... OK
* checking index information ... OK
* checking package subdirectories ... OK
* checking R files for non-ASCII characters ... OK
* checking R files for syntax errors ... OK
* checking whether the package can be loaded ... OK
* checking whether the package can be loaded with stated dependencies ... OK
* checking whether the package can be unloaded cleanly ... OK
* checking whether the namespace can be loaded with stated dependencies ... OK
* checking whether the namespace can be unloaded cleanly ... OK
* checking dependencies in R code ... OK
* checking S3 generic/method consistency ... OK
* checking replacement functions ... OK
* checking foreign function calls ... OK
* checking R code for possible problems ... OK
* checking Rd files ... OK
* checking Rd metadata ... OK
* checking Rd cross-references ... OK
* checking for missing documentation entries ... OK
* checking for code/documentation mismatches ... OK
* checking Rd \usage sections ... OK
* checking Rd contents ... OK
* checking for unstated dependencies in examples ... OK
* checking files in ‘vignettes’ ... OK
* checking examples ... OK
Examples with CPU (user + system) or elapsed time > 5s
user system elapsed
circularRandomizeRegions 34.747 4.569 39.396
maskFromBSGenome 32.705 5.743 36.170
filterChromosomes 32.947 4.199 37.148
getMask 30.623 4.212 34.836
localZScore 4.166 0.480 5.761
* checking for unstated dependencies in ‘tests’ ... OK
* checking tests ...
Running ‘testthat.R’
OK
* checking for unstated dependencies in vignettes ... OK
* checking package vignettes in ‘inst/doc’ ... OK
* checking running R code from vignettes ... SKIPPED
* checking re-building of vignette outputs ... SKIPPED
* checking PDF version of manual ... OK
* DONE
Status: 1 NOTE
See
‘/home/biocbuild/bbs-3.14-bioc/meat/regioneR.Rcheck/00check.log’
for details.
regioneR.Rcheck/00install.out
############################################################################## ############################################################################## ### ### Running command: ### ### /home/biocbuild/bbs-3.14-bioc/R/bin/R CMD INSTALL regioneR ### ############################################################################## ############################################################################## * installing to library ‘/home/biocbuild/bbs-3.14-bioc/R/library’ * installing *source* package ‘regioneR’ ... ** using staged installation ** R ** inst ** byte-compile and prepare package for lazy loading ** help *** installing help indices ** building package indices ** installing vignettes ** testing if installed package can be loaded from temporary location ** testing if installed package can be loaded from final location ** testing if installed package keeps a record of temporary installation path * DONE (regioneR)
regioneR.Rcheck/tests/testthat.Rout
R version 4.1.3 (2022-03-10) -- "One Push-Up"
Copyright (C) 2022 The R Foundation for Statistical Computing
Platform: x86_64-pc-linux-gnu (64-bit)
R is free software and comes with ABSOLUTELY NO WARRANTY.
You are welcome to redistribute it under certain conditions.
Type 'license()' or 'licence()' for distribution details.
R is a collaborative project with many contributors.
Type 'contributors()' for more information and
'citation()' on how to cite R or R packages in publications.
Type 'demo()' for some demos, 'help()' for on-line help, or
'help.start()' for an HTML browser interface to help.
Type 'q()' to quit R.
> library(testthat)
> library(regioneR)
Loading required package: GenomicRanges
Loading required package: stats4
Loading required package: BiocGenerics
Attaching package: 'BiocGenerics'
The following objects are masked from 'package:stats':
IQR, mad, sd, var, xtabs
The following objects are masked from 'package:base':
Filter, Find, Map, Position, Reduce, anyDuplicated, append,
as.data.frame, basename, cbind, colnames, dirname, do.call,
duplicated, eval, evalq, get, grep, grepl, intersect, is.unsorted,
lapply, mapply, match, mget, order, paste, pmax, pmax.int, pmin,
pmin.int, rank, rbind, rownames, sapply, setdiff, sort, table,
tapply, union, unique, unsplit, which.max, which.min
Loading required package: S4Vectors
Attaching package: 'S4Vectors'
The following objects are masked from 'package:base':
I, expand.grid, unname
Loading required package: IRanges
Loading required package: GenomeInfoDb
>
> test_check("regioneR")
[ FAIL 0 | WARN 0 | SKIP 0 | PASS 89 ]
>
> proc.time()
user system elapsed
49.717 4.942 54.646
regioneR.Rcheck/regioneR-Ex.timings
| name | user | system | elapsed | |
| characterToBSGenome | 1.230 | 0.068 | 1.298 | |
| circularRandomizeRegions | 34.747 | 4.569 | 39.396 | |
| commonRegions | 0.322 | 0.000 | 0.323 | |
| createFunctionsList | 0.565 | 0.012 | 0.577 | |
| createRandomRegions | 0.313 | 0.000 | 0.313 | |
| emptyCacheRegioneR | 0.001 | 0.000 | 0.001 | |
| extendRegions | 0.186 | 0.004 | 0.190 | |
| filterChromosomes | 32.947 | 4.199 | 37.148 | |
| getChromosomesByOrganism | 0.001 | 0.000 | 0.001 | |
| getGenome | 0.229 | 0.004 | 0.232 | |
| getGenomeAndMask | 0.08 | 0.00 | 0.08 | |
| getMask | 30.623 | 4.212 | 34.836 | |
| joinRegions | 0.124 | 0.000 | 0.124 | |
| listChrTypes | 0.009 | 0.000 | 0.008 | |
| localZScore | 4.166 | 0.480 | 5.761 | |
| maskFromBSGenome | 32.705 | 5.743 | 36.170 | |
| meanDistance | 0.088 | 0.008 | 0.096 | |
| meanInRegions | 0.142 | 0.000 | 0.142 | |
| mergeRegions | 0.128 | 0.004 | 0.132 | |
| numOverlaps | 0.213 | 0.000 | 0.214 | |
| overlapGraphicalSummary | 0.094 | 0.004 | 0.098 | |
| overlapPermTest | 2.408 | 0.036 | 2.444 | |
| overlapRegions | 0.055 | 0.000 | 0.055 | |
| permTest | 1.480 | 0.012 | 1.493 | |
| plot.localZScoreResults | 1.638 | 0.012 | 1.650 | |
| plot.localZScoreResultsList | 3.099 | 0.096 | 3.195 | |
| plot.permTestResults | 2.493 | 0.012 | 2.505 | |
| plot.permTestResultsList | 2.764 | 0.008 | 2.771 | |
| plotRegions | 0.050 | 0.000 | 0.049 | |
| print.permTestResults | 1.387 | 0.024 | 1.411 | |
| randomizeRegions | 0.287 | 0.004 | 0.290 | |
| recomputePermTest | 0.972 | 0.052 | 1.024 | |
| resampleRegions | 0.050 | 0.008 | 0.059 | |
| splitRegions | 0.086 | 0.000 | 0.086 | |
| subtractRegions | 0.212 | 0.000 | 0.212 | |
| toDataframe | 0.021 | 0.000 | 0.021 | |
| toGRanges | 0.664 | 0.020 | 0.683 | |
| uniqueRegions | 0.406 | 0.044 | 0.450 | |