| Back to Multiple platform build/check report for BioC 3.14 |
|
This page was generated on 2022-04-13 12:07:11 -0400 (Wed, 13 Apr 2022).
| Hostname | OS | Arch (*) | R version | Installed pkgs |
|---|---|---|---|---|
| nebbiolo2 | Linux (Ubuntu 20.04.4 LTS) | x86_64 | 4.1.3 (2022-03-10) -- "One Push-Up" | 4324 |
| tokay2 | Windows Server 2012 R2 Standard | x64 | 4.1.3 (2022-03-10) -- "One Push-Up" | 4077 |
| machv2 | macOS 10.14.6 Mojave | x86_64 | 4.1.3 (2022-03-10) -- "One Push-Up" | 4137 |
| Click on any hostname to see more info about the system (e.g. compilers) (*) as reported by 'uname -p', except on Windows and Mac OS X | ||||
|
To the developers/maintainers of the rebook package: - Please allow up to 24 hours (and sometimes 48 hours) for your latest push to git@git.bioconductor.org:packages/rebook.git to reflect on this report. See How and When does the builder pull? When will my changes propagate? for more information. - Make sure to use the following settings in order to reproduce any error or warning you see on this page. |
| Package 1562/2083 | Hostname | OS / Arch | INSTALL | BUILD | CHECK | BUILD BIN | ||||||||
| rebook 1.4.0 (landing page) Aaron Lun
| nebbiolo2 | Linux (Ubuntu 20.04.4 LTS) / x86_64 | OK | OK | WARNINGS | |||||||||
| tokay2 | Windows Server 2012 R2 Standard / x64 | OK | OK | WARNINGS | OK | |||||||||
| machv2 | macOS 10.14.6 Mojave / x86_64 | OK | OK | WARNINGS | OK | |||||||||
| Package: rebook |
| Version: 1.4.0 |
| Command: rm -rf rebook.buildbin-libdir && mkdir rebook.buildbin-libdir && C:\Users\biocbuild\bbs-3.14-bioc\R\bin\R.exe CMD INSTALL --merge-multiarch --build --library=rebook.buildbin-libdir rebook_1.4.0.tar.gz |
| StartedAt: 2022-04-13 06:56:31 -0400 (Wed, 13 Apr 2022) |
| EndedAt: 2022-04-13 06:56:47 -0400 (Wed, 13 Apr 2022) |
| EllapsedTime: 16.0 seconds |
| RetCode: 0 |
| Status: OK |
| PackageFile: rebook_1.4.0.zip |
| PackageFileSize: 368.4 KiB |
##############################################################################
##############################################################################
###
### Running command:
###
### rm -rf rebook.buildbin-libdir && mkdir rebook.buildbin-libdir && C:\Users\biocbuild\bbs-3.14-bioc\R\bin\R.exe CMD INSTALL --merge-multiarch --build --library=rebook.buildbin-libdir rebook_1.4.0.tar.gz
###
##############################################################################
##############################################################################
install for i386
* installing *source* package 'rebook' ...
** using staged installation
** R
** inst
** byte-compile and prepare package for lazy loading
** help
*** installing help indices
converting help for package 'rebook'
finding HTML links ... done
bioc-images html
bookCache html
buildChapterGraph html
chapterPreamble html
finding level-2 HTML links ... done
collapseStart html
compileBook html
compileChapter html
configureBook html
createMakefile html
createRedirects html
deployCustomCSS html
extractCached html
extractFromPackage html
link html
openingDetails html
prettySessionInfo html
rmd2id html
scrapeDependencies html
scrapeReferences html
setupHTML html
updateDependencies html
** building package indices
** installing vignettes
** testing if installed package can be loaded from temporary location
** testing if installed package can be loaded from final location
** testing if installed package keeps a record of temporary installation path
install for x64
* installing *source* package 'rebook' ...
** testing if installed package can be loaded
* MD5 sums
packaged installation of 'rebook' as rebook_1.4.0.zip
* DONE (rebook)