| Back to Multiple platform build/check report for BioC 3.14 |
|
This page was generated on 2022-04-13 12:07:10 -0400 (Wed, 13 Apr 2022).
| Hostname | OS | Arch (*) | R version | Installed pkgs |
|---|---|---|---|---|
| nebbiolo2 | Linux (Ubuntu 20.04.4 LTS) | x86_64 | 4.1.3 (2022-03-10) -- "One Push-Up" | 4324 |
| tokay2 | Windows Server 2012 R2 Standard | x64 | 4.1.3 (2022-03-10) -- "One Push-Up" | 4077 |
| machv2 | macOS 10.14.6 Mojave | x86_64 | 4.1.3 (2022-03-10) -- "One Push-Up" | 4137 |
| Click on any hostname to see more info about the system (e.g. compilers) (*) as reported by 'uname -p', except on Windows and Mac OS X | ||||
|
To the developers/maintainers of the ramwas package: - Please allow up to 24 hours (and sometimes 48 hours) for your latest push to git@git.bioconductor.org:packages/ramwas.git to reflect on this report. See How and When does the builder pull? When will my changes propagate? for more information. - Make sure to use the following settings in order to reproduce any error or warning you see on this page. |
| Package 1524/2083 | Hostname | OS / Arch | INSTALL | BUILD | CHECK | BUILD BIN | ||||||||
| ramwas 1.18.0 (landing page) Andrey A Shabalin
| nebbiolo2 | Linux (Ubuntu 20.04.4 LTS) / x86_64 | OK | OK | OK | |||||||||
| tokay2 | Windows Server 2012 R2 Standard / x64 | OK | OK | OK | OK | |||||||||
| machv2 | macOS 10.14.6 Mojave / x86_64 | OK | OK | OK | OK | |||||||||
| Package: ramwas |
| Version: 1.18.0 |
| Command: rm -rf ramwas.buildbin-libdir && mkdir ramwas.buildbin-libdir && C:\Users\biocbuild\bbs-3.14-bioc\R\bin\R.exe CMD INSTALL --merge-multiarch --build --library=ramwas.buildbin-libdir ramwas_1.18.0.tar.gz |
| StartedAt: 2022-04-13 06:54:47 -0400 (Wed, 13 Apr 2022) |
| EndedAt: 2022-04-13 06:55:48 -0400 (Wed, 13 Apr 2022) |
| EllapsedTime: 61.1 seconds |
| RetCode: 0 |
| Status: OK |
| PackageFile: ramwas_1.18.0.zip |
| PackageFileSize: 2.541 MiB |
##############################################################################
##############################################################################
###
### Running command:
###
### rm -rf ramwas.buildbin-libdir && mkdir ramwas.buildbin-libdir && C:\Users\biocbuild\bbs-3.14-bioc\R\bin\R.exe CMD INSTALL --merge-multiarch --build --library=ramwas.buildbin-libdir ramwas_1.18.0.tar.gz
###
##############################################################################
##############################################################################
install for i386
* installing *source* package 'ramwas' ...
** using staged installation
** libs
"C:/rtools40/mingw32/bin/"gcc -I"C:/Users/BIOCBU~1/BBS-3~1.14-/R/include" -DNDEBUG -I"C:/extsoft/include" -O2 -Wall -std=gnu99 -mfpmath=sse -msse2 -mstackrealign -c rw_c_code.c -o rw_c_code.o
C:/rtools40/mingw32/bin/gcc -shared -s -static-libgcc -o ramwas.dll tmp.def rw_c_code.o -LC:/extsoft/lib/i386 -LC:/extsoft/lib -LC:/Users/BIOCBU~1/BBS-3~1.14-/R/bin/i386 -lR
installing to C:/Users/biocbuild/bbs-3.14-bioc/meat/ramwas.buildbin-libdir/00LOCK-ramwas/00new/ramwas/libs/i386
** R
** inst
** byte-compile and prepare package for lazy loading
** help
*** installing help indices
converting help for package 'ramwas'
finding HTML links ... done
MakeBED html
QCs html
RaMWAS html
cachedRDSload html
findBestNpvs html
get html
getCpGset html
injectSNPsMAF html
finding level-2 HTML links ... done
insilicoFASTQ html
isAbsolutePath html
makefullpath html
manhattan html
mat2cols html
orthonormalizeCovariates html
parameterDump html
parameterPreprocess html
parametersFromFile html
pipeline html
plotCV html
plotFragmentSizeDistributionEstimate html
plotPC html
processCommandLine html
pvalue2qvalue html
qqplotFast html
ramwas0createArtificialData html
ramwasAnnotateLocations html
ramwasParameters html
rowcolSumSq html
rwDataClass-class html
subsetData html
testPhenotype html
*** copying figures
** building package indices
** installing vignettes
** testing if installed package can be loaded from temporary location
** testing if installed package can be loaded from final location
** testing if installed package keeps a record of temporary installation path
install for x64
* installing *source* package 'ramwas' ...
** libs
"C:/rtools40/mingw64/bin/"gcc -I"C:/Users/BIOCBU~1/BBS-3~1.14-/R/include" -DNDEBUG -I"C:/extsoft/include" -O2 -Wall -std=gnu99 -mfpmath=sse -msse2 -mstackrealign -c rw_c_code.c -o rw_c_code.o
C:/rtools40/mingw64/bin/gcc -shared -s -static-libgcc -o ramwas.dll tmp.def rw_c_code.o -LC:/extsoft/lib/x64 -LC:/extsoft/lib -LC:/Users/BIOCBU~1/BBS-3~1.14-/R/bin/x64 -lR
installing to C:/Users/biocbuild/bbs-3.14-bioc/meat/ramwas.buildbin-libdir/ramwas/libs/x64
** testing if installed package can be loaded
* MD5 sums
packaged installation of 'ramwas' as ramwas_1.18.0.zip
* DONE (ramwas)