| Back to Multiple platform build/check report for BioC 3.14 |
|
This page was generated on 2022-04-13 12:05:47 -0400 (Wed, 13 Apr 2022).
| Hostname | OS | Arch (*) | R version | Installed pkgs |
|---|---|---|---|---|
| nebbiolo2 | Linux (Ubuntu 20.04.4 LTS) | x86_64 | 4.1.3 (2022-03-10) -- "One Push-Up" | 4324 |
| tokay2 | Windows Server 2012 R2 Standard | x64 | 4.1.3 (2022-03-10) -- "One Push-Up" | 4077 |
| machv2 | macOS 10.14.6 Mojave | x86_64 | 4.1.3 (2022-03-10) -- "One Push-Up" | 4137 |
| Click on any hostname to see more info about the system (e.g. compilers) (*) as reported by 'uname -p', except on Windows and Mac OS X | ||||
|
To the developers/maintainers of the psichomics package: - Please allow up to 24 hours (and sometimes 48 hours) for your latest push to git@git.bioconductor.org:packages/psichomics.git to reflect on this report. See How and When does the builder pull? When will my changes propagate? for more information. - Make sure to use the following settings in order to reproduce any error or warning you see on this page. |
| Package 1480/2083 | Hostname | OS / Arch | INSTALL | BUILD | CHECK | BUILD BIN | ||||||||
| psichomics 1.20.2 (landing page) Nuno Saraiva-Agostinho
| nebbiolo2 | Linux (Ubuntu 20.04.4 LTS) / x86_64 | OK | OK | OK | |||||||||
| tokay2 | Windows Server 2012 R2 Standard / x64 | OK | OK | OK | OK | |||||||||
| machv2 | macOS 10.14.6 Mojave / x86_64 | OK | OK | OK | OK | |||||||||
| Package: psichomics |
| Version: 1.20.2 |
| Command: /home/biocbuild/bbs-3.14-bioc/R/bin/R CMD check --install=check:psichomics.install-out.txt --library=/home/biocbuild/bbs-3.14-bioc/R/library --no-vignettes --timings psichomics_1.20.2.tar.gz |
| StartedAt: 2022-04-12 08:50:42 -0400 (Tue, 12 Apr 2022) |
| EndedAt: 2022-04-12 08:57:33 -0400 (Tue, 12 Apr 2022) |
| EllapsedTime: 411.0 seconds |
| RetCode: 0 |
| Status: OK |
| CheckDir: psichomics.Rcheck |
| Warnings: 0 |
##############################################################################
##############################################################################
###
### Running command:
###
### /home/biocbuild/bbs-3.14-bioc/R/bin/R CMD check --install=check:psichomics.install-out.txt --library=/home/biocbuild/bbs-3.14-bioc/R/library --no-vignettes --timings psichomics_1.20.2.tar.gz
###
##############################################################################
##############################################################################
* using log directory ‘/home/biocbuild/bbs-3.14-bioc/meat/psichomics.Rcheck’
* using R version 4.1.3 (2022-03-10)
* using platform: x86_64-pc-linux-gnu (64-bit)
* using session charset: UTF-8
* using option ‘--no-vignettes’
* checking for file ‘psichomics/DESCRIPTION’ ... OK
* this is package ‘psichomics’ version ‘1.20.2’
* package encoding: UTF-8
* checking package namespace information ... OK
* checking package dependencies ... OK
* checking if this is a source package ... OK
* checking if there is a namespace ... OK
* checking for hidden files and directories ... OK
* checking for portable file names ... OK
* checking for sufficient/correct file permissions ... OK
* checking whether package ‘psichomics’ can be installed ... OK
* checking installed package size ... OK
* checking package directory ... OK
* checking ‘build’ directory ... OK
* checking DESCRIPTION meta-information ... OK
* checking top-level files ... OK
* checking for left-over files ... OK
* checking index information ... OK
* checking package subdirectories ... OK
* checking R files for non-ASCII characters ... OK
* checking R files for syntax errors ... OK
* checking whether the package can be loaded ... OK
* checking whether the package can be loaded with stated dependencies ... OK
* checking whether the package can be unloaded cleanly ... OK
* checking whether the namespace can be loaded with stated dependencies ... OK
* checking whether the namespace can be unloaded cleanly ... OK
* checking dependencies in R code ... OK
* checking S3 generic/method consistency ... OK
* checking replacement functions ... OK
* checking foreign function calls ... OK
* checking R code for possible problems ... OK
* checking Rd files ... OK
* checking Rd metadata ... OK
* checking Rd cross-references ... OK
* checking for missing documentation entries ... OK
* checking for code/documentation mismatches ... OK
* checking Rd \usage sections ... OK
* checking Rd contents ... OK
* checking for unstated dependencies in examples ... OK
* checking line endings in C/C++/Fortran sources/headers ... OK
* checking compiled code ... NOTE
Note: information on .o files is not available
* checking files in ‘vignettes’ ... OK
* checking examples ... OK
Examples with CPU (user + system) or elapsed time > 5s
user system elapsed
convertGeneIdentifiers 20.698 1.906 24.344
listSplicingAnnotations 14.618 1.223 16.735
* checking for unstated dependencies in ‘tests’ ... OK
* checking tests ...
Running ‘spelling.R’
Running ‘testthat.R’
OK
* checking for unstated dependencies in vignettes ... OK
* checking package vignettes in ‘inst/doc’ ... OK
* checking running R code from vignettes ... SKIPPED
* checking re-building of vignette outputs ... SKIPPED
* checking PDF version of manual ... OK
* DONE
Status: 1 NOTE
See
‘/home/biocbuild/bbs-3.14-bioc/meat/psichomics.Rcheck/00check.log’
for details.
psichomics.Rcheck/00install.out
############################################################################## ############################################################################## ### ### Running command: ### ### /home/biocbuild/bbs-3.14-bioc/R/bin/R CMD INSTALL psichomics ### ############################################################################## ############################################################################## * installing to library ‘/home/biocbuild/bbs-3.14-bioc/R/library’ * installing *source* package ‘psichomics’ ... ** using staged installation ** libs g++ -std=gnu++14 -I"/home/biocbuild/bbs-3.14-bioc/R/include" -DNDEBUG -I'/home/biocbuild/bbs-3.14-bioc/R/library/Rcpp/include' -I/usr/local/include -fpic -g -O2 -Wall -c RcppExports.cpp -o RcppExports.o g++ -std=gnu++14 -I"/home/biocbuild/bbs-3.14-bioc/R/include" -DNDEBUG -I'/home/biocbuild/bbs-3.14-bioc/R/library/Rcpp/include' -I/usr/local/include -fpic -g -O2 -Wall -c progressBar.cpp -o progressBar.o g++ -std=gnu++14 -I"/home/biocbuild/bbs-3.14-bioc/R/include" -DNDEBUG -I'/home/biocbuild/bbs-3.14-bioc/R/library/Rcpp/include' -I/usr/local/include -fpic -g -O2 -Wall -c psiFastCalc.cpp -o psiFastCalc.o g++ -std=gnu++14 -I"/home/biocbuild/bbs-3.14-bioc/R/include" -DNDEBUG -I'/home/biocbuild/bbs-3.14-bioc/R/library/Rcpp/include' -I/usr/local/include -fpic -g -O2 -Wall -c vastToolsParser.cpp -o vastToolsParser.o g++ -std=gnu++14 -shared -L/home/biocbuild/bbs-3.14-bioc/R/lib -L/usr/local/lib -o psichomics.so RcppExports.o progressBar.o psiFastCalc.o vastToolsParser.o -L/home/biocbuild/bbs-3.14-bioc/R/lib -lR installing to /home/biocbuild/bbs-3.14-bioc/R/library/00LOCK-psichomics/00new/psichomics/libs ** R ** inst ** byte-compile and prepare package for lazy loading Creating a generic function for ‘colSums’ from package ‘base’ in package ‘psichomics’ ** help *** installing help indices *** copying figures ** building package indices ** installing vignettes ** testing if installed package can be loaded from temporary location ** checking absolute paths in shared objects and dynamic libraries ** testing if installed package can be loaded from final location ** testing if installed package keeps a record of temporary installation path * DONE (psichomics)
psichomics.Rcheck/tests/spelling.Rout
R version 4.1.3 (2022-03-10) -- "One Push-Up"
Copyright (C) 2022 The R Foundation for Statistical Computing
Platform: x86_64-pc-linux-gnu (64-bit)
R is free software and comes with ABSOLUTELY NO WARRANTY.
You are welcome to redistribute it under certain conditions.
Type 'license()' or 'licence()' for distribution details.
R is a collaborative project with many contributors.
Type 'contributors()' for more information and
'citation()' on how to cite R or R packages in publications.
Type 'demo()' for some demos, 'help()' for on-line help, or
'help.start()' for an HTML browser interface to help.
Type 'q()' to quit R.
> if(requireNamespace('spelling', quietly = TRUE))
+ spelling::spell_check_test(vignettes = TRUE, error = FALSE,
+ skip_on_cran = TRUE)
NULL
>
> proc.time()
user system elapsed
0.246 0.027 0.260
psichomics.Rcheck/tests/testthat.Rout
R version 4.1.3 (2022-03-10) -- "One Push-Up"
Copyright (C) 2022 The R Foundation for Statistical Computing
Platform: x86_64-pc-linux-gnu (64-bit)
R is free software and comes with ABSOLUTELY NO WARRANTY.
You are welcome to redistribute it under certain conditions.
Type 'license()' or 'licence()' for distribution details.
R is a collaborative project with many contributors.
Type 'contributors()' for more information and
'citation()' on how to cite R or R packages in publications.
Type 'demo()' for some demos, 'help()' for on-line help, or
'help.start()' for an HTML browser interface to help.
Type 'q()' to quit R.
> library(testthat)
> library(psichomics)
Loading required package: shiny
Loading required package: shinyBS
Setting options('download.file.method.GEOquery'='auto')
Setting options('GEOquery.inmemory.gpl'=FALSE)
psichomics 1.20.2: start the visual interface by running psichomics()
Full documentation and tutorials at https://nuno-agostinho.github.io/psichomics
>
> test_check("psichomics")
| | 0%
|======== | 20%
|================ | 40%
|======================== | 60%
|================================ | 80%
|========================================| 100%
| | 0%
|======== | 20%
|================ | 40%
|======================== | 60%
|================================ | 80%
|========================================| 100%
| | 0%
|======== | 20%
|================ | 40%
|======================== | 60%
|================================ | 80%
|========================================| 100%
| | 0%
|======== | 20%
|================ | 40%
|======================== | 60%
|================================ | 80%
|========================================| 100%
Retrieving rMATS annotation...
Parsing rMATS annotation...
Retrieving rMATS annotation...
Parsing rMATS annotation...
Retrieving MISO annotation...
Parsing MISO annotation...
| | 0%
|======== | 20%
|================ | 40%
|======================== | 60%
|================================ | 80%
|========================================| 100%
| | 0%
|======== | 20%
|================ | 40%
|======================== | 60%
|================================ | 80%
|========================================| 100%
| | 0%
|======== | 20%
|================ | 40%
|======================== | 60%
|================================ | 80%
|========================================| 100%
| | 0%
|======== | 20%
|================ | 40%
|======================== | 60%
|================================ | 80%
|========================================| 100%
| | 0%
|======== | 20%
|================ | 40%
|======================== | 60%
|================================ | 80%
|========================================| 100%
| | 0%
|======== | 20%
|================ | 40%
|======================== | 60%
|================================ | 80%
|========================================| 100%
| | 0%
|======== | 20%
|================ | 40%
|======================== | 60%
|================================ | 80%
|========================================| 100%
| | 0%
|======== | 20%
|================ | 40%
|======================== | 60%
|================================ | 80%
|========================================| 100%
Retrieving SUPPA annotation...
Parsing SUPPA annotation...
Retrieving VAST-TOOLS annotation...
Parsing VAST-TOOLS annotation...
ALT3
ALT5
COMBI
EXSK
IR
MERGE3m
MIC
MULTI
[ FAIL 0 | WARN 0 | SKIP 3 | PASS 1396 ]
══ Skipped tests ═══════════════════════════════════════════════════════════════
• On Bioconductor (2)
• On CRAN (1)
[ FAIL 0 | WARN 0 | SKIP 3 | PASS 1396 ]
>
> proc.time()
user system elapsed
20.894 1.038 29.222
psichomics.Rcheck/psichomics-Ex.timings
| name | user | system | elapsed | |
| addObjectAttrs | 0.032 | 0.008 | 0.041 | |
| assignValuePerSubject | 0.012 | 0.004 | 0.016 | |
| blendColours | 0.000 | 0.000 | 0.001 | |
| calculateLoadingsContribution | 0.008 | 0.000 | 0.008 | |
| convertGeneIdentifiers | 20.698 | 1.906 | 24.344 | |
| correlateGEandAS | 0.008 | 0.012 | 0.020 | |
| createGroupByAttribute | 0.001 | 0.000 | 0.001 | |
| createJunctionsTemplate | 0.002 | 0.000 | 0.002 | |
| customRowMeans | 0.000 | 0.000 | 0.001 | |
| diffAnalyses | 0.071 | 0.016 | 0.087 | |
| downloadFiles | 0.001 | 0.000 | 0.000 | |
| ensemblToUniprot | 0.047 | 0.000 | 0.847 | |
| filterGeneExpr | 0.009 | 0.000 | 0.009 | |
| filterGroups | 0.002 | 0.000 | 0.002 | |
| filterPSI | 0.019 | 0.000 | 0.019 | |
| getAttributesTime | 0.004 | 0.000 | 0.004 | |
| getDownloadsFolder | 0.001 | 0.000 | 0.001 | |
| getFirebrowseDateFormat | 0.001 | 0.000 | 0.001 | |
| getGeneList | 0.005 | 0.000 | 0.005 | |
| getGtexDataTypes | 0.058 | 0.016 | 0.324 | |
| getGtexTissues | 0 | 0 | 0 | |
| getNumerics | 0.001 | 0.003 | 0.004 | |
| getSampleFromSubject | 0.002 | 0.000 | 0.002 | |
| getSplicingEventFromGenes | 0.006 | 0.000 | 0.006 | |
| getSplicingEventTypes | 0 | 0 | 0 | |
| getSubjectFromSample | 0 | 0 | 0 | |
| getTCGAdataTypes | 0.052 | 0.008 | 1.202 | |
| getValidEvents | 0.006 | 0.000 | 0.005 | |
| groupPerElem | 0.001 | 0.000 | 0.001 | |
| hchart.survfit | 0.221 | 0.048 | 0.280 | |
| isFirebrowseUp | 0.008 | 0.000 | 0.015 | |
| labelBasedOnCutoff | 0.001 | 0.000 | 0.001 | |
| leveneTest | 0.01 | 0.00 | 0.01 | |
| listAllAnnotations | 3.280 | 0.356 | 3.968 | |
| listSplicingAnnotations | 14.618 | 1.223 | 16.735 | |
| loadAnnotation | 3.761 | 0.336 | 4.375 | |
| loadGtexData | 0.001 | 0.000 | 0.000 | |
| loadLocalFiles | 0 | 0 | 0 | |
| loadSRAproject | 0 | 0 | 0 | |
| loadTCGAdata | 0.017 | 0.000 | 0.032 | |
| missingDataModal | 0 | 0 | 0 | |
| normaliseGeneExpression | 0.022 | 0.004 | 0.026 | |
| optimalSurvivalCutoff | 0.088 | 0.004 | 0.091 | |
| parseCategoricalGroups | 0.001 | 0.000 | 0.001 | |
| parseFirebrowseMetadata | 0.068 | 0.000 | 0.116 | |
| parseMatsEvent | 0.005 | 0.000 | 0.005 | |
| parseMatsGeneric | 0.014 | 0.004 | 0.018 | |
| parseMisoAnnotation | 0.112 | 0.012 | 0.126 | |
| parseMisoEvent | 0.004 | 0.000 | 0.004 | |
| parseMisoEventID | 0.005 | 0.000 | 0.005 | |
| parseMisoGeneric | 0.026 | 0.000 | 0.027 | |
| parseMisoId | 0 | 0 | 0 | |
| parseSplicingEvent | 0.005 | 0.000 | 0.004 | |
| parseSuppaEvent | 0.003 | 0.000 | 0.003 | |
| parseSuppaGeneric | 0.012 | 0.004 | 0.016 | |
| parseTcgaSampleInfo | 0.003 | 0.000 | 0.003 | |
| parseUrlsFromFirebrowseResponse | 0.034 | 0.003 | 0.094 | |
| parseVastToolsEvent | 0.005 | 0.001 | 0.005 | |
| parseVastToolsSE | 0.017 | 0.000 | 0.016 | |
| performICA | 0.006 | 0.000 | 0.006 | |
| performPCA | 0.001 | 0.000 | 0.001 | |
| plot.GEandAScorrelation | 0.330 | 0.040 | 0.369 | |
| plotDistribution | 0.658 | 0.096 | 0.754 | |
| plotGeneExprPerSample | 0.110 | 0.007 | 0.118 | |
| plotGroupIndependence | 0.110 | 0.004 | 0.114 | |
| plotICA | 0.113 | 0.016 | 0.130 | |
| plotLibrarySize | 0.171 | 0.019 | 0.191 | |
| plotPCA | 0.244 | 0.025 | 0.268 | |
| plotPCAvariance | 0.041 | 0.011 | 0.052 | |
| plotProtein | 0.577 | 0.061 | 2.879 | |
| plotRowStats | 0.319 | 0.008 | 0.327 | |
| plotSingleICA | 0.204 | 0.020 | 0.224 | |
| plotSplicingEvent | 0.047 | 0.000 | 0.046 | |
| plotSurvivalCurves | 0.133 | 0.028 | 0.160 | |
| plotSurvivalPvaluesByCutoff | 0.411 | 0.012 | 0.422 | |
| plotTranscripts | 0.032 | 0.004 | 1.354 | |
| prepareAnnotationFromEvents | 0.157 | 0.004 | 0.161 | |
| prepareFirebrowseArchives | 0 | 0 | 0 | |
| prepareJunctionQuantSTAR | 0.000 | 0.000 | 0.001 | |
| prepareSRAmetadata | 0 | 0 | 0 | |
| processSurvTerms | 0.009 | 0.000 | 0.009 | |
| psichomics | 0 | 0 | 0 | |
| quantifySplicing | 0.010 | 0.000 | 0.011 | |
| queryEnsembl | 0.043 | 0.008 | 0.979 | |
| queryEnsemblByGene | 0.161 | 0.016 | 4.010 | |
| queryFirebrowseData | 0.059 | 0.004 | 0.159 | |
| queryPubMed | 0.062 | 0.000 | 0.543 | |
| queryUniprot | 0.064 | 0.008 | 1.742 | |
| readFile | 0.002 | 0.000 | 0.001 | |
| renameDuplicated | 0.001 | 0.000 | 0.001 | |
| renderBoxplot | 0.089 | 0.012 | 0.101 | |
| survdiffTerms | 0.004 | 0.004 | 0.008 | |
| survfit.survTerms | 0.026 | 0.020 | 0.046 | |
| testGroupIndependence | 0.004 | 0.000 | 0.004 | |
| testSurvival | 0.022 | 0.000 | 0.021 | |
| textSuggestions | 0.000 | 0.000 | 0.001 | |
| trimWhitespace | 0 | 0 | 0 | |