| Back to Multiple platform build/check report for BioC 3.14 |
|
This page was generated on 2022-04-13 12:05:46 -0400 (Wed, 13 Apr 2022).
| Hostname | OS | Arch (*) | R version | Installed pkgs |
|---|---|---|---|---|
| nebbiolo2 | Linux (Ubuntu 20.04.4 LTS) | x86_64 | 4.1.3 (2022-03-10) -- "One Push-Up" | 4324 |
| tokay2 | Windows Server 2012 R2 Standard | x64 | 4.1.3 (2022-03-10) -- "One Push-Up" | 4077 |
| machv2 | macOS 10.14.6 Mojave | x86_64 | 4.1.3 (2022-03-10) -- "One Push-Up" | 4137 |
| Click on any hostname to see more info about the system (e.g. compilers) (*) as reported by 'uname -p', except on Windows and Mac OS X | ||||
|
To the developers/maintainers of the proBatch package: - Please allow up to 24 hours (and sometimes 48 hours) for your latest push to git@git.bioconductor.org:packages/proBatch.git to reflect on this report. See How and When does the builder pull? When will my changes propagate? for more information. - Make sure to use the following settings in order to reproduce any error or warning you see on this page. |
| Package 1459/2083 | Hostname | OS / Arch | INSTALL | BUILD | CHECK | BUILD BIN | ||||||||
| proBatch 1.10.0 (landing page) Chloe H. Lee
| nebbiolo2 | Linux (Ubuntu 20.04.4 LTS) / x86_64 | OK | OK | OK | |||||||||
| tokay2 | Windows Server 2012 R2 Standard / x64 | OK | OK | OK | OK | |||||||||
| machv2 | macOS 10.14.6 Mojave / x86_64 | OK | OK | OK | OK | |||||||||
| Package: proBatch |
| Version: 1.10.0 |
| Command: /home/biocbuild/bbs-3.14-bioc/R/bin/R CMD check --install=check:proBatch.install-out.txt --library=/home/biocbuild/bbs-3.14-bioc/R/library --no-vignettes --timings proBatch_1.10.0.tar.gz |
| StartedAt: 2022-04-12 08:48:17 -0400 (Tue, 12 Apr 2022) |
| EndedAt: 2022-04-12 08:52:47 -0400 (Tue, 12 Apr 2022) |
| EllapsedTime: 270.2 seconds |
| RetCode: 0 |
| Status: OK |
| CheckDir: proBatch.Rcheck |
| Warnings: 0 |
##############################################################################
##############################################################################
###
### Running command:
###
### /home/biocbuild/bbs-3.14-bioc/R/bin/R CMD check --install=check:proBatch.install-out.txt --library=/home/biocbuild/bbs-3.14-bioc/R/library --no-vignettes --timings proBatch_1.10.0.tar.gz
###
##############################################################################
##############################################################################
* using log directory ‘/home/biocbuild/bbs-3.14-bioc/meat/proBatch.Rcheck’
* using R version 4.1.3 (2022-03-10)
* using platform: x86_64-pc-linux-gnu (64-bit)
* using session charset: UTF-8
* using option ‘--no-vignettes’
* checking for file ‘proBatch/DESCRIPTION’ ... OK
* checking extension type ... Package
* this is package ‘proBatch’ version ‘1.10.0’
* package encoding: UTF-8
* checking package namespace information ... OK
* checking package dependencies ... OK
* checking if this is a source package ... OK
* checking if there is a namespace ... OK
* checking for hidden files and directories ... OK
* checking for portable file names ... OK
* checking for sufficient/correct file permissions ... OK
* checking whether package ‘proBatch’ can be installed ... OK
* checking installed package size ... OK
* checking package directory ... OK
* checking ‘build’ directory ... OK
* checking DESCRIPTION meta-information ... OK
* checking top-level files ... OK
* checking for left-over files ... OK
* checking index information ... OK
* checking package subdirectories ... OK
* checking R files for non-ASCII characters ... OK
* checking R files for syntax errors ... OK
* checking whether the package can be loaded ... OK
* checking whether the package can be loaded with stated dependencies ... OK
* checking whether the package can be unloaded cleanly ... OK
* checking whether the namespace can be loaded with stated dependencies ... OK
* checking whether the namespace can be unloaded cleanly ... OK
* checking dependencies in R code ... OK
* checking S3 generic/method consistency ... OK
* checking replacement functions ... OK
* checking foreign function calls ... OK
* checking R code for possible problems ... OK
* checking Rd files ... OK
* checking Rd metadata ... OK
* checking Rd cross-references ... OK
* checking for missing documentation entries ... OK
* checking for code/documentation mismatches ... OK
* checking Rd \usage sections ... OK
* checking Rd contents ... OK
* checking for unstated dependencies in examples ... OK
* checking contents of ‘data’ directory ... OK
* checking data for non-ASCII characters ... OK
* checking LazyData ... OK
* checking data for ASCII and uncompressed saves ... OK
* checking files in ‘vignettes’ ... OK
* checking examples ... OK
Examples with CPU (user + system) or elapsed time > 5s
user system elapsed
calculate_PVCA 15.757 0.128 15.885
plot_PVCA 15.690 0.072 15.762
prepare_PVCA_df 15.648 0.068 15.716
plot_PVCA.df 15.341 0.096 15.437
feature_level_diagnostics 5.729 0.056 5.785
correct_batch_effects 5.353 0.055 5.419
* checking for unstated dependencies in ‘tests’ ... OK
* checking tests ...
Running ‘spelling.R’
Running ‘testthat.R’
OK
* checking for unstated dependencies in vignettes ... OK
* checking package vignettes in ‘inst/doc’ ... OK
* checking running R code from vignettes ... SKIPPED
* checking re-building of vignette outputs ... SKIPPED
* checking PDF version of manual ... OK
* DONE
Status: OK
proBatch.Rcheck/00install.out
############################################################################## ############################################################################## ### ### Running command: ### ### /home/biocbuild/bbs-3.14-bioc/R/bin/R CMD INSTALL proBatch ### ############################################################################## ############################################################################## * installing to library ‘/home/biocbuild/bbs-3.14-bioc/R/library’ * installing *source* package ‘proBatch’ ... ** using staged installation ** R ** data *** moving datasets to lazyload DB ** inst ** byte-compile and prepare package for lazy loading ** help *** installing help indices ** building package indices ** installing vignettes ** testing if installed package can be loaded from temporary location ** testing if installed package can be loaded from final location ** testing if installed package keeps a record of temporary installation path * DONE (proBatch)
proBatch.Rcheck/tests/spelling.Rout
R version 4.1.3 (2022-03-10) -- "One Push-Up"
Copyright (C) 2022 The R Foundation for Statistical Computing
Platform: x86_64-pc-linux-gnu (64-bit)
R is free software and comes with ABSOLUTELY NO WARRANTY.
You are welcome to redistribute it under certain conditions.
Type 'license()' or 'licence()' for distribution details.
R is a collaborative project with many contributors.
Type 'contributors()' for more information and
'citation()' on how to cite R or R packages in publications.
Type 'demo()' for some demos, 'help()' for on-line help, or
'help.start()' for an HTML browser interface to help.
Type 'q()' to quit R.
> if(requireNamespace('spelling', quietly = TRUE))
+ spelling::spell_check_test(vignettes = TRUE, error = FALSE,
+ skip_on_cran = TRUE)
NULL
>
> proc.time()
user system elapsed
0.157 0.033 0.171
proBatch.Rcheck/tests/testthat.Rout
R version 4.1.3 (2022-03-10) -- "One Push-Up"
Copyright (C) 2022 The R Foundation for Statistical Computing
Platform: x86_64-pc-linux-gnu (64-bit)
R is free software and comes with ABSOLUTELY NO WARRANTY.
You are welcome to redistribute it under certain conditions.
Type 'license()' or 'licence()' for distribution details.
R is a collaborative project with many contributors.
Type 'contributors()' for more information and
'citation()' on how to cite R or R packages in publications.
Type 'demo()' for some demos, 'help()' for on-line help, or
'help.start()' for an HTML browser interface to help.
Type 'q()' to quit R.
> library(testthat)
> library(proBatch)
>
> test_check("proBatch")
[ FAIL 0 | WARN 30 | SKIP 0 | PASS 159 ]
[ FAIL 0 | WARN 30 | SKIP 0 | PASS 159 ]
>
> proc.time()
user system elapsed
30.422 0.884 31.312
proBatch.Rcheck/proBatch-Ex.timings
| name | user | system | elapsed | |
| calculate_PVCA | 15.757 | 0.128 | 15.885 | |
| calculate_feature_CV | 0.931 | 0.080 | 1.011 | |
| calculate_peptide_corr_distr | 0.023 | 0.000 | 0.023 | |
| calculate_sample_corr_distr | 0.545 | 0.008 | 0.553 | |
| check_sample_consistency | 0.607 | 0.044 | 0.651 | |
| correct_batch_effects | 5.353 | 0.055 | 5.419 | |
| create_peptide_annotation | 0.006 | 0.000 | 0.006 | |
| date_to_sample_order | 0.113 | 0.000 | 0.112 | |
| dates_to_posix | 0.009 | 0.000 | 0.009 | |
| define_sample_order | 0.049 | 0.000 | 0.049 | |
| feature_level_diagnostics | 5.729 | 0.056 | 5.785 | |
| fit_nonlinear | 0.008 | 0.000 | 0.008 | |
| long_to_matrix | 0.041 | 0.000 | 0.041 | |
| matrix_to_long | 0.010 | 0.000 | 0.011 | |
| normalize | 0.115 | 0.000 | 0.115 | |
| plot_CV_distr | 0.642 | 0.024 | 0.666 | |
| plot_PCA | 0.639 | 0.020 | 0.659 | |
| plot_PVCA | 15.690 | 0.072 | 15.762 | |
| plot_PVCA.df | 15.341 | 0.096 | 15.437 | |
| plot_corr_matrix | 0.033 | 0.000 | 0.033 | |
| plot_heatmap_diagnostic | 1.229 | 0.040 | 1.269 | |
| plot_heatmap_generic | 0.460 | 0.012 | 0.472 | |
| plot_hierarchical_clustering | 0.395 | 0.004 | 0.399 | |
| plot_peptide_corr_distribution | 1.730 | 0.072 | 1.801 | |
| plot_protein_corrplot | 0.223 | 0.004 | 0.228 | |
| plot_sample_corr_distribution | 1.088 | 0.000 | 1.089 | |
| plot_sample_corr_heatmap | 0.423 | 0.000 | 0.423 | |
| plot_sample_mean_or_boxplot | 3.142 | 0.036 | 3.178 | |
| prepare_PVCA_df | 15.648 | 0.068 | 15.716 | |
| sample_annotation_to_colors | 0.046 | 0.000 | 0.045 | |
| transform_raw_data | 0.008 | 0.000 | 0.008 | |