| Back to Multiple platform build/check report for BioC 3.14 |
|
This page was generated on 2022-04-13 12:07:07 -0400 (Wed, 13 Apr 2022).
| Hostname | OS | Arch (*) | R version | Installed pkgs |
|---|---|---|---|---|
| nebbiolo2 | Linux (Ubuntu 20.04.4 LTS) | x86_64 | 4.1.3 (2022-03-10) -- "One Push-Up" | 4324 |
| tokay2 | Windows Server 2012 R2 Standard | x64 | 4.1.3 (2022-03-10) -- "One Push-Up" | 4077 |
| machv2 | macOS 10.14.6 Mojave | x86_64 | 4.1.3 (2022-03-10) -- "One Push-Up" | 4137 |
| Click on any hostname to see more info about the system (e.g. compilers) (*) as reported by 'uname -p', except on Windows and Mac OS X | ||||
|
To the developers/maintainers of the proActiv package: - Please allow up to 24 hours (and sometimes 48 hours) for your latest push to git@git.bioconductor.org:packages/proActiv.git to reflect on this report. See How and When does the builder pull? When will my changes propagate? for more information. - Make sure to use the following settings in order to reproduce any error or warning you see on this page. |
| Package 1457/2083 | Hostname | OS / Arch | INSTALL | BUILD | CHECK | BUILD BIN | ||||||||
| proActiv 1.4.0 (landing page) Joseph Lee
| nebbiolo2 | Linux (Ubuntu 20.04.4 LTS) / x86_64 | OK | OK | OK | |||||||||
| tokay2 | Windows Server 2012 R2 Standard / x64 | OK | OK | OK | OK | |||||||||
| machv2 | macOS 10.14.6 Mojave / x86_64 | OK | OK | OK | OK | |||||||||
| Package: proActiv |
| Version: 1.4.0 |
| Command: C:\cygwin\bin\curl.exe -O http://155.52.207.166/BBS/3.14/bioc/src/contrib/proActiv_1.4.0.tar.gz && rm -rf proActiv.buildbin-libdir && mkdir proActiv.buildbin-libdir && C:\Users\biocbuild\bbs-3.14-bioc\R\bin\R.exe CMD INSTALL --merge-multiarch --build --library=proActiv.buildbin-libdir proActiv_1.4.0.tar.gz && C:\Users\biocbuild\bbs-3.14-bioc\R\bin\R.exe CMD INSTALL proActiv_1.4.0.zip && rm proActiv_1.4.0.tar.gz proActiv_1.4.0.zip |
| StartedAt: 2022-04-12 06:26:23 -0400 (Tue, 12 Apr 2022) |
| EndedAt: 2022-04-12 06:28:21 -0400 (Tue, 12 Apr 2022) |
| EllapsedTime: 118.3 seconds |
| RetCode: 0 |
| Status: OK |
##############################################################################
##############################################################################
###
### Running command:
###
### C:\cygwin\bin\curl.exe -O http://155.52.207.166/BBS/3.14/bioc/src/contrib/proActiv_1.4.0.tar.gz && rm -rf proActiv.buildbin-libdir && mkdir proActiv.buildbin-libdir && C:\Users\biocbuild\bbs-3.14-bioc\R\bin\R.exe CMD INSTALL --merge-multiarch --build --library=proActiv.buildbin-libdir proActiv_1.4.0.tar.gz && C:\Users\biocbuild\bbs-3.14-bioc\R\bin\R.exe CMD INSTALL proActiv_1.4.0.zip && rm proActiv_1.4.0.tar.gz proActiv_1.4.0.zip
###
##############################################################################
##############################################################################
% Total % Received % Xferd Average Speed Time Time Time Current
Dload Upload Total Spent Left Speed
0 0 0 0 0 0 0 0 --:--:-- --:--:-- --:--:-- 0
14 3469k 14 491k 0 0 935k 0 0:00:03 --:--:-- 0:00:03 936k
65 3469k 65 2289k 0 0 1503k 0 0:00:02 0:00:01 0:00:01 1503k
100 3469k 100 3469k 0 0 1760k 0 0:00:01 0:00:01 --:--:-- 1761k
install for i386
* installing *source* package 'proActiv' ...
** using staged installation
** R
** data
*** moving datasets to lazyload DB
** inst
** byte-compile and prepare package for lazy loading
** help
*** installing help indices
converting help for package 'proActiv'
finding HTML links ... done
PromoterAnnotation-class html
boxplotPromoters html
calculateJunctionReadCounts html
calculatePromoterReadCounts html
getAbsolutePromoterActivity html
getAlternativePromoters html
getGeneExpression html
getRelativePromoterActivity html
integrateProactiv html
normalizePromoterReadCounts html
plotHeatmap html
plotPCA html
preparePromoterAnnotation html
proActiv html
promoterAnnotation.gencode.v34.subset html
reexports html
*** copying figures
** building package indices
** installing vignettes
** testing if installed package can be loaded from temporary location
** testing if installed package can be loaded from final location
** testing if installed package keeps a record of temporary installation path
install for x64
* installing *source* package 'proActiv' ...
** testing if installed package can be loaded
* MD5 sums
packaged installation of 'proActiv' as proActiv_1.4.0.zip
* DONE (proActiv)
* installing to library 'C:/Users/biocbuild/bbs-3.14-bioc/R/library'
package 'proActiv' successfully unpacked and MD5 sums checked