| Back to Multiple platform build/check report for BioC 3.14 |
|
This page was generated on 2022-04-13 12:07:06 -0400 (Wed, 13 Apr 2022).
| Hostname | OS | Arch (*) | R version | Installed pkgs |
|---|---|---|---|---|
| nebbiolo2 | Linux (Ubuntu 20.04.4 LTS) | x86_64 | 4.1.3 (2022-03-10) -- "One Push-Up" | 4324 |
| tokay2 | Windows Server 2012 R2 Standard | x64 | 4.1.3 (2022-03-10) -- "One Push-Up" | 4077 |
| machv2 | macOS 10.14.6 Mojave | x86_64 | 4.1.3 (2022-03-10) -- "One Push-Up" | 4137 |
| Click on any hostname to see more info about the system (e.g. compilers) (*) as reported by 'uname -p', except on Windows and Mac OS X | ||||
|
To the developers/maintainers of the preciseTAD package: - Please allow up to 24 hours (and sometimes 48 hours) for your latest push to git@git.bioconductor.org:packages/preciseTAD.git to reflect on this report. See How and When does the builder pull? When will my changes propagate? for more information. - Make sure to use the following settings in order to reproduce any error or warning you see on this page. |
| Package 1450/2083 | Hostname | OS / Arch | INSTALL | BUILD | CHECK | BUILD BIN | ||||||||
| preciseTAD 1.4.0 (landing page) Mikhail Dozmorov
| nebbiolo2 | Linux (Ubuntu 20.04.4 LTS) / x86_64 | OK | OK | OK | |||||||||
| tokay2 | Windows Server 2012 R2 Standard / x64 | OK | OK | OK | OK | |||||||||
| machv2 | macOS 10.14.6 Mojave / x86_64 | OK | OK | OK | OK | |||||||||
| Package: preciseTAD |
| Version: 1.4.0 |
| Command: rm -rf preciseTAD.buildbin-libdir && mkdir preciseTAD.buildbin-libdir && C:\Users\biocbuild\bbs-3.14-bioc\R\bin\R.exe CMD INSTALL --merge-multiarch --build --library=preciseTAD.buildbin-libdir preciseTAD_1.4.0.tar.gz |
| StartedAt: 2022-04-13 06:50:10 -0400 (Wed, 13 Apr 2022) |
| EndedAt: 2022-04-13 06:51:41 -0400 (Wed, 13 Apr 2022) |
| EllapsedTime: 90.9 seconds |
| RetCode: 0 |
| Status: OK |
| PackageFile: preciseTAD_1.4.0.zip |
| PackageFileSize: 4.812 MiB |
##############################################################################
##############################################################################
###
### Running command:
###
### rm -rf preciseTAD.buildbin-libdir && mkdir preciseTAD.buildbin-libdir && C:\Users\biocbuild\bbs-3.14-bioc\R\bin\R.exe CMD INSTALL --merge-multiarch --build --library=preciseTAD.buildbin-libdir preciseTAD_1.4.0.tar.gz
###
##############################################################################
##############################################################################
install for i386
* installing *source* package 'preciseTAD' ...
** using staged installation
** R
** data
*** moving datasets to lazyload DB
** inst
** byte-compile and prepare package for lazy loading
** help
*** installing help indices
converting help for package 'preciseTAD'
finding HTML links ... done
TADrandomForest html
finding level-2 HTML links ... done
TADrfe html
arrowhead_gm12878_5kb html
bedToGRangesList html
binary_func html
count_func html
createTADdata html
distance_func html
extractBoundaries html
juicer_func html
percent_func html
preciseTAD html
signal_func html
tfbsList html
*** copying figures
** building package indices
** installing vignettes
** testing if installed package can be loaded from temporary location
** testing if installed package can be loaded from final location
** testing if installed package keeps a record of temporary installation path
install for x64
* installing *source* package 'preciseTAD' ...
** testing if installed package can be loaded
* MD5 sums
packaged installation of 'preciseTAD' as preciseTAD_1.4.0.zip
* DONE (preciseTAD)