| Back to Multiple platform build/check report for BioC 3.14 |
|
This page was generated on 2022-04-13 12:07:06 -0400 (Wed, 13 Apr 2022).
| Hostname | OS | Arch (*) | R version | Installed pkgs |
|---|---|---|---|---|
| nebbiolo2 | Linux (Ubuntu 20.04.4 LTS) | x86_64 | 4.1.3 (2022-03-10) -- "One Push-Up" | 4324 |
| tokay2 | Windows Server 2012 R2 Standard | x64 | 4.1.3 (2022-03-10) -- "One Push-Up" | 4077 |
| machv2 | macOS 10.14.6 Mojave | x86_64 | 4.1.3 (2022-03-10) -- "One Push-Up" | 4137 |
| Click on any hostname to see more info about the system (e.g. compilers) (*) as reported by 'uname -p', except on Windows and Mac OS X | ||||
|
To the developers/maintainers of the ppiStats package: - Please allow up to 24 hours (and sometimes 48 hours) for your latest push to git@git.bioconductor.org:packages/ppiStats.git to reflect on this report. See How and When does the builder pull? When will my changes propagate? for more information. - Make sure to use the following settings in order to reproduce any error or warning you see on this page. |
| Package 1446/2083 | Hostname | OS / Arch | INSTALL | BUILD | CHECK | BUILD BIN | ||||||||
| ppiStats 1.60.0 (landing page) Bioconductor Package Maintainer
| nebbiolo2 | Linux (Ubuntu 20.04.4 LTS) / x86_64 | OK | OK | OK | |||||||||
| tokay2 | Windows Server 2012 R2 Standard / x64 | OK | ERROR | skipped | skipped | |||||||||
| machv2 | macOS 10.14.6 Mojave / x86_64 | OK | OK | OK | OK | |||||||||
| Package: ppiStats |
| Version: 1.60.0 |
| Command: C:\cygwin\bin\curl.exe -O http://155.52.207.166/BBS/3.14/bioc/src/contrib/ppiStats_1.60.0.tar.gz && rm -rf ppiStats.buildbin-libdir && mkdir ppiStats.buildbin-libdir && C:\Users\biocbuild\bbs-3.14-bioc\R\bin\R.exe CMD INSTALL --merge-multiarch --build --library=ppiStats.buildbin-libdir ppiStats_1.60.0.tar.gz && C:\Users\biocbuild\bbs-3.14-bioc\R\bin\R.exe CMD INSTALL ppiStats_1.60.0.zip && rm ppiStats_1.60.0.tar.gz ppiStats_1.60.0.zip |
| StartedAt: 2022-04-12 05:58:43 -0400 (Tue, 12 Apr 2022) |
| EndedAt: 2022-04-12 05:59:52 -0400 (Tue, 12 Apr 2022) |
| EllapsedTime: 69.5 seconds |
| RetCode: 0 |
| Status: OK |
##############################################################################
##############################################################################
###
### Running command:
###
### C:\cygwin\bin\curl.exe -O http://155.52.207.166/BBS/3.14/bioc/src/contrib/ppiStats_1.60.0.tar.gz && rm -rf ppiStats.buildbin-libdir && mkdir ppiStats.buildbin-libdir && C:\Users\biocbuild\bbs-3.14-bioc\R\bin\R.exe CMD INSTALL --merge-multiarch --build --library=ppiStats.buildbin-libdir ppiStats_1.60.0.tar.gz && C:\Users\biocbuild\bbs-3.14-bioc\R\bin\R.exe CMD INSTALL ppiStats_1.60.0.zip && rm ppiStats_1.60.0.tar.gz ppiStats_1.60.0.zip
###
##############################################################################
##############################################################################
% Total % Received % Xferd Average Speed Time Time Time Current
Dload Upload Total Spent Left Speed
0 0 0 0 0 0 0 0 --:--:-- --:--:-- --:--:-- 0
78 1016k 78 801k 0 0 1222k 0 --:--:-- --:--:-- --:--:-- 1223k
100 1016k 100 1016k 0 0 1323k 0 --:--:-- --:--:-- --:--:-- 1323k
install for i386
* installing *source* package 'ppiStats' ...
** using staged installation
** R
** inst
** byte-compile and prepare package for lazy loading
** help
*** installing help indices
converting help for package 'ppiStats'
finding HTML links ... done
assessSymmetry html
bpMatrix html
calcInOutDegStats html
createSummaryTables html
degreeEstimates html
estErrProbMethodOfMoments html
estimateCCMErrorRates html
estimatePPIErrorRates html
findAdjacent html
genBPGraph html
hgParams html
hgTests html
idProteinErrorType html
idProteinType html
inOutScatterCharts html
nullDistDoublyTestedEdges html
separateExptBySize html
twPERM html
viabilityCharts html
** building package indices
** installing vignettes
** testing if installed package can be loaded from temporary location
** testing if installed package can be loaded from final location
** testing if installed package keeps a record of temporary installation path
install for x64
* installing *source* package 'ppiStats' ...
** testing if installed package can be loaded
* MD5 sums
packaged installation of 'ppiStats' as ppiStats_1.60.0.zip
* DONE (ppiStats)
* installing to library 'C:/Users/biocbuild/bbs-3.14-bioc/R/library'
package 'ppiStats' successfully unpacked and MD5 sums checked