| Back to Multiple platform build/check report for BioC 3.14 |
|
This page was generated on 2022-04-13 12:08:32 -0400 (Wed, 13 Apr 2022).
| Hostname | OS | Arch (*) | R version | Installed pkgs |
|---|---|---|---|---|
| nebbiolo2 | Linux (Ubuntu 20.04.4 LTS) | x86_64 | 4.1.3 (2022-03-10) -- "One Push-Up" | 4324 |
| tokay2 | Windows Server 2012 R2 Standard | x64 | 4.1.3 (2022-03-10) -- "One Push-Up" | 4077 |
| machv2 | macOS 10.14.6 Mojave | x86_64 | 4.1.3 (2022-03-10) -- "One Push-Up" | 4137 |
| Click on any hostname to see more info about the system (e.g. compilers) (*) as reported by 'uname -p', except on Windows and Mac OS X | ||||
|
To the developers/maintainers of the plotgardener package: - Please allow up to 24 hours (and sometimes 48 hours) for your latest push to git@git.bioconductor.org:packages/plotgardener.git to reflect on this report. See How and When does the builder pull? When will my changes propagate? for more information. - Make sure to use the following settings in order to reproduce any error or warning you see on this page. |
| Package 1430/2083 | Hostname | OS / Arch | INSTALL | BUILD | CHECK | BUILD BIN | ||||||||
| plotgardener 1.0.17 (landing page) Nicole Kramer
| nebbiolo2 | Linux (Ubuntu 20.04.4 LTS) / x86_64 | OK | OK | OK | |||||||||
| tokay2 | Windows Server 2012 R2 Standard / x64 | OK | OK | OK | OK | |||||||||
| machv2 | macOS 10.14.6 Mojave / x86_64 | OK | OK | OK | OK | |||||||||
| Package: plotgardener |
| Version: 1.0.17 |
| Command: /Library/Frameworks/R.framework/Resources/bin/R CMD check --install=check:plotgardener.install-out.txt --library=/Library/Frameworks/R.framework/Resources/library --no-vignettes --timings plotgardener_1.0.17.tar.gz |
| StartedAt: 2022-04-12 16:50:01 -0400 (Tue, 12 Apr 2022) |
| EndedAt: 2022-04-12 16:57:56 -0400 (Tue, 12 Apr 2022) |
| EllapsedTime: 475.5 seconds |
| RetCode: 0 |
| Status: OK |
| CheckDir: plotgardener.Rcheck |
| Warnings: 0 |
##############################################################################
##############################################################################
###
### Running command:
###
### /Library/Frameworks/R.framework/Resources/bin/R CMD check --install=check:plotgardener.install-out.txt --library=/Library/Frameworks/R.framework/Resources/library --no-vignettes --timings plotgardener_1.0.17.tar.gz
###
##############################################################################
##############################################################################
* using log directory ‘/Users/biocbuild/bbs-3.14-bioc/meat/plotgardener.Rcheck’
* using R version 4.1.3 (2022-03-10)
* using platform: x86_64-apple-darwin17.0 (64-bit)
* using session charset: UTF-8
* using option ‘--no-vignettes’
* checking for file ‘plotgardener/DESCRIPTION’ ... OK
* this is package ‘plotgardener’ version ‘1.0.17’
* package encoding: UTF-8
* checking package namespace information ... OK
* checking package dependencies ... OK
* checking if this is a source package ... OK
* checking if there is a namespace ... OK
* checking for hidden files and directories ... OK
* checking for portable file names ... OK
* checking for sufficient/correct file permissions ... OK
* checking whether package ‘plotgardener’ can be installed ... OK
* checking installed package size ... OK
* checking package directory ... OK
* checking ‘build’ directory ... OK
* checking DESCRIPTION meta-information ... OK
* checking top-level files ... OK
* checking for left-over files ... OK
* checking index information ... OK
* checking package subdirectories ... OK
* checking R files for non-ASCII characters ... OK
* checking R files for syntax errors ... OK
* checking whether the package can be loaded ... OK
* checking whether the package can be loaded with stated dependencies ... OK
* checking whether the package can be unloaded cleanly ... OK
* checking whether the namespace can be loaded with stated dependencies ... OK
* checking whether the namespace can be unloaded cleanly ... OK
* checking dependencies in R code ... OK
* checking S3 generic/method consistency ... OK
* checking replacement functions ... OK
* checking foreign function calls ... OK
* checking R code for possible problems ... OK
* checking Rd files ... OK
* checking Rd metadata ... OK
* checking Rd cross-references ... OK
* checking for missing documentation entries ... OK
* checking for code/documentation mismatches ... OK
* checking Rd \usage sections ... OK
* checking Rd contents ... OK
* checking for unstated dependencies in examples ... OK
* checking R/sysdata.rda ... OK
* checking line endings in C/C++/Fortran sources/headers ... OK
* checking compiled code ... NOTE
Note: information on .o files is not available
* checking files in ‘vignettes’ ... OK
* checking examples ... OK
Examples with CPU (user + system) or elapsed time > 5s
user system elapsed
plotRaster 13.579 0.738 14.326
plotIdeogram 11.617 0.542 13.522
plotGenes 7.005 0.117 7.127
* checking for unstated dependencies in ‘tests’ ... OK
* checking tests ...
Running ‘testthat.R’
OK
* checking for unstated dependencies in vignettes ... OK
* checking package vignettes in ‘inst/doc’ ... OK
* checking running R code from vignettes ... SKIPPED
* checking re-building of vignette outputs ... SKIPPED
* checking PDF version of manual ... OK
* DONE
Status: 1 NOTE
See
‘/Users/biocbuild/bbs-3.14-bioc/meat/plotgardener.Rcheck/00check.log’
for details.
plotgardener.Rcheck/00install.out
############################################################################## ############################################################################## ### ### Running command: ### ### /Library/Frameworks/R.framework/Resources/bin/R CMD INSTALL plotgardener ### ############################################################################## ############################################################################## * installing to library ‘/Library/Frameworks/R.framework/Versions/4.1/Resources/library’ * installing *source* package ‘plotgardener’ ... ** using staged installation ** libs clang++ -mmacosx-version-min=10.13 -std=gnu++14 -I"/Library/Frameworks/R.framework/Resources/include" -DNDEBUG -I'/Library/Frameworks/R.framework/Versions/4.1/Resources/library/Rcpp/include' -I/usr/local/include -fPIC -Wall -g -O2 -c RcppExports.cpp -o RcppExports.o clang++ -mmacosx-version-min=10.13 -std=gnu++14 -I"/Library/Frameworks/R.framework/Resources/include" -DNDEBUG -I'/Library/Frameworks/R.framework/Versions/4.1/Resources/library/Rcpp/include' -I/usr/local/include -fPIC -Wall -g -O2 -c checkRow.cpp -o checkRow.o clang++ -mmacosx-version-min=10.13 -std=gnu++14 -I"/Library/Frameworks/R.framework/Resources/include" -DNDEBUG -I'/Library/Frameworks/R.framework/Versions/4.1/Resources/library/Rcpp/include' -I/usr/local/include -fPIC -Wall -g -O2 -c rebinBigwig.cpp -o rebinBigwig.o clang++ -mmacosx-version-min=10.13 -std=gnu++14 -dynamiclib -Wl,-headerpad_max_install_names -undefined dynamic_lookup -single_module -multiply_defined suppress -L/Library/Frameworks/R.framework/Resources/lib -L/usr/local/lib -o plotgardener.so RcppExports.o checkRow.o rebinBigwig.o -F/Library/Frameworks/R.framework/.. -framework R -Wl,-framework -Wl,CoreFoundation installing to /Library/Frameworks/R.framework/Versions/4.1/Resources/library/00LOCK-plotgardener/00new/plotgardener/libs ** R ** inst ** byte-compile and prepare package for lazy loading ** help *** installing help indices *** copying figures ** building package indices ** installing vignettes ** testing if installed package can be loaded from temporary location ** checking absolute paths in shared objects and dynamic libraries ** testing if installed package can be loaded from final location ** testing if installed package keeps a record of temporary installation path * DONE (plotgardener)
plotgardener.Rcheck/tests/testthat.Rout
R version 4.1.3 (2022-03-10) -- "One Push-Up"
Copyright (C) 2022 The R Foundation for Statistical Computing
Platform: x86_64-apple-darwin17.0 (64-bit)
R is free software and comes with ABSOLUTELY NO WARRANTY.
You are welcome to redistribute it under certain conditions.
Type 'license()' or 'licence()' for distribution details.
R is a collaborative project with many contributors.
Type 'contributors()' for more information and
'citation()' on how to cite R or R packages in publications.
Type 'demo()' for some demos, 'help()' for on-line help, or
'help.start()' for an HTML browser interface to help.
Type 'q()' to quit R.
> library(testthat)
> library(plotgardener)
Attaching package: 'plotgardener'
The following object is masked from 'package:base':
c
>
> test_check("plotgardener")
Loading required package: GenomicFeatures
Loading required package: BiocGenerics
Attaching package: 'BiocGenerics'
The following objects are masked from 'package:stats':
IQR, mad, sd, var, xtabs
The following objects are masked from 'package:base':
Filter, Find, Map, Position, Reduce, anyDuplicated, append,
as.data.frame, basename, cbind, colnames, dirname, do.call,
duplicated, eval, evalq, get, grep, grepl, intersect, is.unsorted,
lapply, mapply, match, mget, order, paste, pmax, pmax.int, pmin,
pmin.int, rank, rbind, rownames, sapply, setdiff, sort, table,
tapply, union, unique, unsplit, which.max, which.min
Loading required package: S4Vectors
Loading required package: stats4
Attaching package: 'S4Vectors'
The following objects are masked from 'package:base':
I, expand.grid, unname
Loading required package: IRanges
Loading required package: GenomeInfoDb
Loading required package: GenomicRanges
Loading required package: AnnotationDbi
Loading required package: Biobase
Welcome to Bioconductor
Vignettes contain introductory material; view with
'browseVignettes()'. To cite Bioconductor, see
'citation("Biobase")', and for packages 'citation("pkgname")'.
start, endLoading required package: SummarizedExperiment
Loading required package: MatrixGenerics
Loading required package: matrixStats
Attaching package: 'matrixStats'
The following objects are masked from 'package:Biobase':
anyMissing, rowMedians
Attaching package: 'MatrixGenerics'
The following objects are masked from 'package:matrixStats':
colAlls, colAnyNAs, colAnys, colAvgsPerRowSet, colCollapse,
colCounts, colCummaxs, colCummins, colCumprods, colCumsums,
colDiffs, colIQRDiffs, colIQRs, colLogSumExps, colMadDiffs,
colMads, colMaxs, colMeans2, colMedians, colMins, colOrderStats,
colProds, colQuantiles, colRanges, colRanks, colSdDiffs, colSds,
colSums2, colTabulates, colVarDiffs, colVars, colWeightedMads,
colWeightedMeans, colWeightedMedians, colWeightedSds,
colWeightedVars, rowAlls, rowAnyNAs, rowAnys, rowAvgsPerColSet,
rowCollapse, rowCounts, rowCummaxs, rowCummins, rowCumprods,
rowCumsums, rowDiffs, rowIQRDiffs, rowIQRs, rowLogSumExps,
rowMadDiffs, rowMads, rowMaxs, rowMeans2, rowMedians, rowMins,
rowOrderStats, rowProds, rowQuantiles, rowRanges, rowRanks,
rowSdDiffs, rowSds, rowSums2, rowTabulates, rowVarDiffs, rowVars,
rowWeightedMads, rowWeightedMeans, rowWeightedMedians,
rowWeightedSds, rowWeightedVars
The following object is masked from 'package:Biobase':
rowMedians
Read in hic file with KR normalization at 1e+05 BP resolution.
[ FAIL 0 | WARN 0 | SKIP 0 | PASS 98 ]
>
> proc.time()
user system elapsed
48.281 2.173 50.574
plotgardener.Rcheck/plotgardener-Ex.timings
| name | user | system | elapsed | |
| annoDomains | 1.842 | 0.073 | 1.921 | |
| annoGenomeLabel | 4.325 | 0.185 | 4.520 | |
| annoHeatmapLegend | 1.650 | 0.043 | 1.695 | |
| annoHighlight | 1.007 | 0.037 | 1.048 | |
| annoPixels | 1.269 | 0.098 | 1.373 | |
| annoSegments | 2.133 | 0.108 | 2.248 | |
| annoText | 1.142 | 0.045 | 1.193 | |
| annoXaxis | 2.303 | 0.052 | 2.360 | |
| annoYaxis | 1.413 | 0.113 | 1.532 | |
| annoZoomLines | 3.213 | 0.136 | 3.357 | |
| assembly | 0.001 | 0.000 | 0.000 | |
| c | 0.000 | 0.001 | 0.001 | |
| colorby | 0.752 | 0.024 | 0.808 | |
| defaultPackages | 0.019 | 0.002 | 0.021 | |
| genomes | 0.001 | 0.000 | 0.001 | |
| mapColors | 0.140 | 0.010 | 0.195 | |
| pageCreate | 0.042 | 0.002 | 0.044 | |
| pageGuideHide | 0.022 | 0.001 | 0.023 | |
| pageGuideHorizontal | 0.022 | 0.001 | 0.023 | |
| pageGuideShow | 1.271 | 0.091 | 1.368 | |
| pageGuideVertical | 0.100 | 0.006 | 0.108 | |
| pagePlotPlace | 0.920 | 0.066 | 0.991 | |
| pagePlotRemove | 0.677 | 0.042 | 0.722 | |
| pgParams | 2.220 | 0.053 | 2.274 | |
| plotCircle | 0.041 | 0.002 | 0.043 | |
| plotGG | 0.314 | 0.007 | 0.321 | |
| plotGenes | 7.005 | 0.117 | 7.127 | |
| plotGenomeLabel | 3.301 | 0.113 | 3.419 | |
| plotHicRectangle | 0.714 | 0.059 | 0.774 | |
| plotHicSquare | 0.992 | 0.072 | 1.071 | |
| plotHicTriangle | 1.737 | 0.078 | 1.821 | |
| plotIdeogram | 11.617 | 0.542 | 13.522 | |
| plotLegend | 0.496 | 0.030 | 0.527 | |
| plotManhattan | 2.104 | 0.108 | 2.216 | |
| plotPairs | 0.807 | 0.016 | 0.826 | |
| plotPairsArches | 0.215 | 0.009 | 0.225 | |
| plotPolygon | 0.045 | 0.003 | 0.048 | |
| plotRanges | 0.253 | 0.008 | 0.262 | |
| plotRaster | 13.579 | 0.738 | 14.326 | |
| plotRect | 0.745 | 0.039 | 0.786 | |
| plotSegments | 0.053 | 0.002 | 0.056 | |
| plotSignal | 1.310 | 0.074 | 1.388 | |
| plotText | 0.055 | 0.003 | 0.059 | |
| plotTranscripts | 1.608 | 0.043 | 1.654 | |
| readBigwig | 0.614 | 0.010 | 0.625 | |
| readHic | 0.013 | 0.003 | 0.017 | |