| Back to Multiple platform build/check report for BioC 3.14 | 
 | 
This page was generated on 2022-04-13 12:07:05 -0400 (Wed, 13 Apr 2022).
| Hostname | OS | Arch (*) | R version | Installed pkgs | 
|---|---|---|---|---|
| nebbiolo2 | Linux (Ubuntu 20.04.4 LTS) | x86_64 | 4.1.3 (2022-03-10) -- "One Push-Up" | 4324 | 
| tokay2 | Windows Server 2012 R2 Standard | x64 | 4.1.3 (2022-03-10) -- "One Push-Up" | 4077 | 
| machv2 | macOS 10.14.6 Mojave | x86_64 | 4.1.3 (2022-03-10) -- "One Push-Up" | 4137 | 
| Click on any hostname to see more info about the system (e.g. compilers) (*) as reported by 'uname -p', except on Windows and Mac OS X | ||||
| To the developers/maintainers of the philr package: - Please allow up to 24 hours (and sometimes 48 hours) for your latest push to git@git.bioconductor.org:packages/philr.git to reflect on this report. See How and When does the builder pull? When will my changes propagate? for more information. - Make sure to use the following settings in order to reproduce any error or warning you see on this page. | 
| Package 1410/2083 | Hostname | OS / Arch | INSTALL | BUILD | CHECK | BUILD BIN | ||||||||
| philr 1.20.1  (landing page) Justin Silverman 
 | nebbiolo2 | Linux (Ubuntu 20.04.4 LTS) / x86_64 | OK | OK | WARNINGS |  | ||||||||
| tokay2 | Windows Server 2012 R2 Standard / x64 | OK | OK | WARNINGS | OK |  | ||||||||
| machv2 | macOS 10.14.6 Mojave / x86_64 | OK | OK | WARNINGS | OK |  | ||||||||
| Package: philr | 
| Version: 1.20.1 | 
| Command: C:\cygwin\bin\curl.exe -O http://155.52.207.166/BBS/3.14/bioc/src/contrib/philr_1.20.1.tar.gz && rm -rf philr.buildbin-libdir && mkdir philr.buildbin-libdir && C:\Users\biocbuild\bbs-3.14-bioc\R\bin\R.exe CMD INSTALL --merge-multiarch --build --library=philr.buildbin-libdir philr_1.20.1.tar.gz && C:\Users\biocbuild\bbs-3.14-bioc\R\bin\R.exe CMD INSTALL philr_1.20.1.zip && rm philr_1.20.1.tar.gz philr_1.20.1.zip | 
| StartedAt: 2022-04-12 06:26:08 -0400 (Tue, 12 Apr 2022) | 
| EndedAt: 2022-04-12 06:26:51 -0400 (Tue, 12 Apr 2022) | 
| EllapsedTime: 43.1 seconds | 
| RetCode: 0 | 
| Status: OK | 
##############################################################################
##############################################################################
###
### Running command:
###
###   C:\cygwin\bin\curl.exe -O http://155.52.207.166/BBS/3.14/bioc/src/contrib/philr_1.20.1.tar.gz && rm -rf philr.buildbin-libdir && mkdir philr.buildbin-libdir && C:\Users\biocbuild\bbs-3.14-bioc\R\bin\R.exe CMD INSTALL --merge-multiarch --build --library=philr.buildbin-libdir philr_1.20.1.tar.gz && C:\Users\biocbuild\bbs-3.14-bioc\R\bin\R.exe CMD INSTALL philr_1.20.1.zip && rm philr_1.20.1.tar.gz philr_1.20.1.zip
###
##############################################################################
##############################################################################
  % Total    % Received % Xferd  Average Speed   Time    Time     Time  Current
                                 Dload  Upload   Total   Spent    Left  Speed
  0     0    0     0    0     0      0      0 --:--:-- --:--:-- --:--:--     0
 84 59183   84 49763    0     0   315k      0 --:--:-- --:--:-- --:--:--  315k
100 59183  100 59183    0     0   133k      0 --:--:-- --:--:-- --:--:--  133k
install for i386
* installing *source* package 'philr' ...
** using staged installation
** R
** inst
** byte-compile and prepare package for lazy loading
** help
*** installing help indices
  converting help for package 'philr'
    finding HTML links ... done
    annotate_balance                        html  
    buildilrBasep                           html  
    calculate.blw                           html  
    convert_to_long                         html  
    g.colMeans                              html  
    g.rowMeans                              html  
    mean_dist_to_tips                       html  
    miniclo                                 html  
    name.balance                            html  
    name_nodenumber_conversion              html  
    named_rtree                             html  
    philr                                   html  
    philrInv                                html  
    phylo2sbp                               html  
    shift                                   html  
    weighted_clr                            html  
    weighted_ilr                            html  
** building package indices
** installing vignettes
** testing if installed package can be loaded from temporary location
** testing if installed package can be loaded from final location
** testing if installed package keeps a record of temporary installation path
install for x64
* installing *source* package 'philr' ...
** testing if installed package can be loaded
* MD5 sums
packaged installation of 'philr' as philr_1.20.1.zip
* DONE (philr)
* installing to library 'C:/Users/biocbuild/bbs-3.14-bioc/R/library'
package 'philr' successfully unpacked and MD5 sums checked