| Back to Multiple platform build/check report for BioC 3.14 |
|
This page was generated on 2022-04-13 12:07:04 -0400 (Wed, 13 Apr 2022).
| Hostname | OS | Arch (*) | R version | Installed pkgs |
|---|---|---|---|---|
| nebbiolo2 | Linux (Ubuntu 20.04.4 LTS) | x86_64 | 4.1.3 (2022-03-10) -- "One Push-Up" | 4324 |
| tokay2 | Windows Server 2012 R2 Standard | x64 | 4.1.3 (2022-03-10) -- "One Push-Up" | 4077 |
| machv2 | macOS 10.14.6 Mojave | x86_64 | 4.1.3 (2022-03-10) -- "One Push-Up" | 4137 |
| Click on any hostname to see more info about the system (e.g. compilers) (*) as reported by 'uname -p', except on Windows and Mac OS X | ||||
|
To the developers/maintainers of the pcaExplorer package: - Please allow up to 24 hours (and sometimes 48 hours) for your latest push to git@git.bioconductor.org:packages/pcaExplorer.git to reflect on this report. See How and When does the builder pull? When will my changes propagate? for more information. - Make sure to use the following settings in order to reproduce any error or warning you see on this page. |
| Package 1383/2083 | Hostname | OS / Arch | INSTALL | BUILD | CHECK | BUILD BIN | ||||||||
| pcaExplorer 2.20.2 (landing page) Federico Marini
| nebbiolo2 | Linux (Ubuntu 20.04.4 LTS) / x86_64 | OK | OK | OK | |||||||||
| tokay2 | Windows Server 2012 R2 Standard / x64 | OK | OK | OK | OK | |||||||||
| machv2 | macOS 10.14.6 Mojave / x86_64 | OK | OK | OK | OK | |||||||||
| Package: pcaExplorer |
| Version: 2.20.2 |
| Command: rm -rf pcaExplorer.buildbin-libdir && mkdir pcaExplorer.buildbin-libdir && C:\Users\biocbuild\bbs-3.14-bioc\R\bin\R.exe CMD INSTALL --merge-multiarch --build --library=pcaExplorer.buildbin-libdir pcaExplorer_2.20.2.tar.gz |
| StartedAt: 2022-04-13 06:47:11 -0400 (Wed, 13 Apr 2022) |
| EndedAt: 2022-04-13 06:48:26 -0400 (Wed, 13 Apr 2022) |
| EllapsedTime: 74.7 seconds |
| RetCode: 0 |
| Status: OK |
| PackageFile: pcaExplorer_2.20.2.zip |
| PackageFileSize: 12.13 MiB |
##############################################################################
##############################################################################
###
### Running command:
###
### rm -rf pcaExplorer.buildbin-libdir && mkdir pcaExplorer.buildbin-libdir && C:\Users\biocbuild\bbs-3.14-bioc\R\bin\R.exe CMD INSTALL --merge-multiarch --build --library=pcaExplorer.buildbin-libdir pcaExplorer_2.20.2.tar.gz
###
##############################################################################
##############################################################################
install for i386
* installing *source* package 'pcaExplorer' ...
** using staged installation
** R
** inst
** byte-compile and prepare package for lazy loading
** help
*** installing help indices
converting help for package 'pcaExplorer'
finding HTML links ... done
correlatePCs html
distro_expr html
finding level-2 HTML links ... done
geneprofiler html
genespca html
get_annotation html
get_annotation_orgdb html
hi_loadings html
limmaquickpca2go html
makeExampleDESeqDataSet_multifac html
pair_corr html
pca2go html
pcaExplorer-pkg html
pcaExplorer html
pcaplot html
pcaplot3d html
pcascree html
plotPCcorrs html
topGOtable html
** building package indices
** installing vignettes
** testing if installed package can be loaded from temporary location
** testing if installed package can be loaded from final location
** testing if installed package keeps a record of temporary installation path
install for x64
* installing *source* package 'pcaExplorer' ...
** testing if installed package can be loaded
* MD5 sums
packaged installation of 'pcaExplorer' as pcaExplorer_2.20.2.zip
* DONE (pcaExplorer)