| Back to Multiple platform build/check report for BioC 3.14 |
|
This page was generated on 2022-04-13 12:05:44 -0400 (Wed, 13 Apr 2022).
| Hostname | OS | Arch (*) | R version | Installed pkgs |
|---|---|---|---|---|
| nebbiolo2 | Linux (Ubuntu 20.04.4 LTS) | x86_64 | 4.1.3 (2022-03-10) -- "One Push-Up" | 4324 |
| tokay2 | Windows Server 2012 R2 Standard | x64 | 4.1.3 (2022-03-10) -- "One Push-Up" | 4077 |
| machv2 | macOS 10.14.6 Mojave | x86_64 | 4.1.3 (2022-03-10) -- "One Push-Up" | 4137 |
| Click on any hostname to see more info about the system (e.g. compilers) (*) as reported by 'uname -p', except on Windows and Mac OS X | ||||
|
To the developers/maintainers of the paxtoolsr package: - Please allow up to 24 hours (and sometimes 48 hours) for your latest push to git@git.bioconductor.org:packages/paxtoolsr.git to reflect on this report. See How and When does the builder pull? When will my changes propagate? for more information. - Make sure to use the following settings in order to reproduce any error or warning you see on this page. |
| Package 1382/2083 | Hostname | OS / Arch | INSTALL | BUILD | CHECK | BUILD BIN | ||||||||
| paxtoolsr 1.28.0 (landing page) Augustin Luna
| nebbiolo2 | Linux (Ubuntu 20.04.4 LTS) / x86_64 | OK | OK | OK | |||||||||
| tokay2 | Windows Server 2012 R2 Standard / x64 | OK | OK | OK | OK | |||||||||
| machv2 | macOS 10.14.6 Mojave / x86_64 | OK | OK | ERROR | OK | |||||||||
| Package: paxtoolsr |
| Version: 1.28.0 |
| Command: /home/biocbuild/bbs-3.14-bioc/R/bin/R CMD check --install=check:paxtoolsr.install-out.txt --library=/home/biocbuild/bbs-3.14-bioc/R/library --no-vignettes --timings paxtoolsr_1.28.0.tar.gz |
| StartedAt: 2022-04-12 08:39:05 -0400 (Tue, 12 Apr 2022) |
| EndedAt: 2022-04-12 08:41:34 -0400 (Tue, 12 Apr 2022) |
| EllapsedTime: 148.6 seconds |
| RetCode: 0 |
| Status: OK |
| CheckDir: paxtoolsr.Rcheck |
| Warnings: 0 |
##############################################################################
##############################################################################
###
### Running command:
###
### /home/biocbuild/bbs-3.14-bioc/R/bin/R CMD check --install=check:paxtoolsr.install-out.txt --library=/home/biocbuild/bbs-3.14-bioc/R/library --no-vignettes --timings paxtoolsr_1.28.0.tar.gz
###
##############################################################################
##############################################################################
* using log directory ‘/home/biocbuild/bbs-3.14-bioc/meat/paxtoolsr.Rcheck’
* using R version 4.1.3 (2022-03-10)
* using platform: x86_64-pc-linux-gnu (64-bit)
* using session charset: UTF-8
* using option ‘--no-vignettes’
* checking for file ‘paxtoolsr/DESCRIPTION’ ... OK
* checking extension type ... Package
* this is package ‘paxtoolsr’ version ‘1.28.0’
* package encoding: UTF-8
* checking package namespace information ... OK
* checking package dependencies ... OK
* checking if this is a source package ... OK
* checking if there is a namespace ... OK
* checking for hidden files and directories ... NOTE
Found the following hidden files and directories:
.BBSoptions
These were most likely included in error. See section ‘Package
structure’ in the ‘Writing R Extensions’ manual.
* checking for portable file names ... OK
* checking for sufficient/correct file permissions ... OK
* checking whether package ‘paxtoolsr’ can be installed ... OK
* checking installed package size ... NOTE
installed size is 32.1Mb
sub-directories of 1Mb or more:
extdata 7.3Mb
java 24.5Mb
* checking package directory ... OK
* checking ‘build’ directory ... OK
* checking DESCRIPTION meta-information ... OK
* checking top-level files ... OK
* checking for left-over files ... OK
* checking index information ... OK
* checking package subdirectories ... OK
* checking R files for non-ASCII characters ... OK
* checking R files for syntax errors ... OK
* checking whether the package can be loaded ... OK
* checking whether the package can be loaded with stated dependencies ... OK
* checking whether the package can be unloaded cleanly ... OK
* checking whether the namespace can be loaded with stated dependencies ... OK
* checking whether the namespace can be unloaded cleanly ... OK
* checking dependencies in R code ... OK
* checking S3 generic/method consistency ... OK
* checking replacement functions ... OK
* checking foreign function calls ... OK
* checking R code for possible problems ... NOTE
splitSifnxByPathway: no visible global function definition for
‘%dopar%’
Undefined global functions or variables:
%dopar%
* checking Rd files ... OK
* checking Rd metadata ... OK
* checking Rd cross-references ... OK
* checking for missing documentation entries ... OK
* checking for code/documentation mismatches ... OK
* checking Rd \usage sections ... OK
* checking Rd contents ... OK
* checking for unstated dependencies in examples ... OK
* checking files in ‘vignettes’ ... OK
* checking examples ... OK
Examples with CPU (user + system) or elapsed time > 5s
user system elapsed
readPcPathwaysInfo 34.779 1.064 35.748
* checking for unstated dependencies in ‘tests’ ... OK
* checking tests ...
Running ‘testthat.R’
OK
* checking for unstated dependencies in vignettes ... OK
* checking package vignettes in ‘inst/doc’ ... OK
* checking running R code from vignettes ... SKIPPED
* checking re-building of vignette outputs ... SKIPPED
* checking PDF version of manual ... OK
* DONE
Status: 3 NOTEs
See
‘/home/biocbuild/bbs-3.14-bioc/meat/paxtoolsr.Rcheck/00check.log’
for details.
paxtoolsr.Rcheck/00install.out
############################################################################## ############################################################################## ### ### Running command: ### ### /home/biocbuild/bbs-3.14-bioc/R/bin/R CMD INSTALL paxtoolsr ### ############################################################################## ############################################################################## * installing to library ‘/home/biocbuild/bbs-3.14-bioc/R/library’ * installing *source* package ‘paxtoolsr’ ... ** using staged installation ** R ** inst ** byte-compile and prepare package for lazy loading ** help *** installing help indices ** building package indices ** installing vignettes ** testing if installed package can be loaded from temporary location ** testing if installed package can be loaded from final location ** testing if installed package keeps a record of temporary installation path * DONE (paxtoolsr)
paxtoolsr.Rcheck/tests/testthat.Rout
R version 4.1.3 (2022-03-10) -- "One Push-Up"
Copyright (C) 2022 The R Foundation for Statistical Computing
Platform: x86_64-pc-linux-gnu (64-bit)
R is free software and comes with ABSOLUTELY NO WARRANTY.
You are welcome to redistribute it under certain conditions.
Type 'license()' or 'licence()' for distribution details.
R is a collaborative project with many contributors.
Type 'contributors()' for more information and
'citation()' on how to cite R or R packages in publications.
Type 'demo()' for some demos, 'help()' for on-line help, or
'help.start()' for an HTML browser interface to help.
Type 'q()' to quit R.
> library(testthat)
> library(paxtoolsr)
Loading required package: rJava
Loading required package: XML
Consider citing this package: Luna A, et al. PaxtoolsR: pathway analysis in R using Pathway Commons. PMID: 26685306; citation("paxtoolsr")
>
> test_check("paxtoolsr")
URL: http://www.pathwaycommons.org/pc2/get?uri=http%3A%2F%2Fidentifiers.org%2Funiprot%2FQ06609&uri=http%3A%2F%2Fidentifiers.org%2Funiprot%2FQ96EB6&format=BIOPAX
2022-04-12 08:41:27,004 329 [main] INFO org.biopax.paxtools.PaxtoolsMain - Collecting proteins for a pathway, the converter will also consider its sub-pathways, their sub-pathways, etc.
2022-04-12 08:41:27,013 338 [pool-1-thread-1] INFO org.biopax.paxtools.io.gsea.GSEAConverter - Begin converting Glycolysis Pathway pathway, uri=http://www.biopax.org/examples/myExamplePathway50
2022-04-12 08:41:27,022 347 [pool-1-thread-1] INFO org.biopax.paxtools.io.gsea.GSEAConverter - - fetched PRs: 2
2022-04-12 08:41:27,022 347 [pool-1-thread-1] INFO org.biopax.paxtools.io.gsea.GSEAConverter - - grouping the PRs by organism...
2022-04-12 08:41:27,030 355 [pool-1-thread-1] INFO org.biopax.paxtools.io.gsea.GSEAConverter - - creating GSEA/GMT entries...
2022-04-12 08:41:27,031 356 [pool-2-thread-1] INFO org.biopax.paxtools.io.gsea.GSEAConverter - adding uniprot IDs of proteins (PRs) from 'Glycolysis Pathway', amaze;kegg pathway...
2022-04-12 08:41:27,033 358 [pool-1-thread-1] INFO org.biopax.paxtools.io.gsea.GSEAConverter - - collected 1entries.
2022-04-12 08:41:27,034 359 [main] INFO org.biopax.paxtools.io.gsea.GSEAConverter - Creating entries for the rest fo (unused) PRs...
2022-04-12 08:41:27,369 694 [main] INFO org.biopax.paxtools.client.BiopaxValidatorClient - BioPAX Validator location: http://biopax.baderlab.org/check.html
2022-04-12 08:41:28,190 1515 [main] INFO org.biopax.paxtools.client.BiopaxValidatorClient - BioPAX Validator location: http://biopax.baderlab.org/check.html
2022-04-12 08:41:28,832 2157 [main] INFO org.biopax.paxtools.PaxtoolsMain - Elements in the result model: 240
SBGN-PD Layout is running...
success ratio: 1.0
enhanced ratio: 1.0
Total execution time: 36 miliseconds.
WARNING: An illegal reflective access operation has occurred
WARNING: Illegal reflective access by com.sun.xml.bind.v2.runtime.reflect.opt.Injector$1 (file:/home/biocbuild/bbs-3.14-bioc/R/library/paxtoolsr/java/paxtools-4.3.1.jar) to method java.lang.ClassLoader.defineClass(java.lang.String,byte[],int,int)
WARNING: Please consider reporting this to the maintainers of com.sun.xml.bind.v2.runtime.reflect.opt.Injector$1
WARNING: Use --illegal-access=warn to enable warnings of further illegal reflective access operations
WARNING: All illegal access operations will be denied in a future release
2022-04-12 08:41:29,280 2605 [main] INFO org.biopax.paxtools.PaxtoolsMain - toSifnx: not blacklisting ubiquitous molecules (no blacklist.txt found)
2022-04-12 08:41:29,784 3109 [main] INFO org.biopax.paxtools.PaxtoolsMain - toSif: not blacklisting ubiquitous molecules (no blacklist.txt found)
2022-04-12 08:41:30,248 3573 [main] INFO org.biopax.paxtools.PaxtoolsMain - toSif: not blacklisting ubiquitous molecules (no blacklist.txt found)
[ FAIL 0 | WARN 0 | SKIP 10 | PASS 40 ]
══ Skipped tests ═══════════════════════════════════════════════════════════════
• On Bioconductor (7)
• empty test (3)
[ FAIL 0 | WARN 0 | SKIP 10 | PASS 40 ]
>
> proc.time()
user system elapsed
17.761 0.728 13.023
paxtoolsr.Rcheck/paxtoolsr-Ex.timings
| name | user | system | elapsed | |
| addAttributeList | 0.015 | 0.000 | 0.015 | |
| convertDataFrameListsToVectors | 0.000 | 0.002 | 0.003 | |
| convertSifToGmt | 0.151 | 0.012 | 0.163 | |
| downloadFile | 0.047 | 0.004 | 0.208 | |
| downloadPc2 | 0 | 0 | 0 | |
| downloadSignedPC | 0 | 0 | 0 | |
| fetch | 3.808 | 0.159 | 0.660 | |
| filterSif | 0.508 | 0.017 | 0.083 | |
| getCacheFiles | 0.001 | 0.000 | 0.000 | |
| getErrorMessage | 0.001 | 0.000 | 0.000 | |
| getNeighbors | 0.725 | 0.024 | 0.082 | |
| getPc | 0 | 0 | 0 | |
| getPcDatabaseNames | 0.312 | 0.001 | 0.298 | |
| getPcUrl | 0 | 0 | 0 | |
| getShortestPathSif | 0.049 | 0.004 | 0.053 | |
| getSifInteractionCategories | 0.001 | 0.000 | 0.001 | |
| graphPc | 0 | 0 | 0 | |
| integrateBiopax | 2.816 | 0.134 | 0.603 | |
| loadSifInIgraph | 0.025 | 0.000 | 0.011 | |
| mapValues | 0 | 0 | 0 | |
| mergeBiopax | 0.964 | 0.089 | 0.398 | |
| pcDirections | 0 | 0 | 0 | |
| pcFormats | 0.001 | 0.000 | 0.000 | |
| pcGraphQueries | 0.000 | 0.000 | 0.001 | |
| processPcRequest | 0.011 | 0.004 | 0.007 | |
| readBiopax | 0.002 | 0.004 | 0.002 | |
| readGmt | 0.035 | 0.020 | 0.030 | |
| readPcPathwaysInfo | 34.779 | 1.064 | 35.748 | |
| readSbgn | 0.001 | 0.000 | 0.002 | |
| readSif | 0.008 | 0.000 | 0.008 | |
| readSifnx | 0.020 | 0.000 | 0.019 | |
| searchListOfVectors | 0.000 | 0.001 | 0.001 | |
| searchPc | 0.000 | 0.001 | 0.000 | |
| summarize | 0.075 | 0.038 | 0.067 | |
| summarizeSif | 0.025 | 0.001 | 0.010 | |
| toCytoscape | 0.025 | 0.000 | 0.018 | |
| toGSEA | 0.099 | 0.008 | 0.043 | |
| toLevel3 | 0.160 | 0.007 | 0.048 | |
| toSBGN | 1.135 | 0.077 | 0.317 | |
| toSif | 1.891 | 0.073 | 0.355 | |
| toSifnx | 2.261 | 0.049 | 0.376 | |
| topPathways | 0 | 0 | 0 | |
| traverse | 0 | 0 | 0 | |
| validate | 2.388 | 0.064 | 1.263 | |