| Back to Multiple platform build/check report for BioC 3.14 | 
 | 
This page was generated on 2022-04-13 12:05:42 -0400 (Wed, 13 Apr 2022).
| Hostname | OS | Arch (*) | R version | Installed pkgs | 
|---|---|---|---|---|
| nebbiolo2 | Linux (Ubuntu 20.04.4 LTS) | x86_64 | 4.1.3 (2022-03-10) -- "One Push-Up" | 4324 | 
| tokay2 | Windows Server 2012 R2 Standard | x64 | 4.1.3 (2022-03-10) -- "One Push-Up" | 4077 | 
| machv2 | macOS 10.14.6 Mojave | x86_64 | 4.1.3 (2022-03-10) -- "One Push-Up" | 4137 | 
| Click on any hostname to see more info about the system (e.g. compilers) (*) as reported by 'uname -p', except on Windows and Mac OS X | ||||
| To the developers/maintainers of the ontoProc package: - Please allow up to 24 hours (and sometimes 48 hours) for your latest push to git@git.bioconductor.org:packages/ontoProc.git to reflect on this report. See How and When does the builder pull? When will my changes propagate? for more information. - Make sure to use the following settings in order to reproduce any error or warning you see on this page. | 
| Package 1337/2083 | Hostname | OS / Arch | INSTALL | BUILD | CHECK | BUILD BIN | ||||||||
| ontoProc 1.16.0  (landing page) VJ Carey 
 | nebbiolo2 | Linux (Ubuntu 20.04.4 LTS) / x86_64 | OK | OK | OK |  | ||||||||
| tokay2 | Windows Server 2012 R2 Standard / x64 | OK | OK | OK | OK |  | ||||||||
| machv2 | macOS 10.14.6 Mojave / x86_64 | OK | OK | OK | OK |  | ||||||||
| Package: ontoProc | 
| Version: 1.16.0 | 
| Command: /home/biocbuild/bbs-3.14-bioc/R/bin/R CMD check --install=check:ontoProc.install-out.txt --library=/home/biocbuild/bbs-3.14-bioc/R/library --no-vignettes --timings ontoProc_1.16.0.tar.gz | 
| StartedAt: 2022-04-12 08:33:13 -0400 (Tue, 12 Apr 2022) | 
| EndedAt: 2022-04-12 08:40:53 -0400 (Tue, 12 Apr 2022) | 
| EllapsedTime: 459.8 seconds | 
| RetCode: 0 | 
| Status: OK | 
| CheckDir: ontoProc.Rcheck | 
| Warnings: 0 | 
##############################################################################
##############################################################################
###
### Running command:
###
###   /home/biocbuild/bbs-3.14-bioc/R/bin/R CMD check --install=check:ontoProc.install-out.txt --library=/home/biocbuild/bbs-3.14-bioc/R/library --no-vignettes --timings ontoProc_1.16.0.tar.gz
###
##############################################################################
##############################################################################
* using log directory ‘/home/biocbuild/bbs-3.14-bioc/meat/ontoProc.Rcheck’
* using R version 4.1.3 (2022-03-10)
* using platform: x86_64-pc-linux-gnu (64-bit)
* using session charset: UTF-8
* using option ‘--no-vignettes’
* checking for file ‘ontoProc/DESCRIPTION’ ... OK
* this is package ‘ontoProc’ version ‘1.16.0’
* package encoding: UTF-8
* checking package namespace information ... OK
* checking package dependencies ... OK
* checking if this is a source package ... OK
* checking if there is a namespace ... OK
* checking for hidden files and directories ... OK
* checking for portable file names ... OK
* checking for sufficient/correct file permissions ... OK
* checking whether package ‘ontoProc’ can be installed ... OK
* checking installed package size ... NOTE
  installed size is  7.2Mb
  sub-directories of 1Mb or more:
    app       1.9Mb
    data      2.0Mb
    ontoRda   2.8Mb
* checking package directory ... OK
* checking ‘build’ directory ... OK
* checking DESCRIPTION meta-information ... OK
* checking top-level files ... OK
* checking for left-over files ... OK
* checking index information ... OK
* checking package subdirectories ... OK
* checking R files for non-ASCII characters ... OK
* checking R files for syntax errors ... OK
* checking whether the package can be loaded ... OK
* checking whether the package can be loaded with stated dependencies ... OK
* checking whether the package can be unloaded cleanly ... OK
* checking whether the namespace can be loaded with stated dependencies ... OK
* checking whether the namespace can be unloaded cleanly ... OK
* checking dependencies in R code ... OK
* checking S3 generic/method consistency ... OK
* checking replacement functions ... OK
* checking foreign function calls ... OK
* checking R code for possible problems ... NOTE
CLfeat : prupdate: no visible binding for global variable ‘PRID’
CLfeat : prupdate: no visible binding for global variable ‘SYMBOL’
bind_formal_tags: no visible global function definition for ‘colData’
bind_formal_tags: no visible global function definition for ‘colData<-’
common_classes: no visible global function definition for ‘colData’
connect_classes: no visible global function definition for ‘colData’
ctmarks: no visible binding for '<<-' assignment to ‘pr’
ctmarks: no visible binding for '<<-' assignment to ‘go’
ctmarks : server: no visible binding for global variable ‘text’
ldfToTerm: no visible binding for global variable ‘PROSYM’
subset_descendants: no visible global function definition for ‘colData’
sym2CellOnto: no visible binding for global variable ‘SYMBOL’
Undefined global functions or variables:
  PRID PROSYM SYMBOL colData colData<- text
Consider adding
  importFrom("graphics", "text")
to your NAMESPACE file.
* checking Rd files ... OK
* checking Rd metadata ... OK
* checking Rd cross-references ... OK
* checking for missing documentation entries ... OK
* checking for code/documentation mismatches ... OK
* checking Rd \usage sections ... OK
* checking Rd contents ... OK
* checking for unstated dependencies in examples ... OK
* checking contents of ‘data’ directory ... OK
* checking data for non-ASCII characters ... NOTE
  Note: found 162 marked UTF-8 strings
* checking LazyData ... OK
* checking data for ASCII and uncompressed saves ... OK
* checking files in ‘vignettes’ ... OK
* checking examples ... OK
Examples with CPU (user + system) or elapsed time > 5s
                    user system elapsed
siblings_TAG      37.484  1.184  50.541
getCellOnto       25.082  1.405  27.569
CLfeats           24.420  1.772  27.486
common_classes    22.006  0.933  24.120
fastGrep          19.943  1.160  21.508
getLeavesFromTerm 16.187  0.747  17.347
sym2CellOnto      15.040  0.429  17.604
secLevGen         12.465  0.446  14.068
nomenCheckup       8.452  0.439  10.965
TermSet-class      8.144  0.387   8.950
cleanCLOnames      4.962  0.244   5.595
* checking for unstated dependencies in ‘tests’ ... OK
* checking tests ...
  Running ‘test.R’
 OK
* checking for unstated dependencies in vignettes ... OK
* checking package vignettes in ‘inst/doc’ ... OK
* checking running R code from vignettes ... SKIPPED
* checking re-building of vignette outputs ... SKIPPED
* checking PDF version of manual ... OK
* DONE
Status: 3 NOTEs
See
  ‘/home/biocbuild/bbs-3.14-bioc/meat/ontoProc.Rcheck/00check.log’
for details.
ontoProc.Rcheck/00install.out
############################################################################## ############################################################################## ### ### Running command: ### ### /home/biocbuild/bbs-3.14-bioc/R/bin/R CMD INSTALL ontoProc ### ############################################################################## ############################################################################## * installing to library ‘/home/biocbuild/bbs-3.14-bioc/R/library’ * installing *source* package ‘ontoProc’ ... ** using staged installation ** R ** data *** moving datasets to lazyload DB ** inst ** byte-compile and prepare package for lazy loading ** help *** installing help indices ** building package indices ** installing vignettes ** testing if installed package can be loaded from temporary location ** testing if installed package can be loaded from final location ** testing if installed package keeps a record of temporary installation path * DONE (ontoProc)
ontoProc.Rcheck/tests/test.Rout
R version 4.1.3 (2022-03-10) -- "One Push-Up"
Copyright (C) 2022 The R Foundation for Statistical Computing
Platform: x86_64-pc-linux-gnu (64-bit)
R is free software and comes with ABSOLUTELY NO WARRANTY.
You are welcome to redistribute it under certain conditions.
Type 'license()' or 'licence()' for distribution details.
R is a collaborative project with many contributors.
Type 'contributors()' for more information and
'citation()' on how to cite R or R packages in publications.
Type 'demo()' for some demos, 'help()' for on-line help, or
'help.start()' for an HTML browser interface to help.
Type 'q()' to quit R.
> 
> library(ontoProc)
Loading required package: ontologyIndex
> library(testthat)
> 
> test_check("ontoProc")
[ FAIL 0 | WARN 0 | SKIP 0 | PASS 8 ]
> 
> 
> proc.time()
   user  system elapsed 
 82.045   2.818 101.587 
ontoProc.Rcheck/ontoProc-Ex.timings
| name | user | system | elapsed | |
| CLfeats | 24.420 | 1.772 | 27.486 | |
| PROSYM | 0.001 | 0.000 | 0.001 | |
| TermSet-class | 8.144 | 0.387 | 8.950 | |
| allGOterms | 0.063 | 0.000 | 0.063 | |
| cellTypeToGO | 1.348 | 0.024 | 1.372 | |
| cleanCLOnames | 4.962 | 0.244 | 5.595 | |
| common_classes | 22.006 | 0.933 | 24.120 | |
| cyclicSigset | 0.006 | 0.000 | 0.006 | |
| demoApp | 0.001 | 0.000 | 0.000 | |
| dropStop | 0.003 | 0.000 | 0.003 | |
| fastGrep | 19.943 | 1.160 | 21.508 | |
| findCommonAncestors | 2.306 | 0.196 | 2.501 | |
| getCellOnto | 25.082 | 1.405 | 27.569 | |
| getLeavesFromTerm | 16.187 | 0.747 | 17.347 | |
| humrna | 0.007 | 0.000 | 0.007 | |
| ldfToTerms | 0.215 | 0.004 | 0.220 | |
| liberalMap | 1.861 | 0.007 | 1.868 | |
| makeSelectInput | 0.001 | 0.000 | 0.000 | |
| make_graphNEL_from_ontology_plot | 1.704 | 0.036 | 1.739 | |
| mapOneNaive | 3.271 | 0.028 | 3.299 | |
| minicorpus | 0.002 | 0.001 | 0.002 | |
| nomenCheckup | 8.452 | 0.439 | 10.965 | |
| onto_plot2 | 4.34 | 0.10 | 4.50 | |
| onto_roots | 0.000 | 0.000 | 0.001 | |
| packDesc2019 | 0.003 | 0.000 | 0.003 | |
| recognizedPredicates | 0.001 | 0.000 | 0.000 | |
| secLevGen | 12.465 | 0.446 | 14.068 | |
| selectFromMap | 3.684 | 0.055 | 3.786 | |
| seur3kTab | 0.005 | 0.001 | 0.014 | |
| siblings_TAG | 37.484 | 1.184 | 50.541 | |
| stopWords | 0.000 | 0.002 | 0.014 | |
| sym2CellOnto | 15.040 | 0.429 | 17.604 | |