| Back to Multiple platform build/check report for BioC 3.14 |
|
This page was generated on 2022-04-13 12:06:59 -0400 (Wed, 13 Apr 2022).
| Hostname | OS | Arch (*) | R version | Installed pkgs |
|---|---|---|---|---|
| nebbiolo2 | Linux (Ubuntu 20.04.4 LTS) | x86_64 | 4.1.3 (2022-03-10) -- "One Push-Up" | 4324 |
| tokay2 | Windows Server 2012 R2 Standard | x64 | 4.1.3 (2022-03-10) -- "One Push-Up" | 4077 |
| machv2 | macOS 10.14.6 Mojave | x86_64 | 4.1.3 (2022-03-10) -- "One Push-Up" | 4137 |
| Click on any hostname to see more info about the system (e.g. compilers) (*) as reported by 'uname -p', except on Windows and Mac OS X | ||||
|
To the developers/maintainers of the netboxr package: - Please allow up to 24 hours (and sometimes 48 hours) for your latest push to git@git.bioconductor.org:packages/netboxr.git to reflect on this report. See How and When does the builder pull? When will my changes propagate? for more information. - Make sure to use the following settings in order to reproduce any error or warning you see on this page. |
| Package 1283/2083 | Hostname | OS / Arch | INSTALL | BUILD | CHECK | BUILD BIN | ||||||||
| netboxr 1.6.0 (landing page) Eirc Minwei Liu
| nebbiolo2 | Linux (Ubuntu 20.04.4 LTS) / x86_64 | OK | ERROR | skipped | |||||||||
| tokay2 | Windows Server 2012 R2 Standard / x64 | OK | OK | OK | OK | |||||||||
| machv2 | macOS 10.14.6 Mojave / x86_64 | OK | OK | OK | OK | |||||||||
| Package: netboxr |
| Version: 1.6.0 |
| Command: C:\cygwin\bin\curl.exe -O http://155.52.207.166/BBS/3.14/bioc/src/contrib/netboxr_1.6.0.tar.gz && rm -rf netboxr.buildbin-libdir && mkdir netboxr.buildbin-libdir && C:\Users\biocbuild\bbs-3.14-bioc\R\bin\R.exe CMD INSTALL --merge-multiarch --build --library=netboxr.buildbin-libdir netboxr_1.6.0.tar.gz && C:\Users\biocbuild\bbs-3.14-bioc\R\bin\R.exe CMD INSTALL netboxr_1.6.0.zip && rm netboxr_1.6.0.tar.gz netboxr_1.6.0.zip |
| StartedAt: 2022-04-12 07:06:49 -0400 (Tue, 12 Apr 2022) |
| EndedAt: 2022-04-12 07:08:15 -0400 (Tue, 12 Apr 2022) |
| EllapsedTime: 86.2 seconds |
| RetCode: 0 |
| Status: OK |
##############################################################################
##############################################################################
###
### Running command:
###
### C:\cygwin\bin\curl.exe -O http://155.52.207.166/BBS/3.14/bioc/src/contrib/netboxr_1.6.0.tar.gz && rm -rf netboxr.buildbin-libdir && mkdir netboxr.buildbin-libdir && C:\Users\biocbuild\bbs-3.14-bioc\R\bin\R.exe CMD INSTALL --merge-multiarch --build --library=netboxr.buildbin-libdir netboxr_1.6.0.tar.gz && C:\Users\biocbuild\bbs-3.14-bioc\R\bin\R.exe CMD INSTALL netboxr_1.6.0.zip && rm netboxr_1.6.0.tar.gz netboxr_1.6.0.zip
###
##############################################################################
##############################################################################
% Total % Received % Xferd Average Speed Time Time Time Current
Dload Upload Total Spent Left Speed
0 0 0 0 0 0 0 0 --:--:-- --:--:-- --:--:-- 0
100 708k 100 708k 0 0 920k 0 --:--:-- --:--:-- --:--:-- 921k
100 708k 100 708k 0 0 920k 0 --:--:-- --:--:-- --:--:-- 919k
install for i386
* installing *source* package 'netboxr' ...
** using staged installation
** R
** data
*** moving datasets to lazyload DB
** inst
** byte-compile and prepare package for lazy loading
** help
*** installing help indices
converting help for package 'netboxr'
finding HTML links ... done
annotateGraph html
geneConnector html
globalNullModel html
localNullModel html
netbox2010 html
networkSimplify html
pathway_commons_v8_reactome html
** building package indices
** installing vignettes
** testing if installed package can be loaded from temporary location
** testing if installed package can be loaded from final location
** testing if installed package keeps a record of temporary installation path
install for x64
* installing *source* package 'netboxr' ...
** testing if installed package can be loaded
* MD5 sums
packaged installation of 'netboxr' as netboxr_1.6.0.zip
* DONE (netboxr)
* installing to library 'C:/Users/biocbuild/bbs-3.14-bioc/R/library'
package 'netboxr' successfully unpacked and MD5 sums checked