| Back to Multiple platform build/check report for BioC 3.14 |
|
This page was generated on 2022-04-13 12:07:00 -0400 (Wed, 13 Apr 2022).
| Hostname | OS | Arch (*) | R version | Installed pkgs |
|---|---|---|---|---|
| nebbiolo2 | Linux (Ubuntu 20.04.4 LTS) | x86_64 | 4.1.3 (2022-03-10) -- "One Push-Up" | 4324 |
| tokay2 | Windows Server 2012 R2 Standard | x64 | 4.1.3 (2022-03-10) -- "One Push-Up" | 4077 |
| machv2 | macOS 10.14.6 Mojave | x86_64 | 4.1.3 (2022-03-10) -- "One Push-Up" | 4137 |
| Click on any hostname to see more info about the system (e.g. compilers) (*) as reported by 'uname -p', except on Windows and Mac OS X | ||||
|
To the developers/maintainers of the netSmooth package: - Please allow up to 24 hours (and sometimes 48 hours) for your latest push to git@git.bioconductor.org:packages/netSmooth.git to reflect on this report. See How and When does the builder pull? When will my changes propagate? for more information. - Make sure to use the following settings in order to reproduce any error or warning you see on this page. |
| Package 1291/2083 | Hostname | OS / Arch | INSTALL | BUILD | CHECK | BUILD BIN | ||||||||
| netSmooth 1.14.0 (landing page) Jonathan Ronen
| nebbiolo2 | Linux (Ubuntu 20.04.4 LTS) / x86_64 | OK | OK | OK | |||||||||
| tokay2 | Windows Server 2012 R2 Standard / x64 | OK | OK | OK | OK | |||||||||
| machv2 | macOS 10.14.6 Mojave / x86_64 | OK | OK | OK | OK | |||||||||
| Package: netSmooth |
| Version: 1.14.0 |
| Command: C:\cygwin\bin\curl.exe -O http://155.52.207.166/BBS/3.14/bioc/src/contrib/netSmooth_1.14.0.tar.gz && rm -rf netSmooth.buildbin-libdir && mkdir netSmooth.buildbin-libdir && C:\Users\biocbuild\bbs-3.14-bioc\R\bin\R.exe CMD INSTALL --merge-multiarch --build --library=netSmooth.buildbin-libdir netSmooth_1.14.0.tar.gz && C:\Users\biocbuild\bbs-3.14-bioc\R\bin\R.exe CMD INSTALL netSmooth_1.14.0.zip && rm netSmooth_1.14.0.tar.gz netSmooth_1.14.0.zip |
| StartedAt: 2022-04-12 07:37:08 -0400 (Tue, 12 Apr 2022) |
| EndedAt: 2022-04-12 07:39:02 -0400 (Tue, 12 Apr 2022) |
| EllapsedTime: 113.3 seconds |
| RetCode: 0 |
| Status: OK |
##############################################################################
##############################################################################
###
### Running command:
###
### C:\cygwin\bin\curl.exe -O http://155.52.207.166/BBS/3.14/bioc/src/contrib/netSmooth_1.14.0.tar.gz && rm -rf netSmooth.buildbin-libdir && mkdir netSmooth.buildbin-libdir && C:\Users\biocbuild\bbs-3.14-bioc\R\bin\R.exe CMD INSTALL --merge-multiarch --build --library=netSmooth.buildbin-libdir netSmooth_1.14.0.tar.gz && C:\Users\biocbuild\bbs-3.14-bioc\R\bin\R.exe CMD INSTALL netSmooth_1.14.0.zip && rm netSmooth_1.14.0.tar.gz netSmooth_1.14.0.zip
###
##############################################################################
##############################################################################
% Total % Received % Xferd Average Speed Time Time Time Current
Dload Upload Total Spent Left Speed
0 0 0 0 0 0 0 0 --:--:-- --:--:-- --:--:-- 0
0 2967k 0 3859 0 0 46991 0 0:01:04 --:--:-- 0:01:04 47060
64 2967k 64 1919k 0 0 1781k 0 0:00:01 0:00:01 --:--:-- 1782k
100 2967k 100 2967k 0 0 2047k 0 0:00:01 0:00:01 --:--:-- 2047k
install for i386
* installing *source* package 'netSmooth' ...
** using staged installation
** R
** data
*** moving datasets to lazyload DB
** inst
** byte-compile and prepare package for lazy loading
** help
*** installing help indices
converting help for package 'netSmooth'
finding HTML links ... done
calc2DEntropy html
clusterExperimentWorkflow html
clusterOne html
dimReduce html
human.ppi html
l1NormalizeColumns html
l1NormalizeRows html
mouse.ppi html
netSmooth html
REDIRECT:topic Previous alias or file overwritten by alias: C:/Users/biocbuild/bbs-3.14-bioc/meat/netSmooth.buildbin-libdir/00LOCK-netSmooth/00new/netSmooth/help/netSmooth+2CMatrix-method.html
pickDimReduction html
REDIRECT:topic Previous alias or file overwritten by alias: C:/Users/biocbuild/bbs-3.14-bioc/meat/netSmooth.buildbin-libdir/00LOCK-netSmooth/00new/netSmooth/help/pickDimReduction+2CMatrix-method.html
projectFromNetworkRecombine-matrix-method
html
projectOnNetwork html
randomWalkByIterations html
randomWalkByMatrixInv-matrix-method html
randomWalkBySolve-matrix-method html
robustClusters html
scoreSmoothing html
smallPPI html
smallscRNAseq html
smoothAndRecombine-matrix-method html
** building package indices
** installing vignettes
** testing if installed package can be loaded from temporary location
** testing if installed package can be loaded from final location
** testing if installed package keeps a record of temporary installation path
install for x64
* installing *source* package 'netSmooth' ...
** testing if installed package can be loaded
* MD5 sums
packaged installation of 'netSmooth' as netSmooth_1.14.0.zip
* DONE (netSmooth)
* installing to library 'C:/Users/biocbuild/bbs-3.14-bioc/R/library'
package 'netSmooth' successfully unpacked and MD5 sums checked