| Back to Multiple platform build/check report for BioC 3.14 | 
 | 
This page was generated on 2022-04-13 12:08:26 -0400 (Wed, 13 Apr 2022).
| Hostname | OS | Arch (*) | R version | Installed pkgs | 
|---|---|---|---|---|
| nebbiolo2 | Linux (Ubuntu 20.04.4 LTS) | x86_64 | 4.1.3 (2022-03-10) -- "One Push-Up" | 4324 | 
| tokay2 | Windows Server 2012 R2 Standard | x64 | 4.1.3 (2022-03-10) -- "One Push-Up" | 4077 | 
| machv2 | macOS 10.14.6 Mojave | x86_64 | 4.1.3 (2022-03-10) -- "One Push-Up" | 4137 | 
| Click on any hostname to see more info about the system (e.g. compilers) (*) as reported by 'uname -p', except on Windows and Mac OS X | ||||
| To the developers/maintainers of the nearBynding package: - Please allow up to 24 hours (and sometimes 48 hours) for your latest push to git@git.bioconductor.org:packages/nearBynding.git to reflect on this report. See How and When does the builder pull? When will my changes propagate? for more information. - Make sure to use the following settings in order to reproduce any error or warning you see on this page. | 
| Package 1277/2083 | Hostname | OS / Arch | INSTALL | BUILD | CHECK | BUILD BIN | ||||||||
| nearBynding 1.4.0  (landing page) Veronica Busa 
 | nebbiolo2 | Linux (Ubuntu 20.04.4 LTS) / x86_64 | OK | OK | OK |  | ||||||||
| tokay2 | Windows Server 2012 R2 Standard / x64 | OK | OK | OK | OK |  | ||||||||
| machv2 | macOS 10.14.6 Mojave / x86_64 | OK | OK | OK | OK |  | ||||||||
| Package: nearBynding | 
| Version: 1.4.0 | 
| Command: /Library/Frameworks/R.framework/Resources/bin/R CMD check --install=check:nearBynding.install-out.txt --library=/Library/Frameworks/R.framework/Resources/library --no-vignettes --timings nearBynding_1.4.0.tar.gz | 
| StartedAt: 2022-04-12 16:05:33 -0400 (Tue, 12 Apr 2022) | 
| EndedAt: 2022-04-12 16:12:37 -0400 (Tue, 12 Apr 2022) | 
| EllapsedTime: 424.6 seconds | 
| RetCode: 0 | 
| Status: OK | 
| CheckDir: nearBynding.Rcheck | 
| Warnings: 0 | 
##############################################################################
##############################################################################
###
### Running command:
###
###   /Library/Frameworks/R.framework/Resources/bin/R CMD check --install=check:nearBynding.install-out.txt --library=/Library/Frameworks/R.framework/Resources/library --no-vignettes --timings nearBynding_1.4.0.tar.gz
###
##############################################################################
##############################################################################
* using log directory ‘/Users/biocbuild/bbs-3.14-bioc/meat/nearBynding.Rcheck’
* using R version 4.1.3 (2022-03-10)
* using platform: x86_64-apple-darwin17.0 (64-bit)
* using session charset: UTF-8
* using option ‘--no-vignettes’
* checking for file ‘nearBynding/DESCRIPTION’ ... OK
* checking extension type ... Package
* this is package ‘nearBynding’ version ‘1.4.0’
* package encoding: UTF-8
* checking package namespace information ... OK
* checking package dependencies ... OK
* checking if this is a source package ... OK
* checking if there is a namespace ... OK
* checking for hidden files and directories ... OK
* checking for portable file names ... OK
* checking for sufficient/correct file permissions ... OK
* checking whether package ‘nearBynding’ can be installed ... OK
* checking installed package size ... NOTE
  installed size is  7.1Mb
  sub-directories of 1Mb or more:
    extdata   6.9Mb
* checking package directory ... OK
* checking ‘build’ directory ... OK
* checking DESCRIPTION meta-information ... OK
* checking top-level files ... OK
* checking for left-over files ... OK
* checking index information ... OK
* checking package subdirectories ... OK
* checking R files for non-ASCII characters ... OK
* checking R files for syntax errors ... OK
* checking whether the package can be loaded ... OK
* checking whether the package can be loaded with stated dependencies ... OK
* checking whether the package can be unloaded cleanly ... OK
* checking whether the namespace can be loaded with stated dependencies ... OK
* checking whether the namespace can be unloaded cleanly ... OK
* checking dependencies in R code ... OK
* checking S3 generic/method consistency ... OK
* checking replacement functions ... OK
* checking foreign function calls ... OK
* checking R code for possible problems ... OK
* checking Rd files ... OK
* checking Rd metadata ... OK
* checking Rd cross-references ... OK
* checking for missing documentation entries ... OK
* checking for code/documentation mismatches ... OK
* checking Rd \usage sections ... OK
* checking Rd contents ... OK
* checking for unstated dependencies in examples ... OK
* checking sizes of PDF files under ‘inst/doc’ ... OK
* checking files in ‘vignettes’ ... OK
* checking examples ... OK
Examples with CPU (user + system) or elapsed time > 5s
                           user system elapsed
processCapRout           30.892  0.651  31.575
visualizeCapRStereogene  11.105  0.119  11.246
visualizeStereogene       9.405  0.045   9.460
liftOverToExomicBG        7.972  0.025   8.004
GenomeMappingToChainFile  6.989  0.164   7.164
getChainChrSize           6.907  0.019   6.930
* checking for unstated dependencies in vignettes ... OK
* checking package vignettes in ‘inst/doc’ ... OK
* checking running R code from vignettes ... SKIPPED
* checking re-building of vignette outputs ... SKIPPED
* checking PDF version of manual ... OK
* DONE
Status: 1 NOTE
See
  ‘/Users/biocbuild/bbs-3.14-bioc/meat/nearBynding.Rcheck/00check.log’
for details.
nearBynding.Rcheck/00install.out
############################################################################## ############################################################################## ### ### Running command: ### ### /Library/Frameworks/R.framework/Resources/bin/R CMD INSTALL nearBynding ### ############################################################################## ############################################################################## * installing to library ‘/Library/Frameworks/R.framework/Versions/4.1/Resources/library’ * installing *source* package ‘nearBynding’ ... ** using staged installation ** R ** inst ** byte-compile and prepare package for lazy loading ** help *** installing help indices ** building package indices ** installing vignettes ** testing if installed package can be loaded from temporary location ** testing if installed package can be loaded from final location ** testing if installed package keeps a record of temporary installation path * DONE (nearBynding)
nearBynding.Rcheck/nearBynding-Ex.timings
| name | user | system | elapsed | |
| CleanBAMtoBG | 0.045 | 0.012 | 0.058 | |
| CleanBEDtoBG | 0.016 | 0.021 | 0.040 | |
| ExtractTranscriptomeSequence | 0.001 | 0.000 | 0.000 | |
| GenomeMappingToChainFile | 6.989 | 0.164 | 7.164 | |
| assessGrouping | 4.627 | 0.081 | 4.711 | |
| bindingContextDistance | 0.312 | 0.021 | 0.335 | |
| bindingContextDistanceCapR | 0.984 | 0.025 | 1.010 | |
| getChainChrSize | 6.907 | 0.019 | 6.930 | |
| get_outfiles | 0.007 | 0.017 | 0.023 | |
| liftOverToExomicBG | 7.972 | 0.025 | 8.004 | |
| nearBynding-package | 0.001 | 0.002 | 0.002 | |
| processCapRout | 30.892 | 0.651 | 31.575 | |
| runCapR | 0.003 | 0.005 | 0.009 | |
| runStereogene | 0.004 | 0.006 | 0.011 | |
| runStereogeneOnCapR | 0.018 | 0.026 | 0.044 | |
| symmetryCapR | 0.841 | 0.027 | 0.867 | |
| symmetryContext | 0.146 | 0.020 | 0.166 | |
| visualizeCapRStereogene | 11.105 | 0.119 | 11.246 | |
| visualizeStereogene | 9.405 | 0.045 | 9.460 | |
| write_config | 0.000 | 0.001 | 0.001 | |
| write_fasta | 0.001 | 0.001 | 0.002 | |