| Back to Multiple platform build/check report for BioC 3.14 |
|
This page was generated on 2022-04-13 12:08:26 -0400 (Wed, 13 Apr 2022).
| Hostname | OS | Arch (*) | R version | Installed pkgs |
|---|---|---|---|---|
| nebbiolo2 | Linux (Ubuntu 20.04.4 LTS) | x86_64 | 4.1.3 (2022-03-10) -- "One Push-Up" | 4324 |
| tokay2 | Windows Server 2012 R2 Standard | x64 | 4.1.3 (2022-03-10) -- "One Push-Up" | 4077 |
| machv2 | macOS 10.14.6 Mojave | x86_64 | 4.1.3 (2022-03-10) -- "One Push-Up" | 4137 |
| Click on any hostname to see more info about the system (e.g. compilers) (*) as reported by 'uname -p', except on Windows and Mac OS X | ||||
|
To the developers/maintainers of the ndexr package: - Please allow up to 24 hours (and sometimes 48 hours) for your latest push to git@git.bioconductor.org:packages/ndexr.git to reflect on this report. See How and When does the builder pull? When will my changes propagate? for more information. - Make sure to use the following settings in order to reproduce any error or warning you see on this page. |
| Package 1276/2083 | Hostname | OS / Arch | INSTALL | BUILD | CHECK | BUILD BIN | ||||||||
| ndexr 1.16.0 (landing page) Florian Auer
| nebbiolo2 | Linux (Ubuntu 20.04.4 LTS) / x86_64 | OK | OK | OK | |||||||||
| tokay2 | Windows Server 2012 R2 Standard / x64 | OK | OK | OK | OK | |||||||||
| machv2 | macOS 10.14.6 Mojave / x86_64 | OK | OK | OK | OK | |||||||||
| Package: ndexr |
| Version: 1.16.0 |
| Command: /Library/Frameworks/R.framework/Resources/bin/R CMD check --install=check:ndexr.install-out.txt --library=/Library/Frameworks/R.framework/Resources/library --no-vignettes --timings ndexr_1.16.0.tar.gz |
| StartedAt: 2022-04-12 16:05:23 -0400 (Tue, 12 Apr 2022) |
| EndedAt: 2022-04-12 16:06:56 -0400 (Tue, 12 Apr 2022) |
| EllapsedTime: 93.1 seconds |
| RetCode: 0 |
| Status: OK |
| CheckDir: ndexr.Rcheck |
| Warnings: 0 |
##############################################################################
##############################################################################
###
### Running command:
###
### /Library/Frameworks/R.framework/Resources/bin/R CMD check --install=check:ndexr.install-out.txt --library=/Library/Frameworks/R.framework/Resources/library --no-vignettes --timings ndexr_1.16.0.tar.gz
###
##############################################################################
##############################################################################
* using log directory ‘/Users/biocbuild/bbs-3.14-bioc/meat/ndexr.Rcheck’
* using R version 4.1.3 (2022-03-10)
* using platform: x86_64-apple-darwin17.0 (64-bit)
* using session charset: UTF-8
* using option ‘--no-vignettes’
* checking for file ‘ndexr/DESCRIPTION’ ... OK
* checking extension type ... Package
* this is package ‘ndexr’ version ‘1.16.0’
* package encoding: UTF-8
* checking package namespace information ... OK
* checking package dependencies ... OK
* checking if this is a source package ... OK
* checking if there is a namespace ... OK
* checking for hidden files and directories ... OK
* checking for portable file names ... OK
* checking for sufficient/correct file permissions ... OK
* checking whether package ‘ndexr’ can be installed ... OK
* checking installed package size ... OK
* checking package directory ... OK
* checking ‘build’ directory ... OK
* checking DESCRIPTION meta-information ... NOTE
Deprecated license: BSD
* checking top-level files ... OK
* checking for left-over files ... OK
* checking index information ... OK
* checking package subdirectories ... OK
* checking R files for non-ASCII characters ... OK
* checking R files for syntax errors ... OK
* checking whether the package can be loaded ... OK
* checking whether the package can be loaded with stated dependencies ... OK
* checking whether the package can be unloaded cleanly ... OK
* checking whether the namespace can be loaded with stated dependencies ... OK
* checking whether the namespace can be unloaded cleanly ... OK
* checking dependencies in R code ... NOTE
Package in Depends field not imported from: ‘igraph’
These packages need to be imported from (in the NAMESPACE file)
for when this namespace is loaded but not attached.
Unexported object imported by a ':::' call: ‘httr:::default_ua’
See the note in ?`:::` about the use of this operator.
* checking S3 generic/method consistency ... OK
* checking replacement functions ... OK
* checking foreign function calls ... OK
* checking R code for possible problems ... NOTE
ndex_create_network: no visible global function definition for ‘tail’
ndex_rest_DELETE: no visible global function definition for
‘packageVersion’
ndex_rest_GET: no visible global function definition for
‘packageVersion’
ndex_rest_POST: no visible global function definition for
‘packageVersion’
ndex_rest_PUT: no visible global function definition for
‘packageVersion’
rcx_fromRCXgraph: no visible binding for global variable ‘po’
rcx_toRCXgraph: no visible global function definition for ‘V’
rcx_toRCXgraph: no visible global function definition for ‘V<-’
rcx_toRCXgraph: no visible global function definition for ‘E’
rcx_toRCXgraph: no visible global function definition for ‘E<-’
rcxgraph_fromRCX: no visible global function definition for ‘V’
rcxgraph_fromRCX: no visible global function definition for ‘V<-’
rcxgraph_fromRCX: no visible global function definition for ‘E’
rcxgraph_fromRCX: no visible global function definition for ‘E<-’
rcxgraph_toRCX: no visible binding for global variable ‘po’
Undefined global functions or variables:
E E<- V V<- packageVersion po tail
Consider adding
importFrom("utils", "packageVersion", "tail")
to your NAMESPACE file.
* checking Rd files ... OK
* checking Rd metadata ... OK
* checking Rd cross-references ... OK
* checking for missing documentation entries ... OK
* checking for code/documentation mismatches ... OK
* checking Rd \usage sections ... OK
* checking Rd contents ... OK
* checking for unstated dependencies in examples ... OK
* checking installed files from ‘inst/doc’ ... OK
* checking files in ‘vignettes’ ... OK
* checking examples ... OK
* checking for unstated dependencies in ‘tests’ ... OK
* checking tests ...
Running ‘testthat.R’
OK
* checking for unstated dependencies in vignettes ... OK
* checking package vignettes in ‘inst/doc’ ... OK
* checking running R code from vignettes ... SKIPPED
* checking re-building of vignette outputs ... SKIPPED
* checking PDF version of manual ... OK
* DONE
Status: 3 NOTEs
See
‘/Users/biocbuild/bbs-3.14-bioc/meat/ndexr.Rcheck/00check.log’
for details.
ndexr.Rcheck/00install.out
############################################################################## ############################################################################## ### ### Running command: ### ### /Library/Frameworks/R.framework/Resources/bin/R CMD INSTALL ndexr ### ############################################################################## ############################################################################## * installing to library ‘/Library/Frameworks/R.framework/Versions/4.1/Resources/library’ * installing *source* package ‘ndexr’ ... ** using staged installation ** R ** inst ** byte-compile and prepare package for lazy loading ** help *** installing help indices ** building package indices ** installing vignettes ** testing if installed package can be loaded from temporary location ** testing if installed package can be loaded from final location ** testing if installed package keeps a record of temporary installation path * DONE (ndexr)
ndexr.Rcheck/tests/testthat.Rout
R version 4.1.3 (2022-03-10) -- "One Push-Up"
Copyright (C) 2022 The R Foundation for Statistical Computing
Platform: x86_64-apple-darwin17.0 (64-bit)
R is free software and comes with ABSOLUTELY NO WARRANTY.
You are welcome to redistribute it under certain conditions.
Type 'license()' or 'licence()' for distribution details.
R is a collaborative project with many contributors.
Type 'contributors()' for more information and
'citation()' on how to cite R or R packages in publications.
Type 'demo()' for some demos, 'help()' for on-line help, or
'help.start()' for an HTML browser interface to help.
Type 'q()' to quit R.
> library(testthat)
> library(ndexr)
Loading required package: igraph
Attaching package: 'igraph'
The following object is masked from 'package:testthat':
compare
The following objects are masked from 'package:stats':
decompose, spectrum
The following object is masked from 'package:base':
union
>
> test_check("ndexr")
[ FAIL 0 | WARN 0 | SKIP 0 | PASS 148 ]
>
> proc.time()
user system elapsed
25.076 0.772 38.781
ndexr.Rcheck/ndexr-Ex.timings
| name | user | system | elapsed | |
| listToRCode | 0.001 | 0.001 | 0.002 | |
| ndex_conf_header | 0 | 0 | 0 | |
| ndex_config | 0.002 | 0.001 | 0.003 | |
| ndex_connect | 0.123 | 0.019 | 0.452 | |
| ndex_create_group | 0 | 0 | 0 | |
| ndex_create_network | 0 | 0 | 0 | |
| ndex_create_user | 0.000 | 0.001 | 0.001 | |
| ndex_delete_group | 0 | 0 | 0 | |
| ndex_delete_network | 0 | 0 | 0 | |
| ndex_delete_user | 0.000 | 0.000 | 0.001 | |
| ndex_find_groups | 0.057 | 0.003 | 0.312 | |
| ndex_find_networks | 0.092 | 0.004 | 0.574 | |
| ndex_find_user_byId | 0.026 | 0.001 | 0.338 | |
| ndex_find_user_byName | 0.016 | 0.001 | 0.224 | |
| ndex_find_users | 0.020 | 0.001 | 0.233 | |
| ndex_get_group | 0.035 | 0.002 | 0.711 | |
| ndex_get_network | 0.294 | 0.009 | 0.639 | |
| ndex_group_delete_membership | 0 | 0 | 0 | |
| ndex_group_list_networks | 0.047 | 0.001 | 0.469 | |
| ndex_group_list_users | 0.021 | 0.001 | 0.231 | |
| ndex_group_network_get_permission | 0.034 | 0.002 | 0.347 | |
| ndex_group_set_membership | 0.001 | 0.001 | 0.001 | |
| ndex_helper_encodeParams | 0.003 | 0.002 | 0.004 | |
| ndex_helper_getApi | 0.007 | 0.000 | 0.110 | |
| ndex_helper_httpResponseHandler | 0.017 | 0.001 | 0.120 | |
| ndex_internal_addAspects | 0.000 | 0.001 | 0.000 | |
| ndex_network_aspect_get_metadata | 0.028 | 0.002 | 0.341 | |
| ndex_network_delete_permission | 0.000 | 0.001 | 0.001 | |
| ndex_network_get_aspect | 0.054 | 0.002 | 0.470 | |
| ndex_network_get_metadata | 0.036 | 0.001 | 0.348 | |
| ndex_network_get_permission | 0.001 | 0.000 | 0.001 | |
| ndex_network_get_provenance | 0.067 | 0.001 | 0.381 | |
| ndex_network_get_summary | 0.036 | 0.001 | 0.349 | |
| ndex_network_set_systemProperties | 0.001 | 0.000 | 0.001 | |
| ndex_network_update_aspect | 0.000 | 0.000 | 0.001 | |
| ndex_network_update_permission | 0.000 | 0.000 | 0.001 | |
| ndex_network_update_profile | 0.000 | 0.000 | 0.001 | |
| ndex_rest_DELETE | 0.006 | 0.000 | 0.110 | |
| ndex_rest_GET | 0.007 | 0.000 | 0.110 | |
| ndex_rest_POST | 0.006 | 0.000 | 0.111 | |
| ndex_rest_PUT | 0.007 | 0.000 | 0.155 | |
| ndex_update_group | 0.000 | 0.000 | 0.001 | |
| ndex_update_network | 0.000 | 0.000 | 0.001 | |
| ndex_update_user | 0.000 | 0.000 | 0.001 | |
| ndex_user_change_password | 0 | 0 | 0 | |
| ndex_user_forgot_password | 0.000 | 0.001 | 0.000 | |
| ndex_user_get_networksummary | 0.000 | 0.001 | 0.000 | |
| ndex_user_get_showcase | 0.036 | 0.001 | 0.372 | |
| ndex_user_list_groups | 0.001 | 0.000 | 0.000 | |
| ndex_user_list_permissions | 0.000 | 0.000 | 0.001 | |
| ndex_user_mail_password | 0 | 0 | 0 | |
| ndex_user_show_group | 0.000 | 0.001 | 0.000 | |
| ndex_user_show_permission | 0.000 | 0.000 | 0.001 | |
| ndex_verify_user | 0 | 0 | 0 | |
| ndexr-package | 0.000 | 0.000 | 0.001 | |
| ngraph_toRCX | 0.005 | 0.001 | 0.006 | |
| print.NDExConnection | 0.016 | 0.001 | 0.477 | |
| print.RCX | 0.006 | 0.001 | 0.007 | |
| rcx_asNewNetwork | 0.003 | 0.001 | 0.003 | |
| rcx_aspect_toJSON | 0.005 | 0.001 | 0.005 | |
| rcx_fromJSON | 0.125 | 0.001 | 0.126 | |
| rcx_new | 0.018 | 0.000 | 0.018 | |
| rcx_toJSON | 0.007 | 0.000 | 0.007 | |
| rcx_toNGraph | 0.003 | 0.000 | 0.004 | |
| rcx_toRCXgraph | 0.014 | 0.001 | 0.015 | |
| rcx_updateMetaData | 0.007 | 0.000 | 0.007 | |
| rcxgraph_toRCX | 0.008 | 0.001 | 0.009 | |