| Back to Multiple platform build/check report for BioC 3.14 |
|
This page was generated on 2022-04-13 12:05:40 -0400 (Wed, 13 Apr 2022).
| Hostname | OS | Arch (*) | R version | Installed pkgs |
|---|---|---|---|---|
| nebbiolo2 | Linux (Ubuntu 20.04.4 LTS) | x86_64 | 4.1.3 (2022-03-10) -- "One Push-Up" | 4324 |
| tokay2 | Windows Server 2012 R2 Standard | x64 | 4.1.3 (2022-03-10) -- "One Push-Up" | 4077 |
| machv2 | macOS 10.14.6 Mojave | x86_64 | 4.1.3 (2022-03-10) -- "One Push-Up" | 4137 |
| Click on any hostname to see more info about the system (e.g. compilers) (*) as reported by 'uname -p', except on Windows and Mac OS X | ||||
|
To the developers/maintainers of the musicatk package: - Please allow up to 24 hours (and sometimes 48 hours) for your latest push to git@git.bioconductor.org:packages/musicatk.git to reflect on this report. See How and When does the builder pull? When will my changes propagate? for more information. - Make sure to use the following settings in order to reproduce any error or warning you see on this page. |
| Package 1255/2083 | Hostname | OS / Arch | INSTALL | BUILD | CHECK | BUILD BIN | ||||||||
| musicatk 1.4.0 (landing page) Aaron Chevalier
| nebbiolo2 | Linux (Ubuntu 20.04.4 LTS) / x86_64 | OK | OK | OK | |||||||||
| tokay2 | Windows Server 2012 R2 Standard / x64 | OK | OK | OK | OK | |||||||||
| machv2 | macOS 10.14.6 Mojave / x86_64 | OK | OK | OK | OK | |||||||||
| Package: musicatk |
| Version: 1.4.0 |
| Command: /home/biocbuild/bbs-3.14-bioc/R/bin/R CMD check --install=check:musicatk.install-out.txt --library=/home/biocbuild/bbs-3.14-bioc/R/library --no-vignettes --timings musicatk_1.4.0.tar.gz |
| StartedAt: 2022-04-12 08:25:03 -0400 (Tue, 12 Apr 2022) |
| EndedAt: 2022-04-12 08:30:33 -0400 (Tue, 12 Apr 2022) |
| EllapsedTime: 330.2 seconds |
| RetCode: 0 |
| Status: OK |
| CheckDir: musicatk.Rcheck |
| Warnings: 0 |
##############################################################################
##############################################################################
###
### Running command:
###
### /home/biocbuild/bbs-3.14-bioc/R/bin/R CMD check --install=check:musicatk.install-out.txt --library=/home/biocbuild/bbs-3.14-bioc/R/library --no-vignettes --timings musicatk_1.4.0.tar.gz
###
##############################################################################
##############################################################################
* using log directory ‘/home/biocbuild/bbs-3.14-bioc/meat/musicatk.Rcheck’
* using R version 4.1.3 (2022-03-10)
* using platform: x86_64-pc-linux-gnu (64-bit)
* using session charset: UTF-8
* using option ‘--no-vignettes’
* checking for file ‘musicatk/DESCRIPTION’ ... OK
* checking extension type ... Package
* this is package ‘musicatk’ version ‘1.4.0’
* package encoding: UTF-8
* checking package namespace information ... OK
* checking package dependencies ... OK
* checking if this is a source package ... OK
* checking if there is a namespace ... OK
* checking for hidden files and directories ... OK
* checking for portable file names ... OK
* checking for sufficient/correct file permissions ... OK
* checking whether package ‘musicatk’ can be installed ... OK
* checking installed package size ... OK
* checking package directory ... OK
* checking ‘build’ directory ... OK
* checking DESCRIPTION meta-information ... OK
* checking top-level files ... OK
* checking for left-over files ... OK
* checking index information ... OK
* checking package subdirectories ... OK
* checking R files for non-ASCII characters ... OK
* checking R files for syntax errors ... OK
* checking whether the package can be loaded ... OK
* checking whether the package can be loaded with stated dependencies ... OK
* checking whether the package can be unloaded cleanly ... OK
* checking whether the namespace can be loaded with stated dependencies ... OK
* checking whether the namespace can be unloaded cleanly ... OK
* checking dependencies in R code ... NOTE
Namespaces in Imports field not imported from:
‘TCGAbiolinks’ ‘shinyBS’ ‘shinyalert’ ‘shinybusy’ ‘shinydashboard’
‘shinyjqui’ ‘shinyjs’ ‘sortable’
All declared Imports should be used.
* checking S3 generic/method consistency ... OK
* checking replacement functions ... OK
* checking foreign function calls ... OK
* checking R code for possible problems ... OK
* checking Rd files ... OK
* checking Rd metadata ... OK
* checking Rd cross-references ... OK
* checking for missing documentation entries ... OK
* checking for code/documentation mismatches ... OK
* checking Rd \usage sections ... OK
* checking Rd contents ... OK
* checking for unstated dependencies in examples ... OK
* checking contents of ‘data’ directory ... OK
* checking data for non-ASCII characters ... OK
* checking LazyData ... OK
* checking data for ASCII and uncompressed saves ... OK
* checking files in ‘vignettes’ ... OK
* checking examples ... OK
Examples with CPU (user + system) or elapsed time > 5s
user system elapsed
build_standard_table 8.030 0.475 8.507
plot_cluster 5.416 0.172 5.604
create_umap 5.192 0.045 5.234
* checking for unstated dependencies in ‘tests’ ... OK
* checking tests ...
Running ‘testthat.R’
OK
* checking for unstated dependencies in vignettes ... OK
* checking package vignettes in ‘inst/doc’ ... OK
* checking running R code from vignettes ... SKIPPED
* checking re-building of vignette outputs ... SKIPPED
* checking PDF version of manual ... OK
* DONE
Status: 1 NOTE
See
‘/home/biocbuild/bbs-3.14-bioc/meat/musicatk.Rcheck/00check.log’
for details.
musicatk.Rcheck/00install.out
############################################################################## ############################################################################## ### ### Running command: ### ### /home/biocbuild/bbs-3.14-bioc/R/bin/R CMD INSTALL musicatk ### ############################################################################## ############################################################################## * installing to library ‘/home/biocbuild/bbs-3.14-bioc/R/library’ * installing *source* package ‘musicatk’ ... ** using staged installation ** R ** data *** moving datasets to lazyload DB ** inst ** byte-compile and prepare package for lazy loading ** help *** installing help indices ** building package indices ** installing vignettes ** testing if installed package can be loaded from temporary location ** testing if installed package can be loaded from final location ** testing if installed package keeps a record of temporary installation path * DONE (musicatk)
musicatk.Rcheck/tests/testthat.Rout
R version 4.1.3 (2022-03-10) -- "One Push-Up"
Copyright (C) 2022 The R Foundation for Statistical Computing
Platform: x86_64-pc-linux-gnu (64-bit)
R is free software and comes with ABSOLUTELY NO WARRANTY.
You are welcome to redistribute it under certain conditions.
Type 'license()' or 'licence()' for distribution details.
R is a collaborative project with many contributors.
Type 'contributors()' for more information and
'citation()' on how to cite R or R packages in publications.
Type 'demo()' for some demos, 'help()' for on-line help, or
'help.start()' for an HTML browser interface to help.
Type 'q()' to quit R.
> library("testthat")
> library("musicatk")
Loading required package: NMF
Loading required package: pkgmaker
Loading required package: registry
Loading required package: rngtools
Loading required package: cluster
NMF - BioConductor layer [OK] | Shared memory capabilities [NO: synchronicity] | Cores 71/72
To enable shared memory capabilities, try: install.extras('
NMF
')
Attaching package: 'NMF'
The following object is masked from 'package:testthat':
compare
>
> test_check("musicatk")
[ FAIL 0 | WARN 1 | SKIP 0 | PASS 42 ]
[ FAIL 0 | WARN 1 | SKIP 0 | PASS 42 ]
>
> proc.time()
user system elapsed
18.679 0.878 19.553
musicatk.Rcheck/musicatk-Ex.timings
| name | user | system | elapsed | |
| add_flank_to_variants | 3.193 | 0.263 | 3.456 | |
| add_variant_type | 0.009 | 0.007 | 0.017 | |
| annotate_replication_strand | 0.150 | 0.025 | 0.174 | |
| annotate_transcript_strand | 2.343 | 0.064 | 2.407 | |
| annotate_variant_length | 0.012 | 0.000 | 0.011 | |
| annotate_variant_type | 0.003 | 0.000 | 0.003 | |
| auto_predict_grid | 1.540 | 0.004 | 1.545 | |
| build_custom_table | 0.995 | 0.008 | 1.004 | |
| build_standard_table | 8.030 | 0.475 | 8.507 | |
| built_tables | 0.002 | 0.001 | 0.002 | |
| cluster_exposure | 0.014 | 0.000 | 0.014 | |
| combine_count_tables | 3.923 | 0.179 | 4.103 | |
| combine_predict_grid | 1.581 | 0.021 | 1.600 | |
| compare_cosmic_v2 | 1.831 | 0.071 | 1.903 | |
| compare_cosmic_v3 | 0.875 | 0.003 | 0.878 | |
| compare_results | 1.07 | 0.00 | 1.07 | |
| cosmic_v2_subtype_map | 0.001 | 0.000 | 0.001 | |
| create_musica | 0.897 | 0.075 | 0.942 | |
| create_umap | 5.192 | 0.045 | 5.234 | |
| discover_signatures | 0.844 | 0.052 | 0.896 | |
| drop_annotation | 0.002 | 0.000 | 0.002 | |
| exposure_differential_analysis | 0.019 | 0.000 | 0.019 | |
| exposures | 0.004 | 0.000 | 0.003 | |
| extract_count_tables | 0.004 | 0.000 | 0.004 | |
| extract_variants | 4.941 | 0.028 | 4.921 | |
| extract_variants_from_maf | 0.125 | 0.004 | 0.105 | |
| extract_variants_from_maf_file | 0.107 | 0.000 | 0.082 | |
| extract_variants_from_matrix | 0.120 | 0.004 | 0.100 | |
| extract_variants_from_vcf | 0.787 | 0.008 | 0.795 | |
| extract_variants_from_vcf_file | 0.506 | 0.000 | 0.506 | |
| generate_result_grid | 0.146 | 0.000 | 0.147 | |
| get_musica | 0.002 | 0.004 | 0.006 | |
| k_select | 0.718 | 0.004 | 0.723 | |
| musicatk | 0 | 0 | 0 | |
| name_signatures | 0.002 | 0.000 | 0.002 | |
| pipe | 0.002 | 0.000 | 0.002 | |
| plot_cluster | 5.416 | 0.172 | 5.604 | |
| plot_differential_analysis | 0.125 | 0.000 | 0.125 | |
| plot_exposures | 0.142 | 0.000 | 0.142 | |
| plot_heatmap | 0.715 | 0.044 | 0.759 | |
| plot_sample_counts | 0.249 | 0.004 | 0.253 | |
| plot_sample_reconstruction_error | 0.494 | 0.004 | 0.498 | |
| plot_signatures | 0.399 | 0.004 | 0.403 | |
| plot_umap | 4.757 | 0.032 | 4.796 | |
| predict_exposure | 1.150 | 0.024 | 1.174 | |
| rc | 0.002 | 0.000 | 0.002 | |
| samp_annot | 0.008 | 0.000 | 0.008 | |
| sample_names | 0.003 | 0.000 | 0.003 | |
| select_genome | 0 | 0 | 0 | |
| signatures | 0.005 | 0.000 | 0.005 | |
| subset_musica_by_annotation | 0.006 | 0.000 | 0.006 | |
| subset_musica_by_counts | 0.007 | 0.000 | 0.007 | |
| subset_variant_by_type | 0.005 | 0.000 | 0.005 | |
| subset_variants_by_samples | 0.004 | 0.000 | 0.004 | |
| table_selected | 0.002 | 0.000 | 0.001 | |
| tables | 0.007 | 0.000 | 0.007 | |
| umap | 0.003 | 0.000 | 0.004 | |
| variants | 0.007 | 0.000 | 0.007 | |