| Back to Multiple platform build/check report for BioC 3.14 |
|
This page was generated on 2022-04-13 12:06:58 -0400 (Wed, 13 Apr 2022).
| Hostname | OS | Arch (*) | R version | Installed pkgs |
|---|---|---|---|---|
| nebbiolo2 | Linux (Ubuntu 20.04.4 LTS) | x86_64 | 4.1.3 (2022-03-10) -- "One Push-Up" | 4324 |
| tokay2 | Windows Server 2012 R2 Standard | x64 | 4.1.3 (2022-03-10) -- "One Push-Up" | 4077 |
| machv2 | macOS 10.14.6 Mojave | x86_64 | 4.1.3 (2022-03-10) -- "One Push-Up" | 4137 |
| Click on any hostname to see more info about the system (e.g. compilers) (*) as reported by 'uname -p', except on Windows and Mac OS X | ||||
|
To the developers/maintainers of the multiscan package: - Please allow up to 24 hours (and sometimes 48 hours) for your latest push to git@git.bioconductor.org:packages/multiscan.git to reflect on this report. See How and When does the builder pull? When will my changes propagate? for more information. - Make sure to use the following settings in order to reproduce any error or warning you see on this page. |
| Package 1248/2083 | Hostname | OS / Arch | INSTALL | BUILD | CHECK | BUILD BIN | ||||||||
| multiscan 1.54.0 (landing page) Mizanur Khondoker
| nebbiolo2 | Linux (Ubuntu 20.04.4 LTS) / x86_64 | OK | OK | OK | |||||||||
| tokay2 | Windows Server 2012 R2 Standard / x64 | OK | OK | OK | OK | |||||||||
| machv2 | macOS 10.14.6 Mojave / x86_64 | OK | OK | OK | OK | |||||||||
| Package: multiscan |
| Version: 1.54.0 |
| Command: rm -rf multiscan.buildbin-libdir && mkdir multiscan.buildbin-libdir && C:\Users\biocbuild\bbs-3.14-bioc\R\bin\R.exe CMD INSTALL --merge-multiarch --build --library=multiscan.buildbin-libdir multiscan_1.54.0.tar.gz |
| StartedAt: 2022-04-13 06:40:50 -0400 (Wed, 13 Apr 2022) |
| EndedAt: 2022-04-13 06:41:00 -0400 (Wed, 13 Apr 2022) |
| EllapsedTime: 9.9 seconds |
| RetCode: 0 |
| Status: OK |
| PackageFile: multiscan_1.54.0.zip |
| PackageFileSize: 638.3 KiB |
##############################################################################
##############################################################################
###
### Running command:
###
### rm -rf multiscan.buildbin-libdir && mkdir multiscan.buildbin-libdir && C:\Users\biocbuild\bbs-3.14-bioc\R\bin\R.exe CMD INSTALL --merge-multiarch --build --library=multiscan.buildbin-libdir multiscan_1.54.0.tar.gz
###
##############################################################################
##############################################################################
install for i386
* installing *source* package 'multiscan' ...
** using staged installation
** libs
"C:/rtools40/mingw32/bin/"gcc -I"C:/Users/BIOCBU~1/BBS-3~1.14-/R/include" -DNDEBUG -I"C:/extsoft/include" -O2 -Wall -std=gnu99 -mfpmath=sse -msse2 -mstackrealign -c multiscan.c -o multiscan.o
C:/rtools40/mingw32/bin/gcc -shared -s -static-libgcc -o multiscan.dll tmp.def multiscan.o -LC:/extsoft/lib/i386 -LC:/extsoft/lib -LC:/Users/BIOCBU~1/BBS-3~1.14-/R/bin/i386 -lR
installing to C:/Users/biocbuild/bbs-3.14-bioc/meat/multiscan.buildbin-libdir/00LOCK-multiscan/00new/multiscan/libs/i386
** R
** data
** inst
** byte-compile and prepare package for lazy loading
** help
*** installing help indices
converting help for package 'multiscan'
finding HTML links ... done
multiscan html
murine html
plot.multiscan html
** building package indices
** installing vignettes
** testing if installed package can be loaded from temporary location
*** Loaded multiscan Version 1.54.0 ***
Type 'vignette("multiscan")' to view the package vignette.
** testing if installed package can be loaded from final location
*** Loaded multiscan Version 1.54.0 ***
Type 'vignette("multiscan")' to view the package vignette.
** testing if installed package keeps a record of temporary installation path
install for x64
* installing *source* package 'multiscan' ...
** libs
"C:/rtools40/mingw64/bin/"gcc -I"C:/Users/BIOCBU~1/BBS-3~1.14-/R/include" -DNDEBUG -I"C:/extsoft/include" -O2 -Wall -std=gnu99 -mfpmath=sse -msse2 -mstackrealign -c multiscan.c -o multiscan.o
C:/rtools40/mingw64/bin/gcc -shared -s -static-libgcc -o multiscan.dll tmp.def multiscan.o -LC:/extsoft/lib/x64 -LC:/extsoft/lib -LC:/Users/BIOCBU~1/BBS-3~1.14-/R/bin/x64 -lR
installing to C:/Users/biocbuild/bbs-3.14-bioc/meat/multiscan.buildbin-libdir/multiscan/libs/x64
** testing if installed package can be loaded
*** Loaded multiscan Version 1.54.0 ***
Type 'vignette("multiscan")' to view the package vignette.
* MD5 sums
packaged installation of 'multiscan' as multiscan_1.54.0.zip
* DONE (multiscan)