| Back to Multiple platform build/check report for BioC 3.14 |
|
This page was generated on 2022-04-13 12:06:56 -0400 (Wed, 13 Apr 2022).
| Hostname | OS | Arch (*) | R version | Installed pkgs |
|---|---|---|---|---|
| nebbiolo2 | Linux (Ubuntu 20.04.4 LTS) | x86_64 | 4.1.3 (2022-03-10) -- "One Push-Up" | 4324 |
| tokay2 | Windows Server 2012 R2 Standard | x64 | 4.1.3 (2022-03-10) -- "One Push-Up" | 4077 |
| machv2 | macOS 10.14.6 Mojave | x86_64 | 4.1.3 (2022-03-10) -- "One Push-Up" | 4137 |
| Click on any hostname to see more info about the system (e.g. compilers) (*) as reported by 'uname -p', except on Windows and Mac OS X | ||||
|
To the developers/maintainers of the msgbsR package: - Please allow up to 24 hours (and sometimes 48 hours) for your latest push to git@git.bioconductor.org:packages/msgbsR.git to reflect on this report. See How and When does the builder pull? When will my changes propagate? for more information. - Make sure to use the following settings in order to reproduce any error or warning you see on this page. |
| Package 1216/2083 | Hostname | OS / Arch | INSTALL | BUILD | CHECK | BUILD BIN | ||||||||
| msgbsR 1.18.0 (landing page) Benjamin Mayne
| nebbiolo2 | Linux (Ubuntu 20.04.4 LTS) / x86_64 | OK | OK | WARNINGS | |||||||||
| tokay2 | Windows Server 2012 R2 Standard / x64 | OK | OK | WARNINGS | OK | |||||||||
| machv2 | macOS 10.14.6 Mojave / x86_64 | OK | OK | WARNINGS | OK | |||||||||
| Package: msgbsR |
| Version: 1.18.0 |
| Command: rm -rf msgbsR.buildbin-libdir && mkdir msgbsR.buildbin-libdir && C:\Users\biocbuild\bbs-3.14-bioc\R\bin\R.exe CMD INSTALL --merge-multiarch --build --library=msgbsR.buildbin-libdir msgbsR_1.18.0.tar.gz |
| StartedAt: 2022-04-13 06:39:24 -0400 (Wed, 13 Apr 2022) |
| EndedAt: 2022-04-13 06:40:55 -0400 (Wed, 13 Apr 2022) |
| EllapsedTime: 91.0 seconds |
| RetCode: 0 |
| Status: OK |
| PackageFile: msgbsR_1.18.0.zip |
| PackageFileSize: 15.59 MiB |
##############################################################################
##############################################################################
###
### Running command:
###
### rm -rf msgbsR.buildbin-libdir && mkdir msgbsR.buildbin-libdir && C:\Users\biocbuild\bbs-3.14-bioc\R\bin\R.exe CMD INSTALL --merge-multiarch --build --library=msgbsR.buildbin-libdir msgbsR_1.18.0.tar.gz
###
##############################################################################
##############################################################################
install for i386
* installing *source* package 'msgbsR' ...
** using staged installation
** R
** data
** inst
** byte-compile and prepare package for lazy loading
No methods found in package 'BiocGenerics' for request: 'clusterApply' when loading 'easyRNASeq'
** help
*** installing help indices
converting help for package 'msgbsR'
finding HTML links ... done
checkCuts html
cuts html
diffMeth html
msgbsR html
plotCircos html
plotCounts html
ratdata html
ratdata2 html
rawCounts html
** building package indices
** installing vignettes
** testing if installed package can be loaded from temporary location
No methods found in package 'BiocGenerics' for request: 'clusterApply' when loading 'easyRNASeq'
** testing if installed package can be loaded from final location
No methods found in package 'BiocGenerics' for request: 'clusterApply' when loading 'easyRNASeq'
** testing if installed package keeps a record of temporary installation path
install for x64
* installing *source* package 'msgbsR' ...
** testing if installed package can be loaded
No methods found in package 'BiocGenerics' for request: 'clusterApply' when loading 'easyRNASeq'
* MD5 sums
packaged installation of 'msgbsR' as msgbsR_1.18.0.zip
* DONE (msgbsR)