| Back to Multiple platform build/check report for BioC 3.14 |
|
This page was generated on 2022-04-13 12:08:22 -0400 (Wed, 13 Apr 2022).
| Hostname | OS | Arch (*) | R version | Installed pkgs |
|---|---|---|---|---|
| nebbiolo2 | Linux (Ubuntu 20.04.4 LTS) | x86_64 | 4.1.3 (2022-03-10) -- "One Push-Up" | 4324 |
| tokay2 | Windows Server 2012 R2 Standard | x64 | 4.1.3 (2022-03-10) -- "One Push-Up" | 4077 |
| machv2 | macOS 10.14.6 Mojave | x86_64 | 4.1.3 (2022-03-10) -- "One Push-Up" | 4137 |
| Click on any hostname to see more info about the system (e.g. compilers) (*) as reported by 'uname -p', except on Windows and Mac OS X | ||||
|
To the developers/maintainers of the motifcounter package: - Please allow up to 24 hours (and sometimes 48 hours) for your latest push to git@git.bioconductor.org:packages/motifcounter.git to reflect on this report. See How and When does the builder pull? When will my changes propagate? for more information. - Make sure to use the following settings in order to reproduce any error or warning you see on this page. |
| Package 1201/2083 | Hostname | OS / Arch | INSTALL | BUILD | CHECK | BUILD BIN | ||||||||
| motifcounter 1.18.0 (landing page) Wolfgang Kopp
| nebbiolo2 | Linux (Ubuntu 20.04.4 LTS) / x86_64 | OK | OK | OK | |||||||||
| tokay2 | Windows Server 2012 R2 Standard / x64 | OK | OK | OK | OK | |||||||||
| machv2 | macOS 10.14.6 Mojave / x86_64 | OK | OK | OK | OK | |||||||||
| Package: motifcounter |
| Version: 1.18.0 |
| Command: /Library/Frameworks/R.framework/Resources/bin/R CMD check --install=check:motifcounter.install-out.txt --library=/Library/Frameworks/R.framework/Resources/library --no-vignettes --timings motifcounter_1.18.0.tar.gz |
| StartedAt: 2022-04-12 15:45:04 -0400 (Tue, 12 Apr 2022) |
| EndedAt: 2022-04-12 15:50:08 -0400 (Tue, 12 Apr 2022) |
| EllapsedTime: 303.3 seconds |
| RetCode: 0 |
| Status: OK |
| CheckDir: motifcounter.Rcheck |
| Warnings: 0 |
##############################################################################
##############################################################################
###
### Running command:
###
### /Library/Frameworks/R.framework/Resources/bin/R CMD check --install=check:motifcounter.install-out.txt --library=/Library/Frameworks/R.framework/Resources/library --no-vignettes --timings motifcounter_1.18.0.tar.gz
###
##############################################################################
##############################################################################
* using log directory ‘/Users/biocbuild/bbs-3.14-bioc/meat/motifcounter.Rcheck’
* using R version 4.1.3 (2022-03-10)
* using platform: x86_64-apple-darwin17.0 (64-bit)
* using session charset: UTF-8
* using option ‘--no-vignettes’
* checking for file ‘motifcounter/DESCRIPTION’ ... OK
* checking extension type ... Package
* this is package ‘motifcounter’ version ‘1.18.0’
* checking package namespace information ... OK
* checking package dependencies ... OK
* checking if this is a source package ... OK
* checking if there is a namespace ... OK
* checking for hidden files and directories ... NOTE
Found the following hidden files and directories:
.zenodo.json
These were most likely included in error. See section ‘Package
structure’ in the ‘Writing R Extensions’ manual.
* checking for portable file names ... OK
* checking for sufficient/correct file permissions ... OK
* checking whether package ‘motifcounter’ can be installed ... OK
* checking installed package size ... OK
* checking package directory ... OK
* checking ‘build’ directory ... OK
* checking DESCRIPTION meta-information ... OK
* checking top-level files ... OK
* checking for left-over files ... OK
* checking index information ... OK
* checking package subdirectories ... OK
* checking R files for non-ASCII characters ... OK
* checking R files for syntax errors ... OK
* checking whether the package can be loaded ... OK
* checking whether the package can be loaded with stated dependencies ... OK
* checking whether the package can be unloaded cleanly ... OK
* checking whether the namespace can be loaded with stated dependencies ... OK
* checking whether the namespace can be unloaded cleanly ... OK
* checking dependencies in R code ... OK
* checking S3 generic/method consistency ... OK
* checking replacement functions ... OK
* checking foreign function calls ... OK
* checking R code for possible problems ... OK
* checking Rd files ... OK
* checking Rd metadata ... OK
* checking Rd cross-references ... OK
* checking for missing documentation entries ... OK
* checking for code/documentation mismatches ... OK
* checking Rd \usage sections ... OK
* checking Rd contents ... OK
* checking for unstated dependencies in examples ... OK
* checking line endings in C/C++/Fortran sources/headers ... OK
* checking line endings in Makefiles ... OK
* checking compilation flags in Makevars ... OK
* checking for GNU extensions in Makefiles ... OK
* checking for portable use of $(BLAS_LIBS) and $(LAPACK_LIBS) ... OK
* checking use of PKG_*FLAGS in Makefiles ... OK
* checking compiled code ... NOTE
Note: information on .o files is not available
* checking files in ‘vignettes’ ... OK
* checking examples ... OK
Examples with CPU (user + system) or elapsed time > 5s
user system elapsed
simulateClumpSizeDist 16.597 0.387 16.991
* checking for unstated dependencies in ‘tests’ ... OK
* checking tests ...
Running ‘testthat.R’
OK
* checking for unstated dependencies in vignettes ... OK
* checking package vignettes in ‘inst/doc’ ... OK
* checking running R code from vignettes ... SKIPPED
* checking re-building of vignette outputs ... SKIPPED
* checking PDF version of manual ... OK
* DONE
Status: 2 NOTEs
See
‘/Users/biocbuild/bbs-3.14-bioc/meat/motifcounter.Rcheck/00check.log’
for details.
motifcounter.Rcheck/00install.out
##############################################################################
##############################################################################
###
### Running command:
###
### /Library/Frameworks/R.framework/Resources/bin/R CMD INSTALL motifcounter
###
##############################################################################
##############################################################################
* installing to library ‘/Library/Frameworks/R.framework/Versions/4.1/Resources/library’
* installing *source* package ‘motifcounter’ ...
** using staged installation
** libs
clang -mmacosx-version-min=10.13 -I"/Library/Frameworks/R.framework/Resources/include" -DNDEBUG -I/usr/local/include -DIN_R -fPIC -Wall -g -O2 -c Rbackground.c -o Rbackground.o
clang -mmacosx-version-min=10.13 -I"/Library/Frameworks/R.framework/Resources/include" -DNDEBUG -I/usr/local/include -DIN_R -fPIC -Wall -g -O2 -c Rcombinatorial.c -o Rcombinatorial.o
clang -mmacosx-version-min=10.13 -I"/Library/Frameworks/R.framework/Resources/include" -DNDEBUG -I/usr/local/include -DIN_R -fPIC -Wall -g -O2 -c Rcompoundpoisson.c -o Rcompoundpoisson.o
clang -mmacosx-version-min=10.13 -I"/Library/Frameworks/R.framework/Resources/include" -DNDEBUG -I/usr/local/include -DIN_R -fPIC -Wall -g -O2 -c Rminmaxscore.c -o Rminmaxscore.o
clang -mmacosx-version-min=10.13 -I"/Library/Frameworks/R.framework/Resources/include" -DNDEBUG -I/usr/local/include -DIN_R -fPIC -Wall -g -O2 -c Roption.c -o Roption.o
clang -mmacosx-version-min=10.13 -I"/Library/Frameworks/R.framework/Resources/include" -DNDEBUG -I/usr/local/include -DIN_R -fPIC -Wall -g -O2 -c Roverlap.c -o Roverlap.o
clang -mmacosx-version-min=10.13 -I"/Library/Frameworks/R.framework/Resources/include" -DNDEBUG -I/usr/local/include -DIN_R -fPIC -Wall -g -O2 -c Rscore1d.c -o Rscore1d.o
clang -mmacosx-version-min=10.13 -I"/Library/Frameworks/R.framework/Resources/include" -DNDEBUG -I/usr/local/include -DIN_R -fPIC -Wall -g -O2 -c Rsequence.c -o Rsequence.o
Rsequence.c:143:21: warning: unused variable 'noscores' [-Wunused-variable]
int mins, maxs, noscores;
^
1 warning generated.
clang -mmacosx-version-min=10.13 -I"/Library/Frameworks/R.framework/Resources/include" -DNDEBUG -I/usr/local/include -DIN_R -fPIC -Wall -g -O2 -c Rsimulate.c -o Rsimulate.o
clang -mmacosx-version-min=10.13 -I"/Library/Frameworks/R.framework/Resources/include" -DNDEBUG -I/usr/local/include -DIN_R -fPIC -Wall -g -O2 -c background.c -o background.o
clang -mmacosx-version-min=10.13 -I"/Library/Frameworks/R.framework/Resources/include" -DNDEBUG -I/usr/local/include -DIN_R -fPIC -Wall -g -O2 -c combinatorial.c -o combinatorial.o
clang -mmacosx-version-min=10.13 -I"/Library/Frameworks/R.framework/Resources/include" -DNDEBUG -I/usr/local/include -DIN_R -fPIC -Wall -g -O2 -c compoundpoisson.c -o compoundpoisson.o
clang -mmacosx-version-min=10.13 -I"/Library/Frameworks/R.framework/Resources/include" -DNDEBUG -I/usr/local/include -DIN_R -fPIC -Wall -g -O2 -c markovchain.c -o markovchain.o
clang -mmacosx-version-min=10.13 -I"/Library/Frameworks/R.framework/Resources/include" -DNDEBUG -I/usr/local/include -DIN_R -fPIC -Wall -g -O2 -c markovchain_single.c -o markovchain_single.o
clang -mmacosx-version-min=10.13 -I"/Library/Frameworks/R.framework/Resources/include" -DNDEBUG -I/usr/local/include -DIN_R -fPIC -Wall -g -O2 -c matrix.c -o matrix.o
clang -mmacosx-version-min=10.13 -I"/Library/Frameworks/R.framework/Resources/include" -DNDEBUG -I/usr/local/include -DIN_R -fPIC -Wall -g -O2 -c mdist_register.c -o mdist_register.o
clang -mmacosx-version-min=10.13 -I"/Library/Frameworks/R.framework/Resources/include" -DNDEBUG -I/usr/local/include -DIN_R -fPIC -Wall -g -O2 -c minmaxscore.c -o minmaxscore.o
clang -mmacosx-version-min=10.13 -I"/Library/Frameworks/R.framework/Resources/include" -DNDEBUG -I/usr/local/include -DIN_R -fPIC -Wall -g -O2 -c overlap.c -o overlap.o
clang -mmacosx-version-min=10.13 -I"/Library/Frameworks/R.framework/Resources/include" -DNDEBUG -I/usr/local/include -DIN_R -fPIC -Wall -g -O2 -c score1d.c -o score1d.o
clang -mmacosx-version-min=10.13 -I"/Library/Frameworks/R.framework/Resources/include" -DNDEBUG -I/usr/local/include -DIN_R -fPIC -Wall -g -O2 -c score2d.c -o score2d.o
clang -mmacosx-version-min=10.13 -I"/Library/Frameworks/R.framework/Resources/include" -DNDEBUG -I/usr/local/include -DIN_R -fPIC -Wall -g -O2 -c scorefunctions.c -o scorefunctions.o
scorefunctions.c:84:22: warning: unused variable 'cindex' [-Wunused-variable]
int j, i, index, cindex, ds;
^
scorefunctions.c:119:17: warning: unused variable 'cindex' [-Wunused-variable]
int s, index, cindex;
^
scorefunctions.c:159:19: warning: unused variable 'cindex' [-Wunused-variable]
int s, index, cindex;
^
3 warnings generated.
clang -mmacosx-version-min=10.13 -I"/Library/Frameworks/R.framework/Resources/include" -DNDEBUG -I/usr/local/include -DIN_R -fPIC -Wall -g -O2 -c sequence.c -o sequence.o
clang -mmacosx-version-min=10.13 -I"/Library/Frameworks/R.framework/Resources/include" -DNDEBUG -I/usr/local/include -DIN_R -fPIC -Wall -g -O2 -c simulate.c -o simulate.o
clang -mmacosx-version-min=10.13 -dynamiclib -Wl,-headerpad_max_install_names -undefined dynamic_lookup -single_module -multiply_defined suppress -L/Library/Frameworks/R.framework/Resources/lib -L/usr/local/lib -o motifcounter.so Rbackground.o Rcombinatorial.o Rcompoundpoisson.o Rminmaxscore.o Roption.o Roverlap.o Rscore1d.o Rsequence.o Rsimulate.o background.o combinatorial.o compoundpoisson.o markovchain.o markovchain_single.o matrix.o mdist_register.o minmaxscore.o overlap.o score1d.o score2d.o scorefunctions.o sequence.o simulate.o -F/Library/Frameworks/R.framework/.. -framework R -Wl,-framework -Wl,CoreFoundation
installing to /Library/Frameworks/R.framework/Versions/4.1/Resources/library/00LOCK-motifcounter/00new/motifcounter/libs
** R
** inst
** byte-compile and prepare package for lazy loading
** help
*** installing help indices
** building package indices
** installing vignettes
** testing if installed package can be loaded from temporary location
** checking absolute paths in shared objects and dynamic libraries
** testing if installed package can be loaded from final location
** testing if installed package keeps a record of temporary installation path
* DONE (motifcounter)
motifcounter.Rcheck/tests/testthat.Rout
R version 4.1.3 (2022-03-10) -- "One Push-Up"
Copyright (C) 2022 The R Foundation for Statistical Computing
Platform: x86_64-apple-darwin17.0 (64-bit)
R is free software and comes with ABSOLUTELY NO WARRANTY.
You are welcome to redistribute it under certain conditions.
Type 'license()' or 'licence()' for distribution details.
R is a collaborative project with many contributors.
Type 'contributors()' for more information and
'citation()' on how to cite R or R packages in publications.
Type 'demo()' for some demos, 'help()' for on-line help, or
'help.start()' for an HTML browser interface to help.
Type 'q()' to quit R.
> library(testthat)
> library(motifcounter)
>
> test_check("motifcounter")
[ FAIL 0 | WARN 1 | SKIP 0 | PASS 841 ]
[ FAIL 0 | WARN 1 | SKIP 0 | PASS 841 ]
>
> proc.time()
user system elapsed
149.341 1.713 151.163
motifcounter.Rcheck/motifcounter-Ex.timings
| name | user | system | elapsed | |
| clumpSizeDist | 0.181 | 0.019 | 0.203 | |
| combinatorialDist | 0.382 | 0.022 | 0.403 | |
| compoundPoissonDist | 0.264 | 0.011 | 0.302 | |
| computeClumpStartProb | 0.198 | 0.004 | 0.203 | |
| generateDNAString | 0.129 | 0.002 | 0.131 | |
| generateDNAStringSet | 0.144 | 0.008 | 0.152 | |
| hitStrand | 0.152 | 0.018 | 0.171 | |
| lenSequences | 0.132 | 0.015 | 0.147 | |
| markovModel | 0.179 | 0.004 | 0.183 | |
| motifAndBackgroundValid | 0.134 | 0.002 | 0.136 | |
| motifEnrichment | 4.167 | 0.014 | 4.184 | |
| motifHitProfile | 0.117 | 0.003 | 0.120 | |
| motifHits | 0.139 | 0.005 | 0.143 | |
| motifValid | 0.002 | 0.001 | 0.003 | |
| motifcounter-package | 1.148 | 0.021 | 1.171 | |
| motifcounterOptions | 0 | 0 | 0 | |
| normalizeMotif | 0.002 | 0.001 | 0.003 | |
| numMotifHits | 0.828 | 0.009 | 0.838 | |
| probOverlapHit | 0.219 | 0.006 | 0.225 | |
| readBackground | 0.125 | 0.002 | 0.126 | |
| revcompMotif | 0.002 | 0.001 | 0.003 | |
| scoreDist | 0.118 | 0.002 | 0.120 | |
| scoreDistBf | 0.154 | 0.002 | 0.156 | |
| scoreDistEmpirical | 3.502 | 0.034 | 3.540 | |
| scoreHistogram | 0.219 | 0.012 | 0.231 | |
| scoreHistogramSingleSeq | 0.138 | 0.012 | 0.150 | |
| scoreProfile | 0.653 | 0.005 | 0.658 | |
| scoreSequence | 0.147 | 0.005 | 0.151 | |
| scoreStrand | 0.134 | 0.003 | 0.137 | |
| scoreThreshold | 0.133 | 0.002 | 0.135 | |
| sigLevel | 0.000 | 0.000 | 0.001 | |
| simulateClumpSizeDist | 16.597 | 0.387 | 16.991 | |
| simulateNumHitsDist | 2.933 | 0.037 | 2.971 | |