| Back to Multiple platform build/check report for BioC 3.14 |
|
This page was generated on 2022-04-13 12:06:55 -0400 (Wed, 13 Apr 2022).
| Hostname | OS | Arch (*) | R version | Installed pkgs |
|---|---|---|---|---|
| nebbiolo2 | Linux (Ubuntu 20.04.4 LTS) | x86_64 | 4.1.3 (2022-03-10) -- "One Push-Up" | 4324 |
| tokay2 | Windows Server 2012 R2 Standard | x64 | 4.1.3 (2022-03-10) -- "One Push-Up" | 4077 |
| machv2 | macOS 10.14.6 Mojave | x86_64 | 4.1.3 (2022-03-10) -- "One Push-Up" | 4137 |
| Click on any hostname to see more info about the system (e.g. compilers) (*) as reported by 'uname -p', except on Windows and Mac OS X | ||||
|
To the developers/maintainers of the monocle package: - Please allow up to 24 hours (and sometimes 48 hours) for your latest push to git@git.bioconductor.org:packages/monocle.git to reflect on this report. See How and When does the builder pull? When will my changes propagate? for more information. - Make sure to use the following settings in order to reproduce any error or warning you see on this page. |
| Package 1195/2083 | Hostname | OS / Arch | INSTALL | BUILD | CHECK | BUILD BIN | ||||||||
| monocle 2.22.0 (landing page) Cole Trapnell
| nebbiolo2 | Linux (Ubuntu 20.04.4 LTS) / x86_64 | OK | OK | WARNINGS | |||||||||
| tokay2 | Windows Server 2012 R2 Standard / x64 | OK | OK | WARNINGS | OK | |||||||||
| machv2 | macOS 10.14.6 Mojave / x86_64 | OK | OK | WARNINGS | OK | |||||||||
| Package: monocle |
| Version: 2.22.0 |
| Command: C:\cygwin\bin\curl.exe -O http://155.52.207.166/BBS/3.14/bioc/src/contrib/monocle_2.22.0.tar.gz && rm -rf monocle.buildbin-libdir && mkdir monocle.buildbin-libdir && C:\Users\biocbuild\bbs-3.14-bioc\R\bin\R.exe CMD INSTALL --merge-multiarch --build --library=monocle.buildbin-libdir monocle_2.22.0.tar.gz && C:\Users\biocbuild\bbs-3.14-bioc\R\bin\R.exe CMD INSTALL monocle_2.22.0.zip && rm monocle_2.22.0.tar.gz monocle_2.22.0.zip |
| StartedAt: 2022-04-12 05:56:04 -0400 (Tue, 12 Apr 2022) |
| EndedAt: 2022-04-12 05:58:36 -0400 (Tue, 12 Apr 2022) |
| EllapsedTime: 152.3 seconds |
| RetCode: 0 |
| Status: OK |
##############################################################################
##############################################################################
###
### Running command:
###
### C:\cygwin\bin\curl.exe -O http://155.52.207.166/BBS/3.14/bioc/src/contrib/monocle_2.22.0.tar.gz && rm -rf monocle.buildbin-libdir && mkdir monocle.buildbin-libdir && C:\Users\biocbuild\bbs-3.14-bioc\R\bin\R.exe CMD INSTALL --merge-multiarch --build --library=monocle.buildbin-libdir monocle_2.22.0.tar.gz && C:\Users\biocbuild\bbs-3.14-bioc\R\bin\R.exe CMD INSTALL monocle_2.22.0.zip && rm monocle_2.22.0.tar.gz monocle_2.22.0.zip
###
##############################################################################
##############################################################################
% Total % Received % Xferd Average Speed Time Time Time Current
Dload Upload Total Spent Left Speed
0 0 0 0 0 0 0 0 --:--:-- --:--:-- --:--:-- 0
2 9338k 2 190k 0 0 508k 0 0:00:18 --:--:-- 0:00:18 507k
14 9338k 14 1374k 0 0 997k 0 0:00:09 0:00:01 0:00:08 997k
37 9338k 37 3478k 0 0 1464k 0 0:00:06 0:00:02 0:00:04 1464k
69 9338k 69 6491k 0 0 1923k 0 0:00:04 0:00:03 0:00:01 1923k
100 9338k 100 9338k 0 0 2268k 0 0:00:04 0:00:04 --:--:-- 2269k
install for i386
* installing *source* package 'monocle' ...
** using staged installation
** libs
"C:/rtools40/mingw32/bin/"g++ -std=gnu++11 -I"C:/Users/BIOCBU~1/BBS-3~1.14-/R/include" -DNDEBUG -I'C:/Users/biocbuild/bbs-3.14-bioc/R/library/Rcpp/include' -I"C:/extsoft/include" -O2 -Wall -mfpmath=sse -msse2 -mstackrealign -c RcppExports.cpp -o RcppExports.o
"C:/rtools40/mingw32/bin/"g++ -std=gnu++11 -I"C:/Users/BIOCBU~1/BBS-3~1.14-/R/include" -DNDEBUG -I'C:/Users/biocbuild/bbs-3.14-bioc/R/library/Rcpp/include' -I"C:/extsoft/include" -O2 -Wall -mfpmath=sse -msse2 -mstackrealign -c clustering.cpp -o clustering.o
C:/rtools40/mingw32/bin/g++ -std=gnu++11 -shared -s -static-libgcc -o monocle.dll tmp.def RcppExports.o clustering.o -LC:/extsoft/lib/i386 -LC:/extsoft/lib -LC:/Users/BIOCBU~1/BBS-3~1.14-/R/bin/i386 -lR
installing to C:/Users/biocbuild/bbs-3.14-bioc/meat/monocle.buildbin-libdir/00LOCK-monocle/00new/monocle/libs/i386
** R
** data
*** moving datasets to lazyload DB
** inst
** byte-compile and prepare package for lazy loading
** help
*** installing help indices
converting help for package 'monocle'
finding HTML links ... done
BEAM html
CellDataSet-methods html
CellDataSet html
CellType html
CellTypeHierarchy html
addCellType html
branchTest html
buildBranchCellDataSet html
calABCs html
calILRs html
calibrate_per_cell_total_proposal html
cellPairwiseDistances-set html
cellPairwiseDistances html
clusterCells html
finding level-2 HTML links ... done
clusterGenes html
compareModels html
detectBifurcationPoint html
detectGenes html
diff_test_helper html
differentialGeneTest html
dispersionTable html
estimateDispersionsForCellDataSet html
estimateSizeFactorsForMatrix html
estimate_t html
exportCDS html
extract_good_branched_ordering html
fitModel html
fit_model_helper html
genSmoothCurveResiduals html
genSmoothCurves html
get_classic_muscle_markers html
importCDS html
load_HSMM html
load_HSMM_markers html
load_lung html
markerDiffTable html
mcesApply html
minSpanningTree-set html
minSpanningTree html
newCellDataSet html
newCellTypeHierarchy html
orderCells html
order_p_node html
package-deprecated html
plot_cell_clusters html
plot_cell_trajectory html
plot_clusters html
plot_coexpression_matrix html
plot_complex_cell_trajectory html
plot_genes_branched_heatmap html
plot_genes_branched_pseudotime html
plot_genes_in_pseudotime html
plot_genes_jitter html
plot_genes_positive_cells html
plot_genes_violin html
plot_multiple_branches_heatmap html
plot_multiple_branches_pseudotime html
plot_ordering_genes html
plot_pc_variance_explained html
plot_pseudotime_heatmap html
plot_rho_delta html
pq_helper html
reduceDimension html
reducedDimA-set html
reducedDimA html
reducedDimK-set html
reducedDimK html
reducedDimS-set html
reducedDimS html
reducedDimW-set html
reducedDimW html
relative2abs html
residualMatrix html
responseMatrix html
selectTopMarkers html
setOrderingFilter html
spike_df html
vstExprs html
** building package indices
** installing vignettes
** testing if installed package can be loaded from temporary location
** testing if installed package can be loaded from final location
** testing if installed package keeps a record of temporary installation path
install for x64
* installing *source* package 'monocle' ...
** libs
"C:/rtools40/mingw64/bin/"g++ -std=gnu++11 -I"C:/Users/BIOCBU~1/BBS-3~1.14-/R/include" -DNDEBUG -I'C:/Users/biocbuild/bbs-3.14-bioc/R/library/Rcpp/include' -I"C:/extsoft/include" -O2 -Wall -mfpmath=sse -msse2 -mstackrealign -c RcppExports.cpp -o RcppExports.o
"C:/rtools40/mingw64/bin/"g++ -std=gnu++11 -I"C:/Users/BIOCBU~1/BBS-3~1.14-/R/include" -DNDEBUG -I'C:/Users/biocbuild/bbs-3.14-bioc/R/library/Rcpp/include' -I"C:/extsoft/include" -O2 -Wall -mfpmath=sse -msse2 -mstackrealign -c clustering.cpp -o clustering.o
C:/rtools40/mingw64/bin/g++ -std=gnu++11 -shared -s -static-libgcc -o monocle.dll tmp.def RcppExports.o clustering.o -LC:/extsoft/lib/x64 -LC:/extsoft/lib -LC:/Users/BIOCBU~1/BBS-3~1.14-/R/bin/x64 -lR
installing to C:/Users/biocbuild/bbs-3.14-bioc/meat/monocle.buildbin-libdir/monocle/libs/x64
** testing if installed package can be loaded
* MD5 sums
packaged installation of 'monocle' as monocle_2.22.0.zip
* DONE (monocle)
* installing to library 'C:/Users/biocbuild/bbs-3.14-bioc/R/library'
package 'monocle' successfully unpacked and MD5 sums checked