| Back to Multiple platform build/check report for BioC 3.14 |
|
This page was generated on 2022-04-13 12:05:38 -0400 (Wed, 13 Apr 2022).
| Hostname | OS | Arch (*) | R version | Installed pkgs |
|---|---|---|---|---|
| nebbiolo2 | Linux (Ubuntu 20.04.4 LTS) | x86_64 | 4.1.3 (2022-03-10) -- "One Push-Up" | 4324 |
| tokay2 | Windows Server 2012 R2 Standard | x64 | 4.1.3 (2022-03-10) -- "One Push-Up" | 4077 |
| machv2 | macOS 10.14.6 Mojave | x86_64 | 4.1.3 (2022-03-10) -- "One Push-Up" | 4137 |
| Click on any hostname to see more info about the system (e.g. compilers) (*) as reported by 'uname -p', except on Windows and Mac OS X | ||||
|
To the developers/maintainers of the monaLisa package: - Please allow up to 24 hours (and sometimes 48 hours) for your latest push to git@git.bioconductor.org:packages/monaLisa.git to reflect on this report. See How and When does the builder pull? When will my changes propagate? for more information. - Make sure to use the following settings in order to reproduce any error or warning you see on this page. |
| Package 1194/2083 | Hostname | OS / Arch | INSTALL | BUILD | CHECK | BUILD BIN | ||||||||
| monaLisa 1.0.0 (landing page) Michael Stadler
| nebbiolo2 | Linux (Ubuntu 20.04.4 LTS) / x86_64 | OK | OK | OK | |||||||||
| tokay2 | Windows Server 2012 R2 Standard / x64 | OK | OK | OK | OK | |||||||||
| machv2 | macOS 10.14.6 Mojave / x86_64 | OK | OK | OK | OK | |||||||||
| Package: monaLisa |
| Version: 1.0.0 |
| Command: /home/biocbuild/bbs-3.14-bioc/R/bin/R CMD check --install=check:monaLisa.install-out.txt --library=/home/biocbuild/bbs-3.14-bioc/R/library --no-vignettes --timings monaLisa_1.0.0.tar.gz |
| StartedAt: 2022-04-12 08:19:19 -0400 (Tue, 12 Apr 2022) |
| EndedAt: 2022-04-12 08:23:56 -0400 (Tue, 12 Apr 2022) |
| EllapsedTime: 276.4 seconds |
| RetCode: 0 |
| Status: OK |
| CheckDir: monaLisa.Rcheck |
| Warnings: 0 |
############################################################################## ############################################################################## ### ### Running command: ### ### /home/biocbuild/bbs-3.14-bioc/R/bin/R CMD check --install=check:monaLisa.install-out.txt --library=/home/biocbuild/bbs-3.14-bioc/R/library --no-vignettes --timings monaLisa_1.0.0.tar.gz ### ############################################################################## ############################################################################## * using log directory ‘/home/biocbuild/bbs-3.14-bioc/meat/monaLisa.Rcheck’ * using R version 4.1.3 (2022-03-10) * using platform: x86_64-pc-linux-gnu (64-bit) * using session charset: UTF-8 * using option ‘--no-vignettes’ * checking for file ‘monaLisa/DESCRIPTION’ ... OK * checking extension type ... Package * this is package ‘monaLisa’ version ‘1.0.0’ * package encoding: UTF-8 * checking package namespace information ... OK * checking package dependencies ... OK * checking if this is a source package ... OK * checking if there is a namespace ... OK * checking for hidden files and directories ... OK * checking for portable file names ... OK * checking for sufficient/correct file permissions ... OK * checking whether package ‘monaLisa’ can be installed ... OK * checking installed package size ... OK * checking package directory ... OK * checking ‘build’ directory ... OK * checking DESCRIPTION meta-information ... OK * checking top-level files ... OK * checking for left-over files ... OK * checking index information ... OK * checking package subdirectories ... OK * checking R files for non-ASCII characters ... OK * checking R files for syntax errors ... OK * checking whether the package can be loaded ... OK * checking whether the package can be loaded with stated dependencies ... OK * checking whether the package can be unloaded cleanly ... OK * checking whether the namespace can be loaded with stated dependencies ... OK * checking whether the namespace can be unloaded cleanly ... OK * checking dependencies in R code ... OK * checking S3 generic/method consistency ... OK * checking replacement functions ... OK * checking foreign function calls ... OK * checking R code for possible problems ... OK * checking Rd files ... OK * checking Rd metadata ... OK * checking Rd cross-references ... OK * checking for missing documentation entries ... OK * checking for code/documentation mismatches ... OK * checking Rd \usage sections ... OK * checking Rd contents ... OK * checking for unstated dependencies in examples ... OK * checking files in ‘vignettes’ ... OK * checking examples ... OK * checking for unstated dependencies in ‘tests’ ... OK * checking tests ... Running ‘testthat.R’ OK * checking for unstated dependencies in vignettes ... OK * checking package vignettes in ‘inst/doc’ ... OK * checking running R code from vignettes ... SKIPPED * checking re-building of vignette outputs ... SKIPPED * checking PDF version of manual ... OK * DONE Status: OK
monaLisa.Rcheck/00install.out
############################################################################## ############################################################################## ### ### Running command: ### ### /home/biocbuild/bbs-3.14-bioc/R/bin/R CMD INSTALL monaLisa ### ############################################################################## ############################################################################## * installing to library ‘/home/biocbuild/bbs-3.14-bioc/R/library’ * installing *source* package ‘monaLisa’ ... ** using staged installation ** R ** inst ** byte-compile and prepare package for lazy loading ** help *** installing help indices *** copying figures ** building package indices ** installing vignettes ** testing if installed package can be loaded from temporary location ** testing if installed package can be loaded from final location ** testing if installed package keeps a record of temporary installation path * DONE (monaLisa)
monaLisa.Rcheck/tests/testthat.Rout
R version 4.1.3 (2022-03-10) -- "One Push-Up"
Copyright (C) 2022 The R Foundation for Statistical Computing
Platform: x86_64-pc-linux-gnu (64-bit)
R is free software and comes with ABSOLUTELY NO WARRANTY.
You are welcome to redistribute it under certain conditions.
Type 'license()' or 'licence()' for distribution details.
R is a collaborative project with many contributors.
Type 'contributors()' for more information and
'citation()' on how to cite R or R packages in publications.
Type 'demo()' for some demos, 'help()' for on-line help, or
'help.start()' for an HTML browser interface to help.
Type 'q()' to quit R.
> library(testthat)
> library(monaLisa)
>
> test_check("monaLisa")
[ FAIL 0 | WARN 0 | SKIP 1 | PASS 534 ]
══ Skipped tests ═══════════════════════════════════════════════════════════════
• empty test (1)
[ FAIL 0 | WARN 0 | SKIP 1 | PASS 534 ]
>
> proc.time()
user system elapsed
37.691 3.598 39.289
monaLisa.Rcheck/monaLisa-Ex.timings
| name | user | system | elapsed | |
| annoSeqlogo | 0.142 | 0.004 | 0.146 | |
| bin | 0.006 | 0.000 | 0.006 | |
| calcBinnedKmerEnr | 0.657 | 0.068 | 0.725 | |
| calcBinnedMotifEnrHomer | 0.004 | 0.000 | 0.004 | |
| calcBinnedMotifEnrR | 0.698 | 0.068 | 0.766 | |
| dumpJaspar | 0.025 | 0.000 | 0.025 | |
| findHomer | 0.003 | 0.000 | 0.003 | |
| findMotifHits-methods | 0.279 | 0.016 | 0.295 | |
| getColsByBin | 0.003 | 0.000 | 0.003 | |
| getKmerFreq | 0.027 | 0.000 | 0.027 | |
| getSetZeroBin | 0.002 | 0.000 | 0.002 | |
| homerToPFMatrixList | 0.040 | 0.004 | 0.044 | |
| motifKmerSimilarity | 0.013 | 0.000 | 0.013 | |
| motifSimilarity | 0.007 | 0.000 | 0.006 | |
| parseHomerOutput | 0.009 | 0.000 | 0.009 | |
| plotBinDensity | 0.014 | 0.000 | 0.014 | |
| plotBinDiagnostics | 0.545 | 0.008 | 0.553 | |
| plotBinHist | 0.006 | 0.000 | 0.007 | |
| plotBinScatter | 0.005 | 0.000 | 0.005 | |
| plotMotifHeatmaps | 4.461 | 0.136 | 4.597 | |
| plotSelectionProb | 0.783 | 0.024 | 0.807 | |
| plotStabilityPaths | 0.553 | 0.000 | 0.554 | |
| prepareHomer | 0.051 | 0.000 | 0.052 | |
| randLassoStabSel | 1.168 | 0.353 | 1.047 | |
| sampleRandomRegions | 0.059 | 0.012 | 0.071 | |
| seqLogoGrob | 0.182 | 0.020 | 0.201 | |