| Back to Multiple platform build/check report for BioC 3.14 |
|
This page was generated on 2022-04-13 12:06:55 -0400 (Wed, 13 Apr 2022).
| Hostname | OS | Arch (*) | R version | Installed pkgs |
|---|---|---|---|---|
| nebbiolo2 | Linux (Ubuntu 20.04.4 LTS) | x86_64 | 4.1.3 (2022-03-10) -- "One Push-Up" | 4324 |
| tokay2 | Windows Server 2012 R2 Standard | x64 | 4.1.3 (2022-03-10) -- "One Push-Up" | 4077 |
| machv2 | macOS 10.14.6 Mojave | x86_64 | 4.1.3 (2022-03-10) -- "One Push-Up" | 4137 |
| Click on any hostname to see more info about the system (e.g. compilers) (*) as reported by 'uname -p', except on Windows and Mac OS X | ||||
|
To the developers/maintainers of the moanin package: - Please allow up to 24 hours (and sometimes 48 hours) for your latest push to git@git.bioconductor.org:packages/moanin.git to reflect on this report. See How and When does the builder pull? When will my changes propagate? for more information. - Make sure to use the following settings in order to reproduce any error or warning you see on this page. |
| Package 1186/2083 | Hostname | OS / Arch | INSTALL | BUILD | CHECK | BUILD BIN | ||||||||
| moanin 1.2.0 (landing page) Nelle Varoquaux
| nebbiolo2 | Linux (Ubuntu 20.04.4 LTS) / x86_64 | OK | OK | OK | |||||||||
| tokay2 | Windows Server 2012 R2 Standard / x64 | OK | OK | OK | OK | |||||||||
| machv2 | macOS 10.14.6 Mojave / x86_64 | OK | OK | OK | OK | |||||||||
| Package: moanin |
| Version: 1.2.0 |
| Command: rm -rf moanin.buildbin-libdir && mkdir moanin.buildbin-libdir && C:\Users\biocbuild\bbs-3.14-bioc\R\bin\R.exe CMD INSTALL --merge-multiarch --build --library=moanin.buildbin-libdir moanin_1.2.0.tar.gz |
| StartedAt: 2022-04-13 06:37:54 -0400 (Wed, 13 Apr 2022) |
| EndedAt: 2022-04-13 06:38:53 -0400 (Wed, 13 Apr 2022) |
| EllapsedTime: 58.3 seconds |
| RetCode: 0 |
| Status: OK |
| PackageFile: moanin_1.2.0.zip |
| PackageFileSize: 1007 KiB |
##############################################################################
##############################################################################
###
### Running command:
###
### rm -rf moanin.buildbin-libdir && mkdir moanin.buildbin-libdir && C:\Users\biocbuild\bbs-3.14-bioc\R\bin\R.exe CMD INSTALL --merge-multiarch --build --library=moanin.buildbin-libdir moanin_1.2.0.tar.gz
###
##############################################################################
##############################################################################
install for i386
* installing *source* package 'moanin' ...
** using staged installation
** R
** data
** inst
** byte-compile and prepare package for lazy loading
groupGOTerms: GOBPTerm, GOMFTerm, GOCCTerm environments built.
** help
*** installing help indices
converting help for package 'moanin'
finding HTML links ... done
DE_timecourse html
DE_timepoints html
Moanin-class html
finding level-2 HTML links ... done
Moanin-methods html
consensus_matrix html
create_meta_prediction html
discont_basis html
estimate_log_fold_change html
exampleData html
expression_filtering html
find_enriched_go_terms html
fit_predict_splines html
fit_splines html
get_auc_similarity_scores html
internal html
perWeek_barplot html
plot_splines_data html
pvalues_fisher_method html
rescale_values html
splines_kmeans html
splines_kmeans_score_and_label html
** building package indices
** installing vignettes
** testing if installed package can be loaded from temporary location
groupGOTerms: GOBPTerm, GOMFTerm, GOCCTerm environments built.
** testing if installed package can be loaded from final location
groupGOTerms: GOBPTerm, GOMFTerm, GOCCTerm environments built.
** testing if installed package keeps a record of temporary installation path
install for x64
* installing *source* package 'moanin' ...
** testing if installed package can be loaded
groupGOTerms: GOBPTerm, GOMFTerm, GOCCTerm environments built.
* MD5 sums
packaged installation of 'moanin' as moanin_1.2.0.zip
* DONE (moanin)