| Back to Multiple platform build/check report for BioC 3.14 |
|
This page was generated on 2022-04-13 12:06:54 -0400 (Wed, 13 Apr 2022).
| Hostname | OS | Arch (*) | R version | Installed pkgs |
|---|---|---|---|---|
| nebbiolo2 | Linux (Ubuntu 20.04.4 LTS) | x86_64 | 4.1.3 (2022-03-10) -- "One Push-Up" | 4324 |
| tokay2 | Windows Server 2012 R2 Standard | x64 | 4.1.3 (2022-03-10) -- "One Push-Up" | 4077 |
| machv2 | macOS 10.14.6 Mojave | x86_64 | 4.1.3 (2022-03-10) -- "One Push-Up" | 4137 |
| Click on any hostname to see more info about the system (e.g. compilers) (*) as reported by 'uname -p', except on Windows and Mac OS X | ||||
|
To the developers/maintainers of the miloR package: - Please allow up to 24 hours (and sometimes 48 hours) for your latest push to git@git.bioconductor.org:packages/miloR.git to reflect on this report. See How and When does the builder pull? When will my changes propagate? for more information. - Make sure to use the following settings in order to reproduce any error or warning you see on this page. |
| Package 1150/2083 | Hostname | OS / Arch | INSTALL | BUILD | CHECK | BUILD BIN | ||||||||
| miloR 1.2.0 (landing page) Mike Morgan
| nebbiolo2 | Linux (Ubuntu 20.04.4 LTS) / x86_64 | OK | OK | OK | |||||||||
| tokay2 | Windows Server 2012 R2 Standard / x64 | OK | ERROR | skipped | skipped | |||||||||
| machv2 | macOS 10.14.6 Mojave / x86_64 | OK | OK | OK | OK | |||||||||
| Package: miloR |
| Version: 1.2.0 |
| Command: C:\cygwin\bin\curl.exe -O http://155.52.207.166/BBS/3.14/bioc/src/contrib/miloR_1.2.0.tar.gz && rm -rf miloR.buildbin-libdir && mkdir miloR.buildbin-libdir && C:\Users\biocbuild\bbs-3.14-bioc\R\bin\R.exe CMD INSTALL --merge-multiarch --build --library=miloR.buildbin-libdir miloR_1.2.0.tar.gz && C:\Users\biocbuild\bbs-3.14-bioc\R\bin\R.exe CMD INSTALL miloR_1.2.0.zip && rm miloR_1.2.0.tar.gz miloR_1.2.0.zip |
| StartedAt: 2022-04-12 06:04:47 -0400 (Tue, 12 Apr 2022) |
| EndedAt: 2022-04-12 06:06:17 -0400 (Tue, 12 Apr 2022) |
| EllapsedTime: 90.5 seconds |
| RetCode: 0 |
| Status: OK |
##############################################################################
##############################################################################
###
### Running command:
###
### C:\cygwin\bin\curl.exe -O http://155.52.207.166/BBS/3.14/bioc/src/contrib/miloR_1.2.0.tar.gz && rm -rf miloR.buildbin-libdir && mkdir miloR.buildbin-libdir && C:\Users\biocbuild\bbs-3.14-bioc\R\bin\R.exe CMD INSTALL --merge-multiarch --build --library=miloR.buildbin-libdir miloR_1.2.0.tar.gz && C:\Users\biocbuild\bbs-3.14-bioc\R\bin\R.exe CMD INSTALL miloR_1.2.0.zip && rm miloR_1.2.0.tar.gz miloR_1.2.0.zip
###
##############################################################################
##############################################################################
% Total % Received % Xferd Average Speed Time Time Time Current
Dload Upload Total Spent Left Speed
0 0 0 0 0 0 0 0 --:--:-- --:--:-- --:--:-- 0
13 5825k 13 773k 0 0 867k 0 0:00:06 --:--:-- 0:00:06 867k
44 5825k 44 2564k 0 0 1357k 0 0:00:04 0:00:01 0:00:03 1357k
90 5825k 90 5260k 0 0 1823k 0 0:00:03 0:00:02 0:00:01 1823k
100 5825k 100 5825k 0 0 1918k 0 0:00:03 0:00:03 --:--:-- 1918k
install for i386
* installing *source* package 'miloR' ...
** using staged installation
** R
** data
** byte-compile and prepare package for lazy loading
Creating a new generic function for 'graph' in package 'miloR'
** help
*** installing help indices
converting help for package 'miloR'
finding HTML links ... done
Milo html
finding level-2 HTML links ... done
annotateNhoods html
buildFromAdjacency html
buildGraph html
buildNhoodGraph html
calcNhoodDistance html
calcNhoodExpression html
countCells html
findNhoodGroupMarkers html
findNhoodMarkers html
graphSpatialFDR html
groupNhoods html
makeNhoods html
matrixORMatrix-class html
methods html
miloR-package html
plotDAbeeswarm html
plotNhoodExpressionDA html
plotNhoodGraph html
plotNhoodGraphDA html
plotNhoodMA html
plotNhoodSizeHist html
sim_discrete html
sim_trajectory html
testDiffExp html
testNhoods html
** building package indices
** installing vignettes
** testing if installed package can be loaded from temporary location
** testing if installed package can be loaded from final location
** testing if installed package keeps a record of temporary installation path
install for x64
* installing *source* package 'miloR' ...
** testing if installed package can be loaded
* MD5 sums
packaged installation of 'miloR' as miloR_1.2.0.zip
* DONE (miloR)
* installing to library 'C:/Users/biocbuild/bbs-3.14-bioc/R/library'
package 'miloR' successfully unpacked and MD5 sums checked