| Back to Multiple platform build/check report for BioC 3.14 |
|
This page was generated on 2022-04-13 12:06:53 -0400 (Wed, 13 Apr 2022).
| Hostname | OS | Arch (*) | R version | Installed pkgs |
|---|---|---|---|---|
| nebbiolo2 | Linux (Ubuntu 20.04.4 LTS) | x86_64 | 4.1.3 (2022-03-10) -- "One Push-Up" | 4324 |
| tokay2 | Windows Server 2012 R2 Standard | x64 | 4.1.3 (2022-03-10) -- "One Push-Up" | 4077 |
| machv2 | macOS 10.14.6 Mojave | x86_64 | 4.1.3 (2022-03-10) -- "One Push-Up" | 4137 |
| Click on any hostname to see more info about the system (e.g. compilers) (*) as reported by 'uname -p', except on Windows and Mac OS X | ||||
|
To the developers/maintainers of the mia package: - Please allow up to 24 hours (and sometimes 48 hours) for your latest push to git@git.bioconductor.org:packages/mia.git to reflect on this report. See How and When does the builder pull? When will my changes propagate? for more information. - Make sure to use the following settings in order to reproduce any error or warning you see on this page. |
| Package 1137/2083 | Hostname | OS / Arch | INSTALL | BUILD | CHECK | BUILD BIN | ||||||||
| mia 1.2.7 (landing page) Felix G.M. Ernst
| nebbiolo2 | Linux (Ubuntu 20.04.4 LTS) / x86_64 | OK | OK | OK | |||||||||
| tokay2 | Windows Server 2012 R2 Standard / x64 | OK | OK | OK | OK | |||||||||
| machv2 | macOS 10.14.6 Mojave / x86_64 | OK | OK | OK | OK | |||||||||
| Package: mia |
| Version: 1.2.7 |
| Command: rm -rf mia.buildbin-libdir && mkdir mia.buildbin-libdir && C:\Users\biocbuild\bbs-3.14-bioc\R\bin\R.exe CMD INSTALL --merge-multiarch --build --library=mia.buildbin-libdir mia_1.2.7.tar.gz |
| StartedAt: 2022-04-13 06:35:51 -0400 (Wed, 13 Apr 2022) |
| EndedAt: 2022-04-13 06:37:05 -0400 (Wed, 13 Apr 2022) |
| EllapsedTime: 74.3 seconds |
| RetCode: 0 |
| Status: OK |
| PackageFile: mia_1.2.7.zip |
| PackageFileSize: 2.242 MiB |
##############################################################################
##############################################################################
###
### Running command:
###
### rm -rf mia.buildbin-libdir && mkdir mia.buildbin-libdir && C:\Users\biocbuild\bbs-3.14-bioc\R\bin\R.exe CMD INSTALL --merge-multiarch --build --library=mia.buildbin-libdir mia_1.2.7.tar.gz
###
##############################################################################
##############################################################################
install for i386
* installing *source* package 'mia' ...
** using staged installation
** R
** data
** inst
** byte-compile and prepare package for lazy loading
** help
*** installing help indices
converting help for package 'mia'
finding HTML links ... done
agglomerate-methods html
calculateDMN html
calculateDistance html
calculateJSD html
calculateUniFrac html
estimateDivergence html
finding level-2 HTML links ... done
estimateDiversity html
estimateDominance html
estimateEvenness html
estimateRichness html
getAbundance html
getExperimentCrossCorrelation html
getPrevalence html
isContaminant html
loadFromMothur html
loadFromQIIME2 html
makePhyloseqFromTreeSummarizedExperiment
html
makeSummarizedExperimentFromBiom html
makeTreeSummarizedExperimentFromDADA2 html
makeTreeSummarizedExperimentFromPhyloseq
html
meltAssay html
merge-methods html
mia-datasets html
mia-package html
perSampleDominantTaxa html
relabundance html
runCCA html
runDPCoA html
runNMDS html
splitByRanks html
subsetSamples html
summaries html
taxonomy-methods html
transformCounts html
** building package indices
** installing vignettes
** testing if installed package can be loaded from temporary location
** testing if installed package can be loaded from final location
** testing if installed package keeps a record of temporary installation path
install for x64
* installing *source* package 'mia' ...
** testing if installed package can be loaded
* MD5 sums
packaged installation of 'mia' as mia_1.2.7.zip
* DONE (mia)