| Back to Multiple platform build/check report for BioC 3.14 |
|
This page was generated on 2022-04-13 12:06:54 -0400 (Wed, 13 Apr 2022).
| Hostname | OS | Arch (*) | R version | Installed pkgs |
|---|---|---|---|---|
| nebbiolo2 | Linux (Ubuntu 20.04.4 LTS) | x86_64 | 4.1.3 (2022-03-10) -- "One Push-Up" | 4324 |
| tokay2 | Windows Server 2012 R2 Standard | x64 | 4.1.3 (2022-03-10) -- "One Push-Up" | 4077 |
| machv2 | macOS 10.14.6 Mojave | x86_64 | 4.1.3 (2022-03-10) -- "One Push-Up" | 4137 |
| Click on any hostname to see more info about the system (e.g. compilers) (*) as reported by 'uname -p', except on Windows and Mac OS X | ||||
|
To the developers/maintainers of the miRSM package: - Please allow up to 24 hours (and sometimes 48 hours) for your latest push to git@git.bioconductor.org:packages/miRSM.git to reflect on this report. See How and When does the builder pull? When will my changes propagate? for more information. - Make sure to use the following settings in order to reproduce any error or warning you see on this page. |
| Package 1170/2083 | Hostname | OS / Arch | INSTALL | BUILD | CHECK | BUILD BIN | ||||||||
| miRSM 1.12.0 (landing page) Junpeng Zhang
| nebbiolo2 | Linux (Ubuntu 20.04.4 LTS) / x86_64 | OK | OK | OK | |||||||||
| tokay2 | Windows Server 2012 R2 Standard / x64 | OK | OK | OK | OK | |||||||||
| machv2 | macOS 10.14.6 Mojave / x86_64 | OK | OK | OK | OK | |||||||||
| Package: miRSM |
| Version: 1.12.0 |
| Command: rm -rf miRSM.buildbin-libdir && mkdir miRSM.buildbin-libdir && C:\Users\biocbuild\bbs-3.14-bioc\R\bin\R.exe --arch x64 CMD INSTALL --no-multiarch --build --library=miRSM.buildbin-libdir miRSM_1.12.0.tar.gz |
| StartedAt: 2022-04-13 06:37:18 -0400 (Wed, 13 Apr 2022) |
| EndedAt: 2022-04-13 06:38:16 -0400 (Wed, 13 Apr 2022) |
| EllapsedTime: 57.8 seconds |
| RetCode: 0 |
| Status: OK |
| PackageFile: miRSM_1.12.0.zip |
| PackageFileSize: 1013 KiB |
##############################################################################
##############################################################################
###
### Running command:
###
### rm -rf miRSM.buildbin-libdir && mkdir miRSM.buildbin-libdir && C:\Users\biocbuild\bbs-3.14-bioc\R\bin\R.exe --arch x64 CMD INSTALL --no-multiarch --build --library=miRSM.buildbin-libdir miRSM_1.12.0.tar.gz
###
##############################################################################
##############################################################################
* installing *source* package 'miRSM' ...
** using staged installation
** libs
"C:/rtools40/mingw64/bin/"gcc -I"C:/Users/biocbuild/bbs-3.14-bioc/R/include" -DNDEBUG -I"C:/extsoft/include" -O2 -Wall -std=gnu99 -mfpmath=sse -msse2 -mstackrealign -c complex.c -o complex.o
"C:/rtools40/mingw64/bin/"gcc -I"C:/Users/biocbuild/bbs-3.14-bioc/R/include" -DNDEBUG -I"C:/extsoft/include" -O2 -Wall -std=gnu99 -mfpmath=sse -msse2 -mstackrealign -c registerDynamicSymbol.c -o registerDynamicSymbol.o
C:/rtools40/mingw64/bin/gcc -shared -s -static-libgcc -o miRSM.dll tmp.def complex.o registerDynamicSymbol.o -LC:/extsoft/lib/x64 -LC:/extsoft/lib -LC:/Users/biocbuild/bbs-3.14-bioc/R/bin/x64 -lR
installing to C:/Users/biocbuild/bbs-3.14-bioc/meat/miRSM.buildbin-libdir/00LOCK-miRSM/00new/miRSM/libs/x64
** R
** data
** inst
** byte-compile and prepare package for lazy loading
** help
*** installing help indices
converting help for package 'miRSM'
finding HTML links ... done
BRCA_genes html
ceRExp html
cor_binary html
mRExp html
miRExp html
miRSM html
miRTarget html
module_CEA html
module_Coexpress html
module_FA html
module_GFA html
module_NMF html
module_ProNet html
module_Validate html
module_WGCNA html
module_biclust html
module_clust html
module_igraph html
module_miRdistribute html
module_miRsponge html
module_miRtarget html
share_miRs html
** building package indices
** installing vignettes
** testing if installed package can be loaded from temporary location
** testing if installed package can be loaded from final location
** testing if installed package keeps a record of temporary installation path
* MD5 sums
packaged installation of 'miRSM' as miRSM_1.12.0.zip
* DONE (miRSM)