| Back to Multiple platform build/check report for BioC 3.14 |
|
This page was generated on 2022-04-13 12:08:19 -0400 (Wed, 13 Apr 2022).
| Hostname | OS | Arch (*) | R version | Installed pkgs |
|---|---|---|---|---|
| nebbiolo2 | Linux (Ubuntu 20.04.4 LTS) | x86_64 | 4.1.3 (2022-03-10) -- "One Push-Up" | 4324 |
| tokay2 | Windows Server 2012 R2 Standard | x64 | 4.1.3 (2022-03-10) -- "One Push-Up" | 4077 |
| machv2 | macOS 10.14.6 Mojave | x86_64 | 4.1.3 (2022-03-10) -- "One Push-Up" | 4137 |
| Click on any hostname to see more info about the system (e.g. compilers) (*) as reported by 'uname -p', except on Windows and Mac OS X | ||||
|
To the developers/maintainers of the methylMnM package: - Please allow up to 24 hours (and sometimes 48 hours) for your latest push to git@git.bioconductor.org:packages/methylMnM.git to reflect on this report. See How and When does the builder pull? When will my changes propagate? for more information. - Make sure to use the following settings in order to reproduce any error or warning you see on this page. |
| Package 1124/2083 | Hostname | OS / Arch | INSTALL | BUILD | CHECK | BUILD BIN | ||||||||
| methylMnM 1.32.0 (landing page) Yan Zhou
| nebbiolo2 | Linux (Ubuntu 20.04.4 LTS) / x86_64 | OK | OK | OK | |||||||||
| tokay2 | Windows Server 2012 R2 Standard / x64 | OK | OK | OK | OK | |||||||||
| machv2 | macOS 10.14.6 Mojave / x86_64 | OK | OK | OK | OK | |||||||||
| Package: methylMnM |
| Version: 1.32.0 |
| Command: /Library/Frameworks/R.framework/Resources/bin/R CMD check --install=check:methylMnM.install-out.txt --library=/Library/Frameworks/R.framework/Resources/library --no-vignettes --timings methylMnM_1.32.0.tar.gz |
| StartedAt: 2022-04-12 15:20:19 -0400 (Tue, 12 Apr 2022) |
| EndedAt: 2022-04-12 15:21:18 -0400 (Tue, 12 Apr 2022) |
| EllapsedTime: 58.9 seconds |
| RetCode: 0 |
| Status: OK |
| CheckDir: methylMnM.Rcheck |
| Warnings: 0 |
##############################################################################
##############################################################################
###
### Running command:
###
### /Library/Frameworks/R.framework/Resources/bin/R CMD check --install=check:methylMnM.install-out.txt --library=/Library/Frameworks/R.framework/Resources/library --no-vignettes --timings methylMnM_1.32.0.tar.gz
###
##############################################################################
##############################################################################
* using log directory ‘/Users/biocbuild/bbs-3.14-bioc/meat/methylMnM.Rcheck’
* using R version 4.1.3 (2022-03-10)
* using platform: x86_64-apple-darwin17.0 (64-bit)
* using session charset: UTF-8
* using option ‘--no-vignettes’
* checking for file ‘methylMnM/DESCRIPTION’ ... OK
* checking extension type ... Package
* this is package ‘methylMnM’ version ‘1.32.0’
* checking package namespace information ... OK
* checking package dependencies ... OK
* checking if this is a source package ... OK
* checking if there is a namespace ... OK
* checking for hidden files and directories ... OK
* checking for portable file names ... OK
* checking for sufficient/correct file permissions ... OK
* checking whether package ‘methylMnM’ can be installed ... OK
* checking installed package size ... NOTE
installed size is 47.6Mb
sub-directories of 1Mb or more:
extdata 47.4Mb
* checking package directory ... OK
* checking ‘build’ directory ... OK
* checking DESCRIPTION meta-information ... OK
* checking top-level files ... OK
* checking for left-over files ... OK
* checking index information ... OK
* checking package subdirectories ... OK
* checking R files for non-ASCII characters ... OK
* checking R files for syntax errors ... OK
* checking whether the package can be loaded ... OK
* checking whether the package can be loaded with stated dependencies ... OK
* checking whether the package can be unloaded cleanly ... OK
* checking whether the namespace can be loaded with stated dependencies ... OK
* checking whether the namespace can be unloaded cleanly ... OK
* checking dependencies in R code ... NOTE
'library' or 'require' calls to packages already attached by Depends:
‘edgeR’ ‘statmod’
Please remove these calls from your code.
Packages in Depends field not imported from:
‘edgeR’ ‘statmod’
These packages need to be imported from (in the NAMESPACE file)
for when this namespace is loaded but not attached.
* checking S3 generic/method consistency ... OK
* checking replacement functions ... OK
* checking foreign function calls ... OK
* checking R code for possible problems ... NOTE
CNVnormal: no visible global function definition for ‘read.table’
MnM.qvalue: no visible global function definition for ‘read.table’
MnM.qvalue: no visible global function definition for ‘write.table’
MnM.selectDMR: no visible global function definition for ‘quantile’
MnM.test: no visible global function definition for ‘read.table’
MnM.test: no visible global function definition for ‘calcNormFactors’
MnM.test: no visible global function definition for ‘sage.test’
MnM.test: no visible global function definition for ‘lm’
MnM.test: no visible global function definition for ‘write.table’
countMREbin: no visible global function definition for ‘read.table’
countMREbin: no visible global function definition for ‘count.fields’
countMREbin: no visible global function definition for ‘write.table’
countMREcpgbin: no visible global function definition for ‘read.table’
countMREcpgbin: no visible global function definition for
‘count.fields’
countMREcpgbin: no visible global function definition for ‘write.table’
countMeDIPbin: no visible global function definition for ‘read.table’
countMeDIPbin: no visible global function definition for ‘count.fields’
countMeDIPbin: no visible global function definition for ‘write.table’
countcpgbin: no visible global function definition for ‘read.table’
countcpgbin: no visible global function definition for ‘count.fields’
countcpgbin: no visible global function definition for ‘write.table’
normpdf: no visible global function definition for ‘pnorm’
removeblacklist: no visible global function definition for ‘read.table’
Undefined global functions or variables:
calcNormFactors count.fields lm pnorm quantile read.table sage.test
write.table
Consider adding
importFrom("stats", "lm", "pnorm", "quantile")
importFrom("utils", "count.fields", "read.table", "write.table")
to your NAMESPACE file.
* checking Rd files ... OK
* checking Rd metadata ... OK
* checking Rd cross-references ... OK
* checking for missing documentation entries ... OK
* checking for code/documentation mismatches ... OK
* checking Rd \usage sections ... OK
* checking Rd contents ... OK
* checking for unstated dependencies in examples ... OK
* checking line endings in C/C++/Fortran sources/headers ... OK
* checking compiled code ... NOTE
Note: information on .o files is not available
File ‘/Library/Frameworks/R.framework/Versions/4.1/Resources/library/methylMnM/libs/methylMnM.so’:
Found ‘_printf’, possibly from ‘printf’ (C)
Compiled code should not call entry points which might terminate R nor
write to stdout/stderr instead of to the console, nor use Fortran I/O
nor system RNGs. The detected symbols are linked into the code but
might come from libraries and not actually be called.
See ‘Writing portable packages’ in the ‘Writing R Extensions’ manual.
* checking sizes of PDF files under ‘inst/doc’ ... OK
* checking files in ‘vignettes’ ... OK
* checking examples ... OK
* checking for unstated dependencies in vignettes ... OK
* checking package vignettes in ‘inst/doc’ ... OK
* checking running R code from vignettes ... SKIPPED
* checking re-building of vignette outputs ... SKIPPED
* checking PDF version of manual ... OK
* DONE
Status: 4 NOTEs
See
‘/Users/biocbuild/bbs-3.14-bioc/meat/methylMnM.Rcheck/00check.log’
for details.
methylMnM.Rcheck/00install.out
############################################################################## ############################################################################## ### ### Running command: ### ### /Library/Frameworks/R.framework/Resources/bin/R CMD INSTALL methylMnM ### ############################################################################## ############################################################################## * installing to library ‘/Library/Frameworks/R.framework/Versions/4.1/Resources/library’ * installing *source* package ‘methylMnM’ ... ** using staged installation ** libs clang -mmacosx-version-min=10.13 -I"/Library/Frameworks/R.framework/Resources/include" -DNDEBUG -I/usr/local/include -fPIC -Wall -g -O2 -c CpGcount.c -o CpGcount.o clang -mmacosx-version-min=10.13 -I"/Library/Frameworks/R.framework/Resources/include" -DNDEBUG -I/usr/local/include -fPIC -Wall -g -O2 -c calculatecount.c -o calculatecount.o clang -mmacosx-version-min=10.13 -I"/Library/Frameworks/R.framework/Resources/include" -DNDEBUG -I/usr/local/include -fPIC -Wall -g -O2 -c calculatecount1.c -o calculatecount1.o clang -mmacosx-version-min=10.13 -I"/Library/Frameworks/R.framework/Resources/include" -DNDEBUG -I/usr/local/include -fPIC -Wall -g -O2 -c calculatecountneg.c -o calculatecountneg.o clang -mmacosx-version-min=10.13 -I"/Library/Frameworks/R.framework/Resources/include" -DNDEBUG -I/usr/local/include -fPIC -Wall -g -O2 -c pmultinom.c -o pmultinom.o clang -mmacosx-version-min=10.13 -I"/Library/Frameworks/R.framework/Resources/include" -DNDEBUG -I/usr/local/include -fPIC -Wall -g -O2 -c pvalueclassify.c -o pvalueclassify.o clang -mmacosx-version-min=10.13 -I"/Library/Frameworks/R.framework/Resources/include" -DNDEBUG -I/usr/local/include -fPIC -Wall -g -O2 -c register.c -o register.o clang -mmacosx-version-min=10.13 -dynamiclib -Wl,-headerpad_max_install_names -undefined dynamic_lookup -single_module -multiply_defined suppress -L/Library/Frameworks/R.framework/Resources/lib -L/usr/local/lib -o methylMnM.so CpGcount.o calculatecount.o calculatecount1.o calculatecountneg.o pmultinom.o pvalueclassify.o register.o -F/Library/Frameworks/R.framework/.. -framework R -Wl,-framework -Wl,CoreFoundation installing to /Library/Frameworks/R.framework/Versions/4.1/Resources/library/00LOCK-methylMnM/00new/methylMnM/libs ** R ** inst ** byte-compile and prepare package for lazy loading ** help *** installing help indices ** building package indices ** installing vignettes ** testing if installed package can be loaded from temporary location ** checking absolute paths in shared objects and dynamic libraries ** testing if installed package can be loaded from final location ** testing if installed package keeps a record of temporary installation path * DONE (methylMnM)
methylMnM.Rcheck/methylMnM-Ex.timings
| name | user | system | elapsed | |
| CNVnormal | 0.017 | 0.003 | 0.020 | |
| MnM.qvalue | 0.018 | 0.003 | 0.021 | |
| MnM.selectDMR | 0.012 | 0.001 | 0.013 | |
| MnM.test | 0.033 | 0.003 | 0.036 | |
| calcFactornew | 0.002 | 0.000 | 0.002 | |
| calculatecount | 0.001 | 0.001 | 0.001 | |
| calculatecount1 | 0 | 0 | 0 | |
| calculatecountneg | 0.001 | 0.000 | 0.001 | |
| countMREbin | 1.307 | 0.091 | 1.398 | |
| countMREcpgbin | 1.786 | 0.055 | 1.842 | |
| countMeDIPbin | 1.594 | 0.060 | 1.654 | |
| countcpgbin | 1.543 | 0.064 | 1.608 | |
| cpgcount | 0.000 | 0.001 | 0.001 | |
| normpdf | 0.001 | 0.001 | 0.001 | |
| normpdf1 | 0.000 | 0.001 | 0.001 | |
| pmultinom | 1.069 | 0.002 | 1.071 | |
| qvalue.rank | 0.001 | 0.000 | 0.000 | |
| removeblacklist | 0.008 | 0.001 | 0.010 | |