| Back to Multiple platform build/check report for BioC 3.14 |
|
This page was generated on 2022-04-13 12:06:52 -0400 (Wed, 13 Apr 2022).
| Hostname | OS | Arch (*) | R version | Installed pkgs |
|---|---|---|---|---|
| nebbiolo2 | Linux (Ubuntu 20.04.4 LTS) | x86_64 | 4.1.3 (2022-03-10) -- "One Push-Up" | 4324 |
| tokay2 | Windows Server 2012 R2 Standard | x64 | 4.1.3 (2022-03-10) -- "One Push-Up" | 4077 |
| machv2 | macOS 10.14.6 Mojave | x86_64 | 4.1.3 (2022-03-10) -- "One Push-Up" | 4137 |
| Click on any hostname to see more info about the system (e.g. compilers) (*) as reported by 'uname -p', except on Windows and Mac OS X | ||||
|
To the developers/maintainers of the methylCC package: - Please allow up to 24 hours (and sometimes 48 hours) for your latest push to git@git.bioconductor.org:packages/methylCC.git to reflect on this report. See How and When does the builder pull? When will my changes propagate? for more information. - Make sure to use the following settings in order to reproduce any error or warning you see on this page. |
| Package 1118/2083 | Hostname | OS / Arch | INSTALL | BUILD | CHECK | BUILD BIN | ||||||||
| methylCC 1.8.0 (landing page) Stephanie C. Hicks
| nebbiolo2 | Linux (Ubuntu 20.04.4 LTS) / x86_64 | OK | OK | OK | |||||||||
| tokay2 | Windows Server 2012 R2 Standard / x64 | OK | OK | OK | OK | |||||||||
| machv2 | macOS 10.14.6 Mojave / x86_64 | OK | OK | OK | OK | |||||||||
| Package: methylCC |
| Version: 1.8.0 |
| Command: C:\cygwin\bin\curl.exe -O http://155.52.207.166/BBS/3.14/bioc/src/contrib/methylCC_1.8.0.tar.gz && rm -rf methylCC.buildbin-libdir && mkdir methylCC.buildbin-libdir && C:\Users\biocbuild\bbs-3.14-bioc\R\bin\R.exe CMD INSTALL --merge-multiarch --build --library=methylCC.buildbin-libdir methylCC_1.8.0.tar.gz && C:\Users\biocbuild\bbs-3.14-bioc\R\bin\R.exe CMD INSTALL methylCC_1.8.0.zip && rm methylCC_1.8.0.tar.gz methylCC_1.8.0.zip |
| StartedAt: 2022-04-12 07:12:01 -0400 (Tue, 12 Apr 2022) |
| EndedAt: 2022-04-12 07:14:17 -0400 (Tue, 12 Apr 2022) |
| EllapsedTime: 135.9 seconds |
| RetCode: 0 |
| Status: OK |
##############################################################################
##############################################################################
###
### Running command:
###
### C:\cygwin\bin\curl.exe -O http://155.52.207.166/BBS/3.14/bioc/src/contrib/methylCC_1.8.0.tar.gz && rm -rf methylCC.buildbin-libdir && mkdir methylCC.buildbin-libdir && C:\Users\biocbuild\bbs-3.14-bioc\R\bin\R.exe CMD INSTALL --merge-multiarch --build --library=methylCC.buildbin-libdir methylCC_1.8.0.tar.gz && C:\Users\biocbuild\bbs-3.14-bioc\R\bin\R.exe CMD INSTALL methylCC_1.8.0.zip && rm methylCC_1.8.0.tar.gz methylCC_1.8.0.zip
###
##############################################################################
##############################################################################
% Total % Received % Xferd Average Speed Time Time Time Current
Dload Upload Total Spent Left Speed
0 0 0 0 0 0 0 0 --:--:-- --:--:-- --:--:-- 0
14 4172k 14 624k 0 0 1275k 0 0:00:03 --:--:-- 0:00:03 1274k
72 4172k 72 3030k 0 0 2037k 0 0:00:02 0:00:01 0:00:01 2038k
100 4172k 100 4172k 0 0 2239k 0 0:00:01 0:00:01 --:--:-- 2239k
install for i386
* installing *source* package 'methylCC' ...
** using staged installation
** R
** data
** inst
** byte-compile and prepare package for lazy loading
** help
*** installing help indices
converting help for package 'methylCC'
finding HTML links ... done
FlowSorted.Blood.450k.sub html
cell_counts html
dot-WFun html
dot-extract_raw_data html
dot-find_dmrs html
dot-initializeMLEs html
dot-initialize_theta html
dot-methylcc_engine html
dot-methylcc_estep html
dot-methylcc_mstep html
dot-pick_target_positions html
dot-preprocess_estimatecc html
dot-splitit html
estimatecc-class html
estimatecc html
offMethRegions html
onMethRegions html
** building package indices
** installing vignettes
** testing if installed package can be loaded from temporary location
** testing if installed package can be loaded from final location
** testing if installed package keeps a record of temporary installation path
install for x64
* installing *source* package 'methylCC' ...
** testing if installed package can be loaded
* MD5 sums
packaged installation of 'methylCC' as methylCC_1.8.0.zip
* DONE (methylCC)
* installing to library 'C:/Users/biocbuild/bbs-3.14-bioc/R/library'
package 'methylCC' successfully unpacked and MD5 sums checked