| Back to Multiple platform build/check report for BioC 3.14 |
|
This page was generated on 2022-04-13 12:06:52 -0400 (Wed, 13 Apr 2022).
| Hostname | OS | Arch (*) | R version | Installed pkgs |
|---|---|---|---|---|
| nebbiolo2 | Linux (Ubuntu 20.04.4 LTS) | x86_64 | 4.1.3 (2022-03-10) -- "One Push-Up" | 4324 |
| tokay2 | Windows Server 2012 R2 Standard | x64 | 4.1.3 (2022-03-10) -- "One Push-Up" | 4077 |
| machv2 | macOS 10.14.6 Mojave | x86_64 | 4.1.3 (2022-03-10) -- "One Push-Up" | 4137 |
| Click on any hostname to see more info about the system (e.g. compilers) (*) as reported by 'uname -p', except on Windows and Mac OS X | ||||
|
To the developers/maintainers of the methInheritSim package: - Please allow up to 24 hours (and sometimes 48 hours) for your latest push to git@git.bioconductor.org:packages/methInheritSim.git to reflect on this report. See How and When does the builder pull? When will my changes propagate? for more information. - Make sure to use the following settings in order to reproduce any error or warning you see on this page. |
| Package 1112/2083 | Hostname | OS / Arch | INSTALL | BUILD | CHECK | BUILD BIN | ||||||||
| methInheritSim 1.16.0 (landing page) Pascal Belleau
| nebbiolo2 | Linux (Ubuntu 20.04.4 LTS) / x86_64 | OK | OK | OK | |||||||||
| tokay2 | Windows Server 2012 R2 Standard / x64 | OK | OK | OK | OK | |||||||||
| machv2 | macOS 10.14.6 Mojave / x86_64 | OK | OK | OK | OK | |||||||||
| Package: methInheritSim |
| Version: 1.16.0 |
| Command: rm -rf methInheritSim.buildbin-libdir && mkdir methInheritSim.buildbin-libdir && C:\Users\biocbuild\bbs-3.14-bioc\R\bin\R.exe CMD INSTALL --merge-multiarch --build --library=methInheritSim.buildbin-libdir methInheritSim_1.16.0.tar.gz |
| StartedAt: 2022-04-13 06:34:30 -0400 (Wed, 13 Apr 2022) |
| EndedAt: 2022-04-13 06:35:23 -0400 (Wed, 13 Apr 2022) |
| EllapsedTime: 52.6 seconds |
| RetCode: 0 |
| Status: OK |
| PackageFile: methInheritSim_1.16.0.zip |
| PackageFileSize: 766 KiB |
##############################################################################
##############################################################################
###
### Running command:
###
### rm -rf methInheritSim.buildbin-libdir && mkdir methInheritSim.buildbin-libdir && C:\Users\biocbuild\bbs-3.14-bioc\R\bin\R.exe CMD INSTALL --merge-multiarch --build --library=methInheritSim.buildbin-libdir methInheritSim_1.16.0.tar.gz
###
##############################################################################
##############################################################################
install for i386
* installing *source* package 'methInheritSim' ...
** using staged installation
** R
** data
** inst
** byte-compile and prepare package for lazy loading
** help
*** installing help indices
converting help for package 'methInheritSim'
finding HTML links ... done
calculateNbDiffCase html
createSampleID html
dataSimExample html
estBetaAlpha html
estBetaBeta html
fixSeed html
getDiffCase html
getDiffMeth html
getSim html
getSyntheticChr html
methInheritSim-package html
runOnEachSynCHR html
runSim html
samplesForChrSynthetic html
saveData html
simEachGeneration html
simInheritance html
testIfAlreadyDone html
validateRunSimDoubleParameters html
validateRunSimIntegerParameters html
validateRunSimLogicalParameters html
validateRunSimOtherParameters html
validateRunSimParameters html
** building package indices
** installing vignettes
** testing if installed package can be loaded from temporary location
** testing if installed package can be loaded from final location
** testing if installed package keeps a record of temporary installation path
install for x64
* installing *source* package 'methInheritSim' ...
** testing if installed package can be loaded
* MD5 sums
packaged installation of 'methInheritSim' as methInheritSim_1.16.0.zip
* DONE (methInheritSim)