| Back to Multiple platform build/check report for BioC 3.14 |
|
This page was generated on 2022-04-13 12:06:52 -0400 (Wed, 13 Apr 2022).
| Hostname | OS | Arch (*) | R version | Installed pkgs |
|---|---|---|---|---|
| nebbiolo2 | Linux (Ubuntu 20.04.4 LTS) | x86_64 | 4.1.3 (2022-03-10) -- "One Push-Up" | 4324 |
| tokay2 | Windows Server 2012 R2 Standard | x64 | 4.1.3 (2022-03-10) -- "One Push-Up" | 4077 |
| machv2 | macOS 10.14.6 Mojave | x86_64 | 4.1.3 (2022-03-10) -- "One Push-Up" | 4137 |
| Click on any hostname to see more info about the system (e.g. compilers) (*) as reported by 'uname -p', except on Windows and Mac OS X | ||||
|
To the developers/maintainers of the metapone package: - Please allow up to 24 hours (and sometimes 48 hours) for your latest push to git@git.bioconductor.org:packages/metapone.git to reflect on this report. See How and When does the builder pull? When will my changes propagate? for more information. - Make sure to use the following settings in order to reproduce any error or warning you see on this page. |
| Package 1104/2083 | Hostname | OS / Arch | INSTALL | BUILD | CHECK | BUILD BIN | ||||||||
| metapone 1.0.0 (landing page) Tianwei Yu
| nebbiolo2 | Linux (Ubuntu 20.04.4 LTS) / x86_64 | OK | OK | OK | |||||||||
| tokay2 | Windows Server 2012 R2 Standard / x64 | OK | OK | OK | OK | |||||||||
| machv2 | macOS 10.14.6 Mojave / x86_64 | OK | OK | OK | OK | |||||||||
| Package: metapone |
| Version: 1.0.0 |
| Command: C:\cygwin\bin\curl.exe -O http://155.52.207.166/BBS/3.14/bioc/src/contrib/metapone_1.0.0.tar.gz && rm -rf metapone.buildbin-libdir && mkdir metapone.buildbin-libdir && C:\Users\biocbuild\bbs-3.14-bioc\R\bin\R.exe CMD INSTALL --merge-multiarch --build --library=metapone.buildbin-libdir metapone_1.0.0.tar.gz && C:\Users\biocbuild\bbs-3.14-bioc\R\bin\R.exe CMD INSTALL metapone_1.0.0.zip && rm metapone_1.0.0.tar.gz metapone_1.0.0.zip |
| StartedAt: 2022-04-12 04:59:13 -0400 (Tue, 12 Apr 2022) |
| EndedAt: 2022-04-12 05:00:53 -0400 (Tue, 12 Apr 2022) |
| EllapsedTime: 100.7 seconds |
| RetCode: 0 |
| Status: OK |
##############################################################################
##############################################################################
###
### Running command:
###
### C:\cygwin\bin\curl.exe -O http://155.52.207.166/BBS/3.14/bioc/src/contrib/metapone_1.0.0.tar.gz && rm -rf metapone.buildbin-libdir && mkdir metapone.buildbin-libdir && C:\Users\biocbuild\bbs-3.14-bioc\R\bin\R.exe CMD INSTALL --merge-multiarch --build --library=metapone.buildbin-libdir metapone_1.0.0.tar.gz && C:\Users\biocbuild\bbs-3.14-bioc\R\bin\R.exe CMD INSTALL metapone_1.0.0.zip && rm metapone_1.0.0.tar.gz metapone_1.0.0.zip
###
##############################################################################
##############################################################################
% Total % Received % Xferd Average Speed Time Time Time Current
Dload Upload Total Spent Left Speed
0 0 0 0 0 0 0 0 --:--:-- --:--:-- --:--:-- 0
31 3573k 31 1121k 0 0 1204k 0 0:00:02 --:--:-- 0:00:02 1203k
93 3573k 93 3341k 0 0 1731k 0 0:00:02 0:00:01 0:00:01 1731k
100 3573k 100 3573k 0 0 1781k 0 0:00:02 0:00:02 --:--:-- 1782k
install for i386
* installing *source* package 'metapone' ...
** using staged installation
** R
** data
** byte-compile and prepare package for lazy loading
Creating a new generic function for 'ftable' in package 'metapone'
** help
*** installing help indices
converting help for package 'metapone'
finding HTML links ... done
ftable html
hmdbCompMZ html
hmdbCompMZ.metapone html
metapone-package html
metapone html
metaponeResult-class html
neg html
pa html
pos html
ptable html
** building package indices
** installing vignettes
** testing if installed package can be loaded from temporary location
** testing if installed package can be loaded from final location
** testing if installed package keeps a record of temporary installation path
install for x64
* installing *source* package 'metapone' ...
** testing if installed package can be loaded
* MD5 sums
packaged installation of 'metapone' as metapone_1.0.0.zip
* DONE (metapone)
* installing to library 'C:/Users/biocbuild/bbs-3.14-bioc/R/library'
package 'metapone' successfully unpacked and MD5 sums checked