| Back to Multiple platform build/check report for BioC 3.14 |
|
This page was generated on 2022-04-13 12:06:49 -0400 (Wed, 13 Apr 2022).
| Hostname | OS | Arch (*) | R version | Installed pkgs |
|---|---|---|---|---|
| nebbiolo2 | Linux (Ubuntu 20.04.4 LTS) | x86_64 | 4.1.3 (2022-03-10) -- "One Push-Up" | 4324 |
| tokay2 | Windows Server 2012 R2 Standard | x64 | 4.1.3 (2022-03-10) -- "One Push-Up" | 4077 |
| machv2 | macOS 10.14.6 Mojave | x86_64 | 4.1.3 (2022-03-10) -- "One Push-Up" | 4137 |
| Click on any hostname to see more info about the system (e.g. compilers) (*) as reported by 'uname -p', except on Windows and Mac OS X | ||||
|
To the developers/maintainers of the makecdfenv package: - Please allow up to 24 hours (and sometimes 48 hours) for your latest push to git@git.bioconductor.org:packages/makecdfenv.git to reflect on this report. See How and When does the builder pull? When will my changes propagate? for more information. - Make sure to use the following settings in order to reproduce any error or warning you see on this page. |
| Package 1040/2083 | Hostname | OS / Arch | INSTALL | BUILD | CHECK | BUILD BIN | ||||||||
| makecdfenv 1.70.0 (landing page) James W. MacDonald
| nebbiolo2 | Linux (Ubuntu 20.04.4 LTS) / x86_64 | OK | OK | WARNINGS | |||||||||
| tokay2 | Windows Server 2012 R2 Standard / x64 | OK | OK | OK | OK | |||||||||
| machv2 | macOS 10.14.6 Mojave / x86_64 | OK | OK | OK | OK | |||||||||
| Package: makecdfenv |
| Version: 1.70.0 |
| Command: C:\cygwin\bin\curl.exe -O http://155.52.207.166/BBS/3.14/bioc/src/contrib/makecdfenv_1.70.0.tar.gz && rm -rf makecdfenv.buildbin-libdir && mkdir makecdfenv.buildbin-libdir && C:\Users\biocbuild\bbs-3.14-bioc\R\bin\R.exe CMD INSTALL --merge-multiarch --build --library=makecdfenv.buildbin-libdir makecdfenv_1.70.0.tar.gz && C:\Users\biocbuild\bbs-3.14-bioc\R\bin\R.exe CMD INSTALL makecdfenv_1.70.0.zip && rm makecdfenv_1.70.0.tar.gz makecdfenv_1.70.0.zip |
| StartedAt: 2022-04-12 04:34:31 -0400 (Tue, 12 Apr 2022) |
| EndedAt: 2022-04-12 04:35:41 -0400 (Tue, 12 Apr 2022) |
| EllapsedTime: 69.7 seconds |
| RetCode: 0 |
| Status: OK |
##############################################################################
##############################################################################
###
### Running command:
###
### C:\cygwin\bin\curl.exe -O http://155.52.207.166/BBS/3.14/bioc/src/contrib/makecdfenv_1.70.0.tar.gz && rm -rf makecdfenv.buildbin-libdir && mkdir makecdfenv.buildbin-libdir && C:\Users\biocbuild\bbs-3.14-bioc\R\bin\R.exe CMD INSTALL --merge-multiarch --build --library=makecdfenv.buildbin-libdir makecdfenv_1.70.0.tar.gz && C:\Users\biocbuild\bbs-3.14-bioc\R\bin\R.exe CMD INSTALL makecdfenv_1.70.0.zip && rm makecdfenv_1.70.0.tar.gz makecdfenv_1.70.0.zip
###
##############################################################################
##############################################################################
% Total % Received % Xferd Average Speed Time Time Time Current
Dload Upload Total Spent Left Speed
0 0 0 0 0 0 0 0 --:--:-- --:--:-- --:--:-- 0
25 3075k 25 798k 0 0 857k 0 0:00:03 --:--:-- 0:00:03 856k
83 3075k 83 2577k 0 0 1335k 0 0:00:02 0:00:01 0:00:01 1335k
100 3075k 100 3075k 0 0 1451k 0 0:00:02 0:00:02 --:--:-- 1452k
install for i386
* installing *source* package 'makecdfenv' ...
** using staged installation
**********************************************
WARNING: this package has a configure script
It probably needs manual configuration
**********************************************
** libs
"C:/rtools40/mingw32/bin/"gcc -I"C:/Users/biocbuild/bbs-3.14-bioc/R/library/zlibbioc/include" -I"C:/Users/BIOCBU~1/BBS-3~1.14-/R/include" -DNDEBUG -DHAVE_ZLIB -I"C:/extsoft/include" -O2 -Wall -std=gnu99 -mfpmath=sse -msse2 -mstackrealign -c read_cdffile.c -o read_cdffile.o
read_cdffile.c: In function 'readQC':
read_cdffile.c:576:7: warning: variable 'typeQC' set but not used [-Wunused-but-set-variable]
int typeQC;
^~~~~~
C:/rtools40/mingw32/bin/gcc -shared -s -static-libgcc -o makecdfenv.dll tmp.def read_cdffile.o -LC:/Users/biocbuild/bbs-3.14-bioc/R/library/zlibbioc/libs/i386 -lzlib1bioc -LC:/extsoft/lib/i386 -LC:/extsoft/lib -LC:/Users/BIOCBU~1/BBS-3~1.14-/R/bin/i386 -lR
installing to C:/Users/biocbuild/bbs-3.14-bioc/meat/makecdfenv.buildbin-libdir/00LOCK-makecdfenv/00new/makecdfenv/libs/i386
** R
** inst
** byte-compile and prepare package for lazy loading
** help
*** installing help indices
converting help for package 'makecdfenv'
finding HTML links ... done
Cdf-class html
getInfoInAffyFile html
make.cdf.env html
make.cdf.package html
pmormm html
read.cdffile html
** building package indices
** installing vignettes
** testing if installed package can be loaded from temporary location
** testing if installed package can be loaded from final location
** testing if installed package keeps a record of temporary installation path
install for x64
* installing *source* package 'makecdfenv' ...
**********************************************
WARNING: this package has a configure script
It probably needs manual configuration
**********************************************
** libs
"C:/rtools40/mingw64/bin/"gcc -I"C:/Users/biocbuild/bbs-3.14-bioc/R/library/zlibbioc/include" -I"C:/Users/BIOCBU~1/BBS-3~1.14-/R/include" -DNDEBUG -DHAVE_ZLIB -I"C:/extsoft/include" -O2 -Wall -std=gnu99 -mfpmath=sse -msse2 -mstackrealign -c read_cdffile.c -o read_cdffile.o
read_cdffile.c: In function 'readQC':
read_cdffile.c:576:7: warning: variable 'typeQC' set but not used [-Wunused-but-set-variable]
int typeQC;
^~~~~~
C:/rtools40/mingw64/bin/gcc -shared -s -static-libgcc -o makecdfenv.dll tmp.def read_cdffile.o -LC:/Users/biocbuild/bbs-3.14-bioc/R/library/zlibbioc/libs/x64 -lzlib1bioc -LC:/extsoft/lib/x64 -LC:/extsoft/lib -LC:/Users/BIOCBU~1/BBS-3~1.14-/R/bin/x64 -lR
installing to C:/Users/biocbuild/bbs-3.14-bioc/meat/makecdfenv.buildbin-libdir/makecdfenv/libs/x64
** testing if installed package can be loaded
* MD5 sums
packaged installation of 'makecdfenv' as makecdfenv_1.70.0.zip
* DONE (makecdfenv)
* installing to library 'C:/Users/biocbuild/bbs-3.14-bioc/R/library'
package 'makecdfenv' successfully unpacked and MD5 sums checked