| Back to Multiple platform build/check report for BioC 3.14 |
|
This page was generated on 2022-04-13 12:06:49 -0400 (Wed, 13 Apr 2022).
| Hostname | OS | Arch (*) | R version | Installed pkgs |
|---|---|---|---|---|
| nebbiolo2 | Linux (Ubuntu 20.04.4 LTS) | x86_64 | 4.1.3 (2022-03-10) -- "One Push-Up" | 4324 |
| tokay2 | Windows Server 2012 R2 Standard | x64 | 4.1.3 (2022-03-10) -- "One Push-Up" | 4077 |
| machv2 | macOS 10.14.6 Mojave | x86_64 | 4.1.3 (2022-03-10) -- "One Push-Up" | 4137 |
| Click on any hostname to see more info about the system (e.g. compilers) (*) as reported by 'uname -p', except on Windows and Mac OS X | ||||
|
To the developers/maintainers of the made4 package: - Please allow up to 24 hours (and sometimes 48 hours) for your latest push to git@git.bioconductor.org:packages/made4.git to reflect on this report. See How and When does the builder pull? When will my changes propagate? for more information. - Make sure to use the following settings in order to reproduce any error or warning you see on this page. |
| Package 1032/2083 | Hostname | OS / Arch | INSTALL | BUILD | CHECK | BUILD BIN | ||||||||
| made4 1.68.0 (landing page) Aedin Culhane
| nebbiolo2 | Linux (Ubuntu 20.04.4 LTS) / x86_64 | OK | OK | OK | |||||||||
| tokay2 | Windows Server 2012 R2 Standard / x64 | OK | OK | OK | OK | |||||||||
| machv2 | macOS 10.14.6 Mojave / x86_64 | OK | OK | OK | OK | |||||||||
| Package: made4 |
| Version: 1.68.0 |
| Command: rm -rf made4.buildbin-libdir && mkdir made4.buildbin-libdir && C:\Users\biocbuild\bbs-3.14-bioc\R\bin\R.exe CMD INSTALL --merge-multiarch --build --library=made4.buildbin-libdir made4_1.68.0.tar.gz |
| StartedAt: 2022-04-13 06:30:40 -0400 (Wed, 13 Apr 2022) |
| EndedAt: 2022-04-13 06:31:14 -0400 (Wed, 13 Apr 2022) |
| EllapsedTime: 34.0 seconds |
| RetCode: 0 |
| Status: OK |
| PackageFile: made4_1.68.0.zip |
| PackageFileSize: 1.422 MiB |
##############################################################################
##############################################################################
###
### Running command:
###
### rm -rf made4.buildbin-libdir && mkdir made4.buildbin-libdir && C:\Users\biocbuild\bbs-3.14-bioc\R\bin\R.exe CMD INSTALL --merge-multiarch --build --library=made4.buildbin-libdir made4_1.68.0.tar.gz
###
##############################################################################
##############################################################################
install for i386
* installing *source* package 'made4' ...
** using staged installation
** R
** data
*** moving datasets to lazyload DB
** inst
** byte-compile and prepare package for lazy loading
** help
*** installing help indices
converting help for package 'made4'
finding HTML links ... done
NCI60 html
asDataFrame html
bet.coinertia html
between.graph html
bga html
bga.jackknife html
bga.suppl html
checkfac html
chime3D html
cia html
commonMap html
comparelists html
do3d html
dudi.rwcoa html
forrwcoa html
genes html
genes1d html
getcol html
graph1D html
heatplot html
html3D html
isDataFrame html
jmol3D html
khan html
ord html
overview html
plotarrays html
plotgenes html
prettyDend html
randomiser html
s.var html
sumstats html
suppl html
topgenes html
** building package indices
** installing vignettes
** testing if installed package can be loaded from temporary location
** testing if installed package can be loaded from final location
** testing if installed package keeps a record of temporary installation path
install for x64
* installing *source* package 'made4' ...
** testing if installed package can be loaded
* MD5 sums
packaged installation of 'made4' as made4_1.68.0.zip
* DONE (made4)