| Back to Multiple platform build/check report for BioC 3.14 |
|
This page was generated on 2022-04-13 12:06:47 -0400 (Wed, 13 Apr 2022).
| Hostname | OS | Arch (*) | R version | Installed pkgs |
|---|---|---|---|---|
| nebbiolo2 | Linux (Ubuntu 20.04.4 LTS) | x86_64 | 4.1.3 (2022-03-10) -- "One Push-Up" | 4324 |
| tokay2 | Windows Server 2012 R2 Standard | x64 | 4.1.3 (2022-03-10) -- "One Push-Up" | 4077 |
| machv2 | macOS 10.14.6 Mojave | x86_64 | 4.1.3 (2022-03-10) -- "One Push-Up" | 4137 |
| Click on any hostname to see more info about the system (e.g. compilers) (*) as reported by 'uname -p', except on Windows and Mac OS X | ||||
|
To the developers/maintainers of the lionessR package: - Please allow up to 24 hours (and sometimes 48 hours) for your latest push to git@git.bioconductor.org:packages/lionessR.git to reflect on this report. See How and When does the builder pull? When will my changes propagate? for more information. - Make sure to use the following settings in order to reproduce any error or warning you see on this page. |
| Package 1002/2083 | Hostname | OS / Arch | INSTALL | BUILD | CHECK | BUILD BIN | ||||||||
| lionessR 1.8.0 (landing page) Ping-Han Hsieh
| nebbiolo2 | Linux (Ubuntu 20.04.4 LTS) / x86_64 | OK | OK | OK | |||||||||
| tokay2 | Windows Server 2012 R2 Standard / x64 | OK | OK | OK | OK | |||||||||
| machv2 | macOS 10.14.6 Mojave / x86_64 | OK | OK | OK | OK | |||||||||
| Package: lionessR |
| Version: 1.8.0 |
| Command: C:\cygwin\bin\curl.exe -O http://155.52.207.166/BBS/3.14/bioc/src/contrib/lionessR_1.8.0.tar.gz && rm -rf lionessR.buildbin-libdir && mkdir lionessR.buildbin-libdir && C:\Users\biocbuild\bbs-3.14-bioc\R\bin\R.exe CMD INSTALL --merge-multiarch --build --library=lionessR.buildbin-libdir lionessR_1.8.0.tar.gz && C:\Users\biocbuild\bbs-3.14-bioc\R\bin\R.exe CMD INSTALL lionessR_1.8.0.zip && rm lionessR_1.8.0.tar.gz lionessR_1.8.0.zip |
| StartedAt: 2022-04-12 05:34:13 -0400 (Tue, 12 Apr 2022) |
| EndedAt: 2022-04-12 05:34:49 -0400 (Tue, 12 Apr 2022) |
| EllapsedTime: 36.7 seconds |
| RetCode: 0 |
| Status: OK |
##############################################################################
##############################################################################
###
### Running command:
###
### C:\cygwin\bin\curl.exe -O http://155.52.207.166/BBS/3.14/bioc/src/contrib/lionessR_1.8.0.tar.gz && rm -rf lionessR.buildbin-libdir && mkdir lionessR.buildbin-libdir && C:\Users\biocbuild\bbs-3.14-bioc\R\bin\R.exe CMD INSTALL --merge-multiarch --build --library=lionessR.buildbin-libdir lionessR_1.8.0.tar.gz && C:\Users\biocbuild\bbs-3.14-bioc\R\bin\R.exe CMD INSTALL lionessR_1.8.0.zip && rm lionessR_1.8.0.tar.gz lionessR_1.8.0.zip
###
##############################################################################
##############################################################################
% Total % Received % Xferd Average Speed Time Time Time Current
Dload Upload Total Spent Left Speed
0 0 0 0 0 0 0 0 --:--:-- --:--:-- --:--:-- 0
29 2790k 29 817k 0 0 809k 0 0:00:03 0:00:01 0:00:02 809k
92 2790k 92 2575k 0 0 1278k 0 0:00:02 0:00:02 --:--:-- 1279k
100 2790k 100 2790k 0 0 1333k 0 0:00:02 0:00:02 --:--:-- 1333k
install for i386
* installing *source* package 'lionessR' ...
** using staged installation
** R
** data
*** moving datasets to lazyload DB
** inst
** byte-compile and prepare package for lazy loading
** help
*** installing help indices
converting help for package 'lionessR'
finding HTML links ... done
OSdata html
lioness html
netFun html
** building package indices
** installing vignettes
** testing if installed package can be loaded from temporary location
** testing if installed package can be loaded from final location
** testing if installed package keeps a record of temporary installation path
install for x64
* installing *source* package 'lionessR' ...
** testing if installed package can be loaded
* MD5 sums
packaged installation of 'lionessR' as lionessR_1.8.0.zip
* DONE (lionessR)
* installing to library 'C:/Users/biocbuild/bbs-3.14-bioc/R/library'
package 'lionessR' successfully unpacked and MD5 sums checked