| Back to Multiple platform build/check report for BioC 3.14 |
|
This page was generated on 2022-04-13 12:06:46 -0400 (Wed, 13 Apr 2022).
| Hostname | OS | Arch (*) | R version | Installed pkgs |
|---|---|---|---|---|
| nebbiolo2 | Linux (Ubuntu 20.04.4 LTS) | x86_64 | 4.1.3 (2022-03-10) -- "One Push-Up" | 4324 |
| tokay2 | Windows Server 2012 R2 Standard | x64 | 4.1.3 (2022-03-10) -- "One Push-Up" | 4077 |
| machv2 | macOS 10.14.6 Mojave | x86_64 | 4.1.3 (2022-03-10) -- "One Push-Up" | 4137 |
| Click on any hostname to see more info about the system (e.g. compilers) (*) as reported by 'uname -p', except on Windows and Mac OS X | ||||
|
To the developers/maintainers of the karyoploteR package: - Please allow up to 24 hours (and sometimes 48 hours) for your latest push to git@git.bioconductor.org:packages/karyoploteR.git to reflect on this report. See How and When does the builder pull? When will my changes propagate? for more information. - Make sure to use the following settings in order to reproduce any error or warning you see on this page. |
| Package 975/2083 | Hostname | OS / Arch | INSTALL | BUILD | CHECK | BUILD BIN | ||||||||
| karyoploteR 1.20.3 (landing page) Bernat Gel
| nebbiolo2 | Linux (Ubuntu 20.04.4 LTS) / x86_64 | OK | OK | OK | |||||||||
| tokay2 | Windows Server 2012 R2 Standard / x64 | OK | OK | OK | OK | |||||||||
| machv2 | macOS 10.14.6 Mojave / x86_64 | OK | OK | OK | OK | |||||||||
| Package: karyoploteR |
| Version: 1.20.3 |
| Command: C:\Users\biocbuild\bbs-3.14-bioc\R\bin\R.exe CMD check --force-multiarch --install=check:karyoploteR.install-out.txt --library=C:\Users\biocbuild\bbs-3.14-bioc\R\library --no-vignettes --timings karyoploteR_1.20.3.tar.gz |
| StartedAt: 2022-04-12 21:50:23 -0400 (Tue, 12 Apr 2022) |
| EndedAt: 2022-04-12 22:06:37 -0400 (Tue, 12 Apr 2022) |
| EllapsedTime: 974.1 seconds |
| RetCode: 0 |
| Status: OK |
| CheckDir: karyoploteR.Rcheck |
| Warnings: 0 |
##############################################################################
##############################################################################
###
### Running command:
###
### C:\Users\biocbuild\bbs-3.14-bioc\R\bin\R.exe CMD check --force-multiarch --install=check:karyoploteR.install-out.txt --library=C:\Users\biocbuild\bbs-3.14-bioc\R\library --no-vignettes --timings karyoploteR_1.20.3.tar.gz
###
##############################################################################
##############################################################################
* using log directory 'C:/Users/biocbuild/bbs-3.14-bioc/meat/karyoploteR.Rcheck'
* using R version 4.1.3 (2022-03-10)
* using platform: x86_64-w64-mingw32 (64-bit)
* using session charset: ISO8859-1
* using option '--no-vignettes'
* checking for file 'karyoploteR/DESCRIPTION' ... OK
* checking extension type ... Package
* this is package 'karyoploteR' version '1.20.3'
* checking package namespace information ... OK
* checking package dependencies ... OK
* checking if this is a source package ... OK
* checking if there is a namespace ... OK
* checking for hidden files and directories ... OK
* checking for portable file names ... OK
* checking whether package 'karyoploteR' can be installed ... OK
* checking installed package size ... OK
* checking package directory ... OK
* checking 'build' directory ... OK
* checking DESCRIPTION meta-information ... NOTE
Packages listed in more than one of Depends, Imports, Suggests, Enhances:
'regioneR' 'GenomicRanges'
A package should be listed in only one of these fields.
* checking top-level files ... OK
* checking for left-over files ... OK
* checking index information ... OK
* checking package subdirectories ... OK
* checking R files for non-ASCII characters ... OK
* checking R files for syntax errors ... OK
* loading checks for arch 'i386'
** checking whether the package can be loaded ... OK
** checking whether the package can be loaded with stated dependencies ... OK
** checking whether the package can be unloaded cleanly ... OK
** checking whether the namespace can be loaded with stated dependencies ... OK
** checking whether the namespace can be unloaded cleanly ... OK
* loading checks for arch 'x64'
** checking whether the package can be loaded ... OK
** checking whether the package can be loaded with stated dependencies ... OK
** checking whether the package can be unloaded cleanly ... OK
** checking whether the namespace can be loaded with stated dependencies ... OK
** checking whether the namespace can be unloaded cleanly ... OK
* checking dependencies in R code ... OK
* checking S3 generic/method consistency ... OK
* checking replacement functions ... OK
* checking foreign function calls ... OK
* checking R code for possible problems ... OK
* checking Rd files ... OK
* checking Rd metadata ... OK
* checking Rd cross-references ... OK
* checking for missing documentation entries ... OK
* checking for code/documentation mismatches ... OK
* checking Rd \usage sections ... OK
* checking Rd contents ... OK
* checking for unstated dependencies in examples ... OK
* checking R/sysdata.rda ... OK
* checking files in 'vignettes' ... OK
* checking examples ...
** running examples for arch 'i386' ... OK
Examples with CPU (user + system) or elapsed time > 5s
user system elapsed
kpPlotDensity 111.39 7.19 171.55
kpPlotGenes 27.05 0.22 27.26
kpPlotHorizon 24.84 0.01 24.86
mergeTranscripts 19.14 0.09 19.23
kpPlotRegions 15.42 0.10 15.52
kpPlotTranscripts 7.99 0.00 7.98
kpPlotBAMCoverage 7.04 0.32 7.36
kpPlotManhattan 6.67 0.09 6.78
colByRegion 2.16 0.23 5.96
** running examples for arch 'x64' ... OK
Examples with CPU (user + system) or elapsed time > 5s
user system elapsed
kpPlotDensity 88.53 4.30 92.84
kpPlotGenes 27.45 0.21 27.67
kpPlotHorizon 22.39 0.00 22.41
mergeTranscripts 20.23 0.18 20.43
kpPlotRegions 16.74 0.00 16.74
kpPlotTranscripts 9.18 0.09 9.28
kpPlotManhattan 6.75 0.11 6.86
kpPlotBAMCoverage 6.42 0.35 6.77
* checking for unstated dependencies in 'tests' ... OK
* checking tests ...
** running tests for arch 'i386' ...
Running 'testthat.R'
OK
** running tests for arch 'x64' ...
Running 'testthat.R'
OK
* checking for unstated dependencies in vignettes ... OK
* checking package vignettes in 'inst/doc' ... OK
* checking running R code from vignettes ... SKIPPED
* checking re-building of vignette outputs ... SKIPPED
* checking PDF version of manual ... OK
* DONE
Status: 1 NOTE
See
'C:/Users/biocbuild/bbs-3.14-bioc/meat/karyoploteR.Rcheck/00check.log'
for details.
karyoploteR.Rcheck/00install.out
##############################################################################
##############################################################################
###
### Running command:
###
### C:\cygwin\bin\curl.exe -O http://155.52.207.166/BBS/3.14/bioc/src/contrib/karyoploteR_1.20.3.tar.gz && rm -rf karyoploteR.buildbin-libdir && mkdir karyoploteR.buildbin-libdir && C:\Users\biocbuild\bbs-3.14-bioc\R\bin\R.exe CMD INSTALL --merge-multiarch --build --library=karyoploteR.buildbin-libdir karyoploteR_1.20.3.tar.gz && C:\Users\biocbuild\bbs-3.14-bioc\R\bin\R.exe CMD INSTALL karyoploteR_1.20.3.zip && rm karyoploteR_1.20.3.tar.gz karyoploteR_1.20.3.zip
###
##############################################################################
##############################################################################
% Total % Received % Xferd Average Speed Time Time Time Current
Dload Upload Total Spent Left Speed
0 0 0 0 0 0 0 0 --:--:-- --:--:-- --:--:-- 0
100 295k 100 295k 0 0 818k 0 --:--:-- --:--:-- --:--:-- 820k
install for i386
* installing *source* package 'karyoploteR' ...
** using staged installation
** R
** inst
** byte-compile and prepare package for lazy loading
** help
*** installing help indices
converting help for package 'karyoploteR'
finding HTML links ... done
addGeneNames html
autotrack html
colByCategory html
colByChr html
colByRegion html
colByValue html
darker html
filterParams html
findIntersections html
getChromosomeNamesBoundingBox html
getColorSchemas html
getCytobandColors html
getCytobands html
finding level-2 HTML links ... done
getDataPanelBoundingBox html
getDefaultPlotParams html
getMainTitleBoundingBox html
getTextSize html
getVariantsColors html
horizonColors html
is.color html
kpAbline html
kpAddBaseNumbers html
kpAddChromosomeNames html
kpAddChromosomeSeparators html
kpAddColorRect html
kpAddCytobandLabels html
kpAddCytobands html
kpAddCytobandsAsLine html
kpAddLabels html
kpAddMainTitle html
kpArea html
kpArrows html
kpAxis html
kpBars html
kpDataBackground html
kpHeatmap html
kpLines html
kpPlotBAMCoverage html
kpPlotBAMDensity html
kpPlotBigWig html
kpPlotCoverage html
kpPlotDensity html
kpPlotGenes html
kpPlotHorizon html
kpPlotLinks html
kpPlotLoess html
kpPlotManhattan html
kpPlotMarkers html
kpPlotNames html
kpPlotRainfall html
kpPlotRegions html
kpPlotRibbon html
kpPlotTranscripts html
kpPoints html
kpPolygon html
kpRect html
kpSegments html
kpText html
lighter html
makeGenesDataFromTxDb html
mergeTranscripts html
plotDefaultPlotParams html
plotKaryotype html
plotPalettes html
prepareParameters2 html
prepareParameters4 html
processClipping html
transparent html
** building package indices
** installing vignettes
** testing if installed package can be loaded from temporary location
** testing if installed package can be loaded from final location
** testing if installed package keeps a record of temporary installation path
install for x64
* installing *source* package 'karyoploteR' ...
** testing if installed package can be loaded
* MD5 sums
packaged installation of 'karyoploteR' as karyoploteR_1.20.3.zip
* DONE (karyoploteR)
* installing to library 'C:/Users/biocbuild/bbs-3.14-bioc/R/library'
package 'karyoploteR' successfully unpacked and MD5 sums checked
|
karyoploteR.Rcheck/tests_i386/testthat.Rout
R version 4.1.3 (2022-03-10) -- "One Push-Up"
Copyright (C) 2022 The R Foundation for Statistical Computing
Platform: i386-w64-mingw32/i386 (32-bit)
R is free software and comes with ABSOLUTELY NO WARRANTY.
You are welcome to redistribute it under certain conditions.
Type 'license()' or 'licence()' for distribution details.
R is a collaborative project with many contributors.
Type 'contributors()' for more information and
'citation()' on how to cite R or R packages in publications.
Type 'demo()' for some demos, 'help()' for on-line help, or
'help.start()' for an HTML browser interface to help.
Type 'q()' to quit R.
> library(testthat)
> library(karyoploteR)
Loading required package: regioneR
Loading required package: GenomicRanges
Loading required package: stats4
Loading required package: BiocGenerics
Attaching package: 'BiocGenerics'
The following objects are masked from 'package:stats':
IQR, mad, sd, var, xtabs
The following objects are masked from 'package:base':
Filter, Find, Map, Position, Reduce, anyDuplicated, append,
as.data.frame, basename, cbind, colnames, dirname, do.call,
duplicated, eval, evalq, get, grep, grepl, intersect, is.unsorted,
lapply, mapply, match, mget, order, paste, pmax, pmax.int, pmin,
pmin.int, rank, rbind, rownames, sapply, setdiff, sort, table,
tapply, union, unique, unsplit, which.max, which.min
Loading required package: S4Vectors
Attaching package: 'S4Vectors'
The following objects are masked from 'package:base':
I, expand.grid, unname
Loading required package: IRanges
Attaching package: 'IRanges'
The following object is masked from 'package:grDevices':
windows
Loading required package: GenomeInfoDb
>
> test_check("karyoploteR")
[ FAIL 0 | WARN 0 | SKIP 3 | PASS 181 ]
== Skipped tests ===============================================================
* empty test (3)
[ FAIL 0 | WARN 0 | SKIP 3 | PASS 181 ]
>
> proc.time()
user system elapsed
15.96 1.50 17.45
|
karyoploteR.Rcheck/tests_x64/testthat.Rout
R version 4.1.3 (2022-03-10) -- "One Push-Up"
Copyright (C) 2022 The R Foundation for Statistical Computing
Platform: x86_64-w64-mingw32/x64 (64-bit)
R is free software and comes with ABSOLUTELY NO WARRANTY.
You are welcome to redistribute it under certain conditions.
Type 'license()' or 'licence()' for distribution details.
R is a collaborative project with many contributors.
Type 'contributors()' for more information and
'citation()' on how to cite R or R packages in publications.
Type 'demo()' for some demos, 'help()' for on-line help, or
'help.start()' for an HTML browser interface to help.
Type 'q()' to quit R.
> library(testthat)
> library(karyoploteR)
Loading required package: regioneR
Loading required package: GenomicRanges
Loading required package: stats4
Loading required package: BiocGenerics
Attaching package: 'BiocGenerics'
The following objects are masked from 'package:stats':
IQR, mad, sd, var, xtabs
The following objects are masked from 'package:base':
Filter, Find, Map, Position, Reduce, anyDuplicated, append,
as.data.frame, basename, cbind, colnames, dirname, do.call,
duplicated, eval, evalq, get, grep, grepl, intersect, is.unsorted,
lapply, mapply, match, mget, order, paste, pmax, pmax.int, pmin,
pmin.int, rank, rbind, rownames, sapply, setdiff, sort, table,
tapply, union, unique, unsplit, which.max, which.min
Loading required package: S4Vectors
Attaching package: 'S4Vectors'
The following objects are masked from 'package:base':
I, expand.grid, unname
Loading required package: IRanges
Attaching package: 'IRanges'
The following object is masked from 'package:grDevices':
windows
Loading required package: GenomeInfoDb
>
> test_check("karyoploteR")
[ FAIL 0 | WARN 0 | SKIP 3 | PASS 181 ]
== Skipped tests ===============================================================
* empty test (3)
[ FAIL 0 | WARN 0 | SKIP 3 | PASS 181 ]
>
> proc.time()
user system elapsed
16.56 0.68 17.23
|
|
karyoploteR.Rcheck/examples_i386/karyoploteR-Ex.timings
|
karyoploteR.Rcheck/examples_x64/karyoploteR-Ex.timings
|