| Back to Multiple platform build/check report for BioC 3.14 |
|
This page was generated on 2022-04-13 12:06:46 -0400 (Wed, 13 Apr 2022).
| Hostname | OS | Arch (*) | R version | Installed pkgs |
|---|---|---|---|---|
| nebbiolo2 | Linux (Ubuntu 20.04.4 LTS) | x86_64 | 4.1.3 (2022-03-10) -- "One Push-Up" | 4324 |
| tokay2 | Windows Server 2012 R2 Standard | x64 | 4.1.3 (2022-03-10) -- "One Push-Up" | 4077 |
| machv2 | macOS 10.14.6 Mojave | x86_64 | 4.1.3 (2022-03-10) -- "One Push-Up" | 4137 |
| Click on any hostname to see more info about the system (e.g. compilers) (*) as reported by 'uname -p', except on Windows and Mac OS X | ||||
|
To the developers/maintainers of the ivygapSE package: - Please allow up to 24 hours (and sometimes 48 hours) for your latest push to git@git.bioconductor.org:packages/ivygapSE.git to reflect on this report. See How and When does the builder pull? When will my changes propagate? for more information. - Make sure to use the following settings in order to reproduce any error or warning you see on this page. |
| Package 973/2083 | Hostname | OS / Arch | INSTALL | BUILD | CHECK | BUILD BIN | ||||||||
| ivygapSE 1.16.0 (landing page) VJ Carey
| nebbiolo2 | Linux (Ubuntu 20.04.4 LTS) / x86_64 | OK | OK | OK | |||||||||
| tokay2 | Windows Server 2012 R2 Standard / x64 | OK | OK | OK | OK | |||||||||
| machv2 | macOS 10.14.6 Mojave / x86_64 | OK | OK | OK | OK | |||||||||
| Package: ivygapSE |
| Version: 1.16.0 |
| Command: C:\cygwin\bin\curl.exe -O http://155.52.207.166/BBS/3.14/bioc/src/contrib/ivygapSE_1.16.0.tar.gz && rm -rf ivygapSE.buildbin-libdir && mkdir ivygapSE.buildbin-libdir && C:\Users\biocbuild\bbs-3.14-bioc\R\bin\R.exe CMD INSTALL --merge-multiarch --build --library=ivygapSE.buildbin-libdir ivygapSE_1.16.0.tar.gz && C:\Users\biocbuild\bbs-3.14-bioc\R\bin\R.exe CMD INSTALL ivygapSE_1.16.0.zip && rm ivygapSE_1.16.0.tar.gz ivygapSE_1.16.0.zip |
| StartedAt: 2022-04-12 07:24:30 -0400 (Tue, 12 Apr 2022) |
| EndedAt: 2022-04-12 07:25:34 -0400 (Tue, 12 Apr 2022) |
| EllapsedTime: 64.1 seconds |
| RetCode: 0 |
| Status: OK |
##############################################################################
##############################################################################
###
### Running command:
###
### C:\cygwin\bin\curl.exe -O http://155.52.207.166/BBS/3.14/bioc/src/contrib/ivygapSE_1.16.0.tar.gz && rm -rf ivygapSE.buildbin-libdir && mkdir ivygapSE.buildbin-libdir && C:\Users\biocbuild\bbs-3.14-bioc\R\bin\R.exe CMD INSTALL --merge-multiarch --build --library=ivygapSE.buildbin-libdir ivygapSE_1.16.0.tar.gz && C:\Users\biocbuild\bbs-3.14-bioc\R\bin\R.exe CMD INSTALL ivygapSE_1.16.0.zip && rm ivygapSE_1.16.0.tar.gz ivygapSE_1.16.0.zip
###
##############################################################################
##############################################################################
% Total % Received % Xferd Average Speed Time Time Time Current
Dload Upload Total Spent Left Speed
0 0 0 0 0 0 0 0 --:--:-- --:--:-- --:--:-- 0
6 14.1M 6 992k 0 0 1156k 0 0:00:12 --:--:-- 0:00:12 1156k
21 14.1M 21 3109k 0 0 1674k 0 0:00:08 0:00:01 0:00:07 1674k
42 14.1M 42 6188k 0 0 2165k 0 0:00:06 0:00:02 0:00:04 2165k
70 14.1M 70 9.9M 0 0 2641k 0 0:00:05 0:00:03 0:00:02 2640k
89 14.1M 89 12.6M 0 0 2668k 0 0:00:05 0:00:04 0:00:01 2668k
100 14.1M 100 14.1M 0 0 2722k 0 0:00:05 0:00:05 --:--:-- 3025k
install for i386
* installing *source* package 'ivygapSE' ...
** using staged installation
** R
** data
** inst
** byte-compile and prepare package for lazy loading
** help
*** installing help indices
converting help for package 'ivygapSE'
finding HTML links ... done
exprByType html
getRefLimma html
helper html
imgSupport html
ivyGlimpse html
ivySE html
makeGeneSets html
** building package indices
** installing vignettes
** testing if installed package can be loaded from temporary location
** testing if installed package can be loaded from final location
** testing if installed package keeps a record of temporary installation path
install for x64
* installing *source* package 'ivygapSE' ...
** testing if installed package can be loaded
* MD5 sums
packaged installation of 'ivygapSE' as ivygapSE_1.16.0.zip
* DONE (ivygapSE)
* installing to library 'C:/Users/biocbuild/bbs-3.14-bioc/R/library'
package 'ivygapSE' successfully unpacked and MD5 sums checked