| Back to Multiple platform build/check report for BioC 3.14 |
|
This page was generated on 2022-04-13 12:05:30 -0400 (Wed, 13 Apr 2022).
| Hostname | OS | Arch (*) | R version | Installed pkgs |
|---|---|---|---|---|
| nebbiolo2 | Linux (Ubuntu 20.04.4 LTS) | x86_64 | 4.1.3 (2022-03-10) -- "One Push-Up" | 4324 |
| tokay2 | Windows Server 2012 R2 Standard | x64 | 4.1.3 (2022-03-10) -- "One Push-Up" | 4077 |
| machv2 | macOS 10.14.6 Mojave | x86_64 | 4.1.3 (2022-03-10) -- "One Push-Up" | 4137 |
| Click on any hostname to see more info about the system (e.g. compilers) (*) as reported by 'uname -p', except on Windows and Mac OS X | ||||
|
To the developers/maintainers of the inveRsion package: - Please allow up to 24 hours (and sometimes 48 hours) for your latest push to git@git.bioconductor.org:packages/inveRsion.git to reflect on this report. See How and When does the builder pull? When will my changes propagate? for more information. - Make sure to use the following settings in order to reproduce any error or warning you see on this page. |
| Package 948/2083 | Hostname | OS / Arch | INSTALL | BUILD | CHECK | BUILD BIN | ||||||||
| inveRsion 1.42.0 (landing page) Alejandro Caceres
| nebbiolo2 | Linux (Ubuntu 20.04.4 LTS) / x86_64 | OK | OK | WARNINGS | |||||||||
| tokay2 | Windows Server 2012 R2 Standard / x64 | OK | OK | WARNINGS | OK | |||||||||
| machv2 | macOS 10.14.6 Mojave / x86_64 | OK | OK | OK | OK | |||||||||
| Package: inveRsion |
| Version: 1.42.0 |
| Command: /home/biocbuild/bbs-3.14-bioc/R/bin/R CMD INSTALL inveRsion |
| StartedAt: 2022-04-12 03:20:39 -0400 (Tue, 12 Apr 2022) |
| EndedAt: 2022-04-12 03:20:52 -0400 (Tue, 12 Apr 2022) |
| EllapsedTime: 12.8 seconds |
| RetCode: 0 |
| Status: OK |
##############################################################################
##############################################################################
###
### Running command:
###
### /home/biocbuild/bbs-3.14-bioc/R/bin/R CMD INSTALL inveRsion
###
##############################################################################
##############################################################################
* installing to library ‘/home/biocbuild/bbs-3.14-bioc/R/library’
* installing *source* package ‘inveRsion’ ...
** using staged installation
** libs
gcc -I"/home/biocbuild/bbs-3.14-bioc/R/include" -DNDEBUG -I/usr/local/include -fpic -g -O2 -Wall -c init_inveRsion.c -o init_inveRsion.o
gcc -I"/home/biocbuild/bbs-3.14-bioc/R/include" -DNDEBUG -I/usr/local/include -fpic -g -O2 -Wall -c inversionModel.c -o inversionModel.o
inversionModel.c: In function ‘blockAndLev’:
inversionModel.c:185:31: warning: suggest parentheses around comparison in operand of ‘&’ [-Wparentheses]
185 | if(dat[(*nr)*(c1)+row]==levelleft[level] & dat[(*nr)*(c2)+row]==levelright[level])
| ~~~~~~~~~~~~~~~~~~~^~~~~~~~~~~~~~~~~~
inversionModel.c: In function ‘inversionModel’:
inversionModel.c:360:15: warning: suggest parentheses around comparison in operand of ‘&’ [-Wparentheses]
360 | while(steps<*maxSteps & tol>mintol)
| ~~~~~^~~~~~~~~~
gcc -I"/home/biocbuild/bbs-3.14-bioc/R/include" -DNDEBUG -I/usr/local/include -fpic -g -O2 -Wall -c writeGenoDat.c -o writeGenoDat.o
writeGenoDat.c: In function ‘writeGenoDat’:
writeGenoDat.c:34:16: warning: ‘dat’ may be used uninitialized in this function [-Wmaybe-uninitialized]
34 | int i,j,l,k,dat,nomiss[*numlevcaco],sum[*numlevcaco];
| ^~~
gcc -shared -L/home/biocbuild/bbs-3.14-bioc/R/lib -L/usr/local/lib -o inveRsion.so init_inveRsion.o inversionModel.o writeGenoDat.o -L/home/biocbuild/bbs-3.14-bioc/R/lib -lRlapack -L/home/biocbuild/bbs-3.14-bioc/R/lib -lRblas -lgfortran -lm -lquadmath -L/home/biocbuild/bbs-3.14-bioc/R/lib -lR
installing to /home/biocbuild/bbs-3.14-bioc/R/library/00LOCK-inveRsion/00new/inveRsion/libs
** R
** data
** inst
** byte-compile and prepare package for lazy loading
** help
*** installing help indices
** building package indices
** installing vignettes
** testing if installed package can be loaded from temporary location
** checking absolute paths in shared objects and dynamic libraries
** testing if installed package can be loaded from final location
** testing if installed package keeps a record of temporary installation path
* DONE (inveRsion)