| Back to Multiple platform build/check report for BioC 3.14 |
|
This page was generated on 2022-04-13 12:06:44 -0400 (Wed, 13 Apr 2022).
| Hostname | OS | Arch (*) | R version | Installed pkgs |
|---|---|---|---|---|
| nebbiolo2 | Linux (Ubuntu 20.04.4 LTS) | x86_64 | 4.1.3 (2022-03-10) -- "One Push-Up" | 4324 |
| tokay2 | Windows Server 2012 R2 Standard | x64 | 4.1.3 (2022-03-10) -- "One Push-Up" | 4077 |
| machv2 | macOS 10.14.6 Mojave | x86_64 | 4.1.3 (2022-03-10) -- "One Push-Up" | 4137 |
| Click on any hostname to see more info about the system (e.g. compilers) (*) as reported by 'uname -p', except on Windows and Mac OS X | ||||
|
To the developers/maintainers of the infercnv package: - Please allow up to 24 hours (and sometimes 48 hours) for your latest push to git@git.bioconductor.org:packages/infercnv.git to reflect on this report. See How and When does the builder pull? When will my changes propagate? for more information. - Make sure to use the following settings in order to reproduce any error or warning you see on this page. |
| Package 931/2083 | Hostname | OS / Arch | INSTALL | BUILD | CHECK | BUILD BIN | ||||||||
| infercnv 1.10.1 (landing page) Christophe Georgescu
| nebbiolo2 | Linux (Ubuntu 20.04.4 LTS) / x86_64 | OK | OK | OK | |||||||||
| tokay2 | Windows Server 2012 R2 Standard / x64 | OK | OK | OK | OK | |||||||||
| machv2 | macOS 10.14.6 Mojave / x86_64 | OK | OK | OK | OK | |||||||||
| Package: infercnv |
| Version: 1.10.1 |
| Command: rm -rf infercnv.buildbin-libdir && mkdir infercnv.buildbin-libdir && C:\Users\biocbuild\bbs-3.14-bioc\R\bin\R.exe CMD INSTALL --merge-multiarch --build --library=infercnv.buildbin-libdir infercnv_1.10.1.tar.gz |
| StartedAt: 2022-04-13 06:26:54 -0400 (Wed, 13 Apr 2022) |
| EndedAt: 2022-04-13 06:27:45 -0400 (Wed, 13 Apr 2022) |
| EllapsedTime: 51.7 seconds |
| RetCode: 0 |
| Status: OK |
| PackageFile: infercnv_1.10.1.zip |
| PackageFileSize: 4.286 MiB |
##############################################################################
##############################################################################
###
### Running command:
###
### rm -rf infercnv.buildbin-libdir && mkdir infercnv.buildbin-libdir && C:\Users\biocbuild\bbs-3.14-bioc\R\bin\R.exe CMD INSTALL --merge-multiarch --build --library=infercnv.buildbin-libdir infercnv_1.10.1.tar.gz
###
##############################################################################
##############################################################################
install for i386
* installing *source* package 'infercnv' ...
** using staged installation
** R
** data
*** moving datasets to lazyload DB
** inst
** byte-compile and prepare package for lazy loading
** help
*** installing help indices
converting help for package 'infercnv'
finding HTML links ... done
CreateInfercnvObject html
HMM_states html
MCMC_inferCNV-class html
add_to_seurat html
apply_median_filtering html
color.palette html
filterHighPNormals html
inferCNVBayesNet html
infercnv-class html
infercnv-package html
infercnv_annots_example html
infercnv_data_example html
infercnv_genes_example html
infercnv_object_example html
mcmc_obj html
plot_cnv html
plot_per_group html
run html
sample_object html
validate_infercnv_obj html
** building package indices
** installing vignettes
** testing if installed package can be loaded from temporary location
** testing if installed package can be loaded from final location
** testing if installed package keeps a record of temporary installation path
install for x64
* installing *source* package 'infercnv' ...
** testing if installed package can be loaded
* MD5 sums
packaged installation of 'infercnv' as infercnv_1.10.1.zip
* DONE (infercnv)