| Back to Multiple platform build/check report for BioC 3.14 |
|
This page was generated on 2022-04-13 12:06:44 -0400 (Wed, 13 Apr 2022).
| Hostname | OS | Arch (*) | R version | Installed pkgs |
|---|---|---|---|---|
| nebbiolo2 | Linux (Ubuntu 20.04.4 LTS) | x86_64 | 4.1.3 (2022-03-10) -- "One Push-Up" | 4324 |
| tokay2 | Windows Server 2012 R2 Standard | x64 | 4.1.3 (2022-03-10) -- "One Push-Up" | 4077 |
| machv2 | macOS 10.14.6 Mojave | x86_64 | 4.1.3 (2022-03-10) -- "One Push-Up" | 4137 |
| Click on any hostname to see more info about the system (e.g. compilers) (*) as reported by 'uname -p', except on Windows and Mac OS X | ||||
|
To the developers/maintainers of the idpr package: - Please allow up to 24 hours (and sometimes 48 hours) for your latest push to git@git.bioconductor.org:packages/idpr.git to reflect on this report. See How and When does the builder pull? When will my changes propagate? for more information. - Make sure to use the following settings in order to reproduce any error or warning you see on this page. |
| Package 913/2083 | Hostname | OS / Arch | INSTALL | BUILD | CHECK | BUILD BIN | ||||||||
| idpr 1.4.0 (landing page) William M. McFadden
| nebbiolo2 | Linux (Ubuntu 20.04.4 LTS) / x86_64 | OK | OK | OK | |||||||||
| tokay2 | Windows Server 2012 R2 Standard / x64 | OK | OK | OK | OK | |||||||||
| machv2 | macOS 10.14.6 Mojave / x86_64 | OK | OK | OK | OK | |||||||||
| Package: idpr |
| Version: 1.4.0 |
| Command: rm -rf idpr.buildbin-libdir && mkdir idpr.buildbin-libdir && C:\Users\biocbuild\bbs-3.14-bioc\R\bin\R.exe CMD INSTALL --merge-multiarch --build --library=idpr.buildbin-libdir idpr_1.4.0.tar.gz |
| StartedAt: 2022-04-13 06:26:17 -0400 (Wed, 13 Apr 2022) |
| EndedAt: 2022-04-13 06:26:33 -0400 (Wed, 13 Apr 2022) |
| EllapsedTime: 15.6 seconds |
| RetCode: 0 |
| Status: OK |
| PackageFile: idpr_1.4.0.zip |
| PackageFileSize: 1.085 MiB |
##############################################################################
##############################################################################
###
### Running command:
###
### rm -rf idpr.buildbin-libdir && mkdir idpr.buildbin-libdir && C:\Users\biocbuild\bbs-3.14-bioc\R\bin\R.exe CMD INSTALL --merge-multiarch --build --library=idpr.buildbin-libdir idpr_1.4.0.tar.gz
###
##############################################################################
##############################################################################
install for i386
* installing *source* package 'idpr' ...
** using staged installation
** R
** data
*** moving datasets to lazyload DB
** inst
** byte-compile and prepare package for lazy loading
** help
*** installing help indices
converting help for package 'idpr'
finding HTML links ... done
DUNMat html
DisorderMat html
EDSSMat html
KDNorm html
TP53Sequences html
chargeCalculationGlobal html
chargeCalculationLocal html
chargeHydropathyPlot html
hendersonHasselbalch html
idprofile html
iupred html
meanScaledHydropathy html
netCharge html
pKaData html
scaledHydropathyGlobal html
scaledHydropathyLocal html
sequenceCheck html
sequenceMap html
sequenceMapCoordinates html
sequencePlot html
structuralTendency html
structuralTendencyPlot html
*** copying figures
** building package indices
** installing vignettes
** testing if installed package can be loaded from temporary location
** testing if installed package can be loaded from final location
** testing if installed package keeps a record of temporary installation path
install for x64
* installing *source* package 'idpr' ...
** testing if installed package can be loaded
* MD5 sums
packaged installation of 'idpr' as idpr_1.4.0.zip
* DONE (idpr)