| Back to Multiple platform build/check report for BioC 3.14 |
|
This page was generated on 2022-04-13 12:06:44 -0400 (Wed, 13 Apr 2022).
| Hostname | OS | Arch (*) | R version | Installed pkgs |
|---|---|---|---|---|
| nebbiolo2 | Linux (Ubuntu 20.04.4 LTS) | x86_64 | 4.1.3 (2022-03-10) -- "One Push-Up" | 4324 |
| tokay2 | Windows Server 2012 R2 Standard | x64 | 4.1.3 (2022-03-10) -- "One Push-Up" | 4077 |
| machv2 | macOS 10.14.6 Mojave | x86_64 | 4.1.3 (2022-03-10) -- "One Push-Up" | 4137 |
| Click on any hostname to see more info about the system (e.g. compilers) (*) as reported by 'uname -p', except on Windows and Mac OS X | ||||
|
To the developers/maintainers of the iGC package: - Please allow up to 24 hours (and sometimes 48 hours) for your latest push to git@git.bioconductor.org:packages/iGC.git to reflect on this report. See How and When does the builder pull? When will my changes propagate? for more information. - Make sure to use the following settings in order to reproduce any error or warning you see on this page. |
| Package 915/2083 | Hostname | OS / Arch | INSTALL | BUILD | CHECK | BUILD BIN | ||||||||
| iGC 1.24.0 (landing page) Liang-Bo Wang
| nebbiolo2 | Linux (Ubuntu 20.04.4 LTS) / x86_64 | OK | OK | OK | |||||||||
| tokay2 | Windows Server 2012 R2 Standard / x64 | OK | OK | OK | OK | |||||||||
| machv2 | macOS 10.14.6 Mojave / x86_64 | OK | OK | OK | OK | |||||||||
| Package: iGC |
| Version: 1.24.0 |
| Command: C:\Users\biocbuild\bbs-3.14-bioc\R\bin\R.exe CMD check --force-multiarch --install=check:iGC.install-out.txt --library=C:\Users\biocbuild\bbs-3.14-bioc\R\library --no-vignettes --timings iGC_1.24.0.tar.gz |
| StartedAt: 2022-04-12 21:21:09 -0400 (Tue, 12 Apr 2022) |
| EndedAt: 2022-04-12 21:22:06 -0400 (Tue, 12 Apr 2022) |
| EllapsedTime: 57.6 seconds |
| RetCode: 0 |
| Status: OK |
| CheckDir: iGC.Rcheck |
| Warnings: 0 |
##############################################################################
##############################################################################
###
### Running command:
###
### C:\Users\biocbuild\bbs-3.14-bioc\R\bin\R.exe CMD check --force-multiarch --install=check:iGC.install-out.txt --library=C:\Users\biocbuild\bbs-3.14-bioc\R\library --no-vignettes --timings iGC_1.24.0.tar.gz
###
##############################################################################
##############################################################################
* using log directory 'C:/Users/biocbuild/bbs-3.14-bioc/meat/iGC.Rcheck'
* using R version 4.1.3 (2022-03-10)
* using platform: x86_64-w64-mingw32 (64-bit)
* using session charset: ISO8859-1
* using option '--no-vignettes'
* checking for file 'iGC/DESCRIPTION' ... OK
* checking extension type ... Package
* this is package 'iGC' version '1.24.0'
* checking package namespace information ... OK
* checking package dependencies ... NOTE
Package which this enhances but not available for checking: 'doMC'
* checking if this is a source package ... OK
* checking if there is a namespace ... OK
* checking for hidden files and directories ... OK
* checking for portable file names ... OK
* checking whether package 'iGC' can be installed ... OK
* checking installed package size ... NOTE
installed size is 6.4Mb
sub-directories of 1Mb or more:
extdata 5.6Mb
* checking package directory ... OK
* checking 'build' directory ... OK
* checking DESCRIPTION meta-information ... OK
* checking top-level files ... OK
* checking for left-over files ... OK
* checking index information ... OK
* checking package subdirectories ... OK
* checking R files for non-ASCII characters ... OK
* checking R files for syntax errors ... OK
* loading checks for arch 'i386'
** checking whether the package can be loaded ... OK
** checking whether the package can be loaded with stated dependencies ... OK
** checking whether the package can be unloaded cleanly ... OK
** checking whether the namespace can be loaded with stated dependencies ... OK
** checking whether the namespace can be unloaded cleanly ... OK
* loading checks for arch 'x64'
** checking whether the package can be loaded ... OK
** checking whether the package can be loaded with stated dependencies ... OK
** checking whether the package can be unloaded cleanly ... OK
** checking whether the namespace can be loaded with stated dependencies ... OK
** checking whether the namespace can be unloaded cleanly ... OK
* checking dependencies in R code ... OK
* checking S3 generic/method consistency ... OK
* checking replacement functions ... OK
* checking foreign function calls ... OK
* checking R code for possible problems ... NOTE
create_gene_cna: no visible global function definition for 'data'
create_gene_cna: no visible binding for global variable 'hg19DBNM'
create_gene_cna: no visible binding for global variable 'Gene.Symbol'
create_gene_cna: no visible binding for global variable 'GENE'
direct_gene_cna : <anonymous>: no visible binding for global variable
'GENE'
direct_gene_cna : <anonymous>: no visible binding for global variable
'gain_loss'
direct_gene_cna: no visible binding for global variable 'GENE'
find_cna_driven_gene: no visible binding for global variable 'GENE'
find_cna_driven_gene : exp_grouptest_driven_by_cna: no visible binding
for global variable 'Gain'
find_cna_driven_gene : exp_grouptest_driven_by_cna: no visible binding
for global variable 'GENE'
find_cna_driven_gene : exp_grouptest_driven_by_cna: no visible binding
for global variable 'Loss'
find_cna_driven_gene : exp_grouptest_driven_by_cna : <anonymous>: no
visible global function definition for 'na.omit'
find_cna_driven_gene : exp_grouptest_driven_by_cna : <anonymous>: no
visible global function definition for 't.test'
find_cna_driven_gene : exp_grouptest_driven_by_cna: no visible global
function definition for 'p.adjust'
find_cna_driven_gene: no visible binding for global variable 'p_value'
find_cna_driven_gene: no visible binding for global variable 'fdr'
find_cna_driven_gene: no visible binding for global variable
'vs_rest_exp_diff'
process_cna_per_sample: no visible binding for global variable
'gain_loss'
process_cna_per_sample: no visible binding for global variable
'Segment_Mean'
process_cna_per_sample: no visible binding for global variable
'Chromosome'
process_cna_per_sample: no visible binding for global variable 'Start'
process_cna_per_sample: no visible binding for global variable 'End'
process_cna_per_sample: no visible binding for global variable
'Gene.Symbol'
process_cna_per_sample: no visible binding for global variable
'cur_sample'
process_cna_per_sample_direct: no visible binding for global variable
'Segment_Mean'
process_cna_per_sample_direct: no visible binding for global variable
'gain_loss'
process_cna_per_sample_direct: no visible binding for global variable
'cna_val'
read_cna_geo: no visible binding for global variable 'GENE'
read_cna_geo: no visible binding for global variable 'Segment_Mean'
read_gene_exp: no visible global function definition for 'read.table'
Undefined global functions or variables:
Chromosome End GENE Gain Gene.Symbol Loss Segment_Mean Start cna_val
cur_sample data fdr gain_loss hg19DBNM na.omit p.adjust p_value
read.table t.test vs_rest_exp_diff
Consider adding
importFrom("stats", "na.omit", "p.adjust", "t.test")
importFrom("utils", "data", "read.table")
to your NAMESPACE file.
* checking Rd files ... OK
* checking Rd metadata ... OK
* checking Rd cross-references ... OK
* checking for missing documentation entries ... OK
* checking for code/documentation mismatches ... OK
* checking Rd \usage sections ... OK
* checking Rd contents ... OK
* checking for unstated dependencies in examples ... OK
* checking contents of 'data' directory ... OK
* checking data for non-ASCII characters ... OK
* checking LazyData ... OK
* checking data for ASCII and uncompressed saves ... OK
* checking files in 'vignettes' ... OK
* checking examples ...
** running examples for arch 'i386' ... OK
** running examples for arch 'x64' ... OK
* checking for unstated dependencies in vignettes ... OK
* checking package vignettes in 'inst/doc' ... OK
* checking running R code from vignettes ... SKIPPED
* checking re-building of vignette outputs ... SKIPPED
* checking PDF version of manual ... OK
* DONE
Status: 3 NOTEs
See
'C:/Users/biocbuild/bbs-3.14-bioc/meat/iGC.Rcheck/00check.log'
for details.
iGC.Rcheck/00install.out
##############################################################################
##############################################################################
###
### Running command:
###
### C:\cygwin\bin\curl.exe -O http://155.52.207.166/BBS/3.14/bioc/src/contrib/iGC_1.24.0.tar.gz && rm -rf iGC.buildbin-libdir && mkdir iGC.buildbin-libdir && C:\Users\biocbuild\bbs-3.14-bioc\R\bin\R.exe CMD INSTALL --merge-multiarch --build --library=iGC.buildbin-libdir iGC_1.24.0.tar.gz && C:\Users\biocbuild\bbs-3.14-bioc\R\bin\R.exe CMD INSTALL iGC_1.24.0.zip && rm iGC_1.24.0.tar.gz iGC_1.24.0.zip
###
##############################################################################
##############################################################################
% Total % Received % Xferd Average Speed Time Time Time Current
Dload Upload Total Spent Left Speed
0 0 0 0 0 0 0 0 --:--:-- --:--:-- --:--:-- 0
1 2780k 1 34887 0 0 220k 0 0:00:12 --:--:-- 0:00:12 219k
32 2780k 32 908k 0 0 786k 0 0:00:03 0:00:01 0:00:02 786k
97 2780k 97 2706k 0 0 1258k 0 0:00:02 0:00:02 --:--:-- 1258k
100 2780k 100 2780k 0 0 1289k 0 0:00:02 0:00:02 --:--:-- 1289k
install for i386
* installing *source* package 'iGC' ...
** using staged installation
** R
** data
*** moving datasets to lazyload DB
** inst
** byte-compile and prepare package for lazy loading
** help
*** installing help indices
converting help for package 'iGC'
finding HTML links ... done
create_gene_cna html
create_gene_exp html
create_sample_desc html
direct_gene_cna html
find_cna_driven_gene html
hg19DBNM html
iGC html
** building package indices
** installing vignettes
** testing if installed package can be loaded from temporary location
** testing if installed package can be loaded from final location
** testing if installed package keeps a record of temporary installation path
install for x64
* installing *source* package 'iGC' ...
** testing if installed package can be loaded
* MD5 sums
packaged installation of 'iGC' as iGC_1.24.0.zip
* DONE (iGC)
* installing to library 'C:/Users/biocbuild/bbs-3.14-bioc/R/library'
package 'iGC' successfully unpacked and MD5 sums checked
|
iGC.Rcheck/examples_i386/iGC-Ex.timings
|
iGC.Rcheck/examples_x64/iGC-Ex.timings
|