| Back to Multiple platform build/check report for BioC 3.14 | 
 | 
This page was generated on 2022-04-13 12:06:43 -0400 (Wed, 13 Apr 2022).
| Hostname | OS | Arch (*) | R version | Installed pkgs | 
|---|---|---|---|---|
| nebbiolo2 | Linux (Ubuntu 20.04.4 LTS) | x86_64 | 4.1.3 (2022-03-10) -- "One Push-Up" | 4324 | 
| tokay2 | Windows Server 2012 R2 Standard | x64 | 4.1.3 (2022-03-10) -- "One Push-Up" | 4077 | 
| machv2 | macOS 10.14.6 Mojave | x86_64 | 4.1.3 (2022-03-10) -- "One Push-Up" | 4137 | 
| Click on any hostname to see more info about the system (e.g. compilers) (*) as reported by 'uname -p', except on Windows and Mac OS X | ||||
| To the developers/maintainers of the iCNV package: - Please allow up to 24 hours (and sometimes 48 hours) for your latest push to git@git.bioconductor.org:packages/iCNV.git to reflect on this report. See How and When does the builder pull? When will my changes propagate? for more information. - Make sure to use the following settings in order to reproduce any error or warning you see on this page. | 
| Package 908/2083 | Hostname | OS / Arch | INSTALL | BUILD | CHECK | BUILD BIN | ||||||||
| iCNV 1.14.0  (landing page) Zilu Zhou 
 | nebbiolo2 | Linux (Ubuntu 20.04.4 LTS) / x86_64 | OK | OK | WARNINGS |  | ||||||||
| tokay2 | Windows Server 2012 R2 Standard / x64 | OK | OK | WARNINGS | OK |  | ||||||||
| machv2 | macOS 10.14.6 Mojave / x86_64 | OK | OK | WARNINGS | OK |  | ||||||||
| Package: iCNV | 
| Version: 1.14.0 | 
| Command: C:\cygwin\bin\curl.exe -O http://155.52.207.166/BBS/3.14/bioc/src/contrib/iCNV_1.14.0.tar.gz && rm -rf iCNV.buildbin-libdir && mkdir iCNV.buildbin-libdir && C:\Users\biocbuild\bbs-3.14-bioc\R\bin\R.exe CMD INSTALL --merge-multiarch --build --library=iCNV.buildbin-libdir iCNV_1.14.0.tar.gz && C:\Users\biocbuild\bbs-3.14-bioc\R\bin\R.exe CMD INSTALL iCNV_1.14.0.zip && rm iCNV_1.14.0.tar.gz iCNV_1.14.0.zip | 
| StartedAt: 2022-04-12 06:47:24 -0400 (Tue, 12 Apr 2022) | 
| EndedAt: 2022-04-12 06:49:22 -0400 (Tue, 12 Apr 2022) | 
| EllapsedTime: 117.8 seconds | 
| RetCode: 0 | 
| Status: OK | 
##############################################################################
##############################################################################
###
### Running command:
###
###   C:\cygwin\bin\curl.exe -O http://155.52.207.166/BBS/3.14/bioc/src/contrib/iCNV_1.14.0.tar.gz && rm -rf iCNV.buildbin-libdir && mkdir iCNV.buildbin-libdir && C:\Users\biocbuild\bbs-3.14-bioc\R\bin\R.exe CMD INSTALL --merge-multiarch --build --library=iCNV.buildbin-libdir iCNV_1.14.0.tar.gz && C:\Users\biocbuild\bbs-3.14-bioc\R\bin\R.exe CMD INSTALL iCNV_1.14.0.zip && rm iCNV_1.14.0.tar.gz iCNV_1.14.0.zip
###
##############################################################################
##############################################################################
  % Total    % Received % Xferd  Average Speed   Time    Time     Time  Current
                                 Dload  Upload   Total   Spent    Left  Speed
  0     0    0     0    0     0      0      0 --:--:-- --:--:-- --:--:--     0
 48 1215k   48  583k    0     0  1408k      0 --:--:-- --:--:-- --:--:-- 1406k
100 1215k  100 1215k    0     0  1900k      0 --:--:-- --:--:-- --:--:-- 1901k
install for i386
* installing *source* package 'iCNV' ...
** using staged installation
** R
** data
*** moving datasets to lazyload DB
** inst
** byte-compile and prepare package for lazy loading
Note: break used in wrong context: no loop is visible 
** help
*** installing help indices
  converting help for package 'iCNV'
    finding HTML links ... done
    bambaf_from_vcf                         html  
    bed_generator                           html  
    chr                                     html  
    filenm                                  html  
    get_array_input                         html  
    iCNV_detection                          html  
    icnv_output_to_gb                       html  
    icnv_res0                               html  
    ngs_baf                                 html  
    ngs_baf.chr                             html  
    ngs_baf.id                              html  
    ngs_baf.nm                              html  
    ngs_baf.pos                             html  
    ngs_plr                                 html  
    ngs_plr.pos                             html  
    normObj                                 html  
    output_list                             html  
    plotHMMscore                            html  
    plot_intensity                          html  
    plotindi                                html  
    projname                                html  
    qcObj                                   html  
    sampname                                html  
    sampname_qc                             html  
    snp_baf                                 html  
    snp_baf.pos                             html  
    snp_lrr                                 html  
    snp_lrr.pos                             html  
** building package indices
** installing vignettes
** testing if installed package can be loaded from temporary location
** testing if installed package can be loaded from final location
** testing if installed package keeps a record of temporary installation path
install for x64
* installing *source* package 'iCNV' ...
** testing if installed package can be loaded
* MD5 sums
packaged installation of 'iCNV' as iCNV_1.14.0.zip
* DONE (iCNV)
* installing to library 'C:/Users/biocbuild/bbs-3.14-bioc/R/library'
package 'iCNV' successfully unpacked and MD5 sums checked