| Back to Multiple platform build/check report for BioC 3.14 |
|
This page was generated on 2022-04-13 12:08:09 -0400 (Wed, 13 Apr 2022).
| Hostname | OS | Arch (*) | R version | Installed pkgs |
|---|---|---|---|---|
| nebbiolo2 | Linux (Ubuntu 20.04.4 LTS) | x86_64 | 4.1.3 (2022-03-10) -- "One Push-Up" | 4324 |
| tokay2 | Windows Server 2012 R2 Standard | x64 | 4.1.3 (2022-03-10) -- "One Push-Up" | 4077 |
| machv2 | macOS 10.14.6 Mojave | x86_64 | 4.1.3 (2022-03-10) -- "One Push-Up" | 4137 |
| Click on any hostname to see more info about the system (e.g. compilers) (*) as reported by 'uname -p', except on Windows and Mac OS X | ||||
|
To the developers/maintainers of the hypeR package: - Please allow up to 24 hours (and sometimes 48 hours) for your latest push to git@git.bioconductor.org:packages/hypeR.git to reflect on this report. See How and When does the builder pull? When will my changes propagate? for more information. - Make sure to use the following settings in order to reproduce any error or warning you see on this page. |
| Package 894/2083 | Hostname | OS / Arch | INSTALL | BUILD | CHECK | BUILD BIN | ||||||||
| hypeR 1.10.0 (landing page) Anthony Federico
| nebbiolo2 | Linux (Ubuntu 20.04.4 LTS) / x86_64 | OK | OK | OK | |||||||||
| tokay2 | Windows Server 2012 R2 Standard / x64 | OK | OK | ERROR | OK | |||||||||
| machv2 | macOS 10.14.6 Mojave / x86_64 | OK | OK | OK | OK | |||||||||
| Package: hypeR |
| Version: 1.10.0 |
| Command: /Library/Frameworks/R.framework/Resources/bin/R CMD check --install=check:hypeR.install-out.txt --library=/Library/Frameworks/R.framework/Resources/library --no-vignettes --timings hypeR_1.10.0.tar.gz |
| StartedAt: 2022-04-12 14:21:05 -0400 (Tue, 12 Apr 2022) |
| EndedAt: 2022-04-12 14:25:39 -0400 (Tue, 12 Apr 2022) |
| EllapsedTime: 274.0 seconds |
| RetCode: 0 |
| Status: OK |
| CheckDir: hypeR.Rcheck |
| Warnings: 0 |
##############################################################################
##############################################################################
###
### Running command:
###
### /Library/Frameworks/R.framework/Resources/bin/R CMD check --install=check:hypeR.install-out.txt --library=/Library/Frameworks/R.framework/Resources/library --no-vignettes --timings hypeR_1.10.0.tar.gz
###
##############################################################################
##############################################################################
* using log directory ‘/Users/biocbuild/bbs-3.14-bioc/meat/hypeR.Rcheck’
* using R version 4.1.3 (2022-03-10)
* using platform: x86_64-apple-darwin17.0 (64-bit)
* using session charset: UTF-8
* using option ‘--no-vignettes’
* checking for file ‘hypeR/DESCRIPTION’ ... OK
* this is package ‘hypeR’ version ‘1.10.0’
* package encoding: UTF-8
* checking package namespace information ... OK
* checking package dependencies ... OK
* checking if this is a source package ... OK
* checking if there is a namespace ... OK
* checking for hidden files and directories ... OK
* checking for portable file names ... OK
* checking for sufficient/correct file permissions ... OK
* checking whether package ‘hypeR’ can be installed ... OK
* checking installed package size ... OK
* checking package directory ... OK
* checking ‘build’ directory ... OK
* checking DESCRIPTION meta-information ... OK
* checking top-level files ... OK
* checking for left-over files ... OK
* checking index information ... OK
* checking package subdirectories ... OK
* checking R files for non-ASCII characters ... OK
* checking R files for syntax errors ... OK
* checking whether the package can be loaded ... OK
* checking whether the package can be loaded with stated dependencies ... OK
* checking whether the package can be unloaded cleanly ... OK
* checking whether the namespace can be loaded with stated dependencies ... OK
* checking whether the namespace can be unloaded cleanly ... OK
* checking dependencies in R code ... OK
* checking S3 generic/method consistency ... OK
* checking replacement functions ... OK
* checking foreign function calls ... OK
* checking R code for possible problems ... NOTE
.dots_multi_plot : <anonymous>: no visible binding for global variable
‘pval’
.dots_multi_plot : <anonymous>: no visible binding for global variable
‘fdr’
.dots_multi_plot : <anonymous>: no visible binding for global variable
‘label’
.dots_multi_plot: no visible global function definition for ‘head’
.dots_multi_plot: no visible binding for global variable ‘significance’
.dots_multi_plot: no visible binding for global variable ‘signature’
.dots_multi_plot: no visible binding for global variable ‘label’
.dots_multi_plot: no visible binding for global variable ‘size’
.dots_plot: no visible binding for global variable ‘pval’
.dots_plot: no visible binding for global variable ‘fdr’
.dots_plot: no visible binding for global variable ‘significance’
.dots_plot: no visible binding for global variable ‘size’
.enrichment_map: no visible binding for global variable ‘pval’
.enrichment_map: no visible binding for global variable ‘fdr’
.find_members: no visible binding for global variable ‘from’
.find_members: no visible binding for global variable ‘to’
.hiearchy_map: no visible binding for global variable ‘pval’
.hiearchy_map: no visible binding for global variable ‘fdr’
.hiearchy_map : <anonymous>: no visible binding for global variable
‘label’
.hyper_enrichment: no visible global function definition for ‘is’
.ks_enrichment: no visible global function definition for ‘is’
enrichr_available: no visible binding for global variable ‘.’
ggvenn: no visible binding for global variable ‘x’
ggvenn: no visible binding for global variable ‘y’
hyp_dots: no visible global function definition for ‘is’
hyp_emap: no visible global function definition for ‘is’
hyp_hmap: no visible global function definition for ‘is’
hyp_show: no visible global function definition for ‘is’
hyp_to_excel: no visible global function definition for ‘is’
hyp_to_graph: no visible global function definition for ‘is’
hyp_to_rmd: no visible global function definition for ‘is’
hyp_to_rmd : <anonymous>: no visible global function definition for
‘is’
hyp_to_table: no visible global function definition for ‘is’
hyp_to_table: no visible global function definition for ‘write.table’
hypeR: no visible global function definition for ‘is’
hypeR: no visible global function definition for ‘packageVersion’
hypeR: no visible global function definition for ‘head’
msigdb_available: no visible binding for global variable ‘gs_cat’
msigdb_available: no visible binding for global variable ‘gs_subcat’
msigdb_download: no visible binding for global variable ‘gs_name’
msigdb_download: no visible binding for global variable ‘gene_symbol’
msigdb_version: no visible global function definition for
‘packageVersion’
rctbl_build: no visible global function definition for ‘is’
Undefined global functions or variables:
. fdr from gene_symbol gs_cat gs_name gs_subcat head is label
packageVersion pval signature significance size to write.table x y
Consider adding
importFrom("methods", "is", "signature")
importFrom("utils", "head", "packageVersion", "write.table")
to your NAMESPACE file (and ensure that your DESCRIPTION Imports field
contains 'methods').
* checking Rd files ... OK
* checking Rd metadata ... OK
* checking Rd cross-references ... OK
* checking for missing documentation entries ... OK
* checking for code/documentation mismatches ... OK
* checking Rd \usage sections ... OK
* checking Rd contents ... OK
* checking for unstated dependencies in examples ... OK
* checking files in ‘vignettes’ ... OK
* checking examples ... OK
Examples with CPU (user + system) or elapsed time > 5s
user system elapsed
msigdb_available 29.960 1.478 31.474
hyp_hmap 11.898 0.092 12.636
enrichr_download 0.143 0.008 13.385
* checking for unstated dependencies in ‘tests’ ... OK
* checking tests ...
Running ‘testthat.R’
OK
* checking for unstated dependencies in vignettes ... OK
* checking package vignettes in ‘inst/doc’ ... OK
* checking running R code from vignettes ... SKIPPED
* checking re-building of vignette outputs ... SKIPPED
* checking PDF version of manual ... OK
* DONE
Status: 1 NOTE
See
‘/Users/biocbuild/bbs-3.14-bioc/meat/hypeR.Rcheck/00check.log’
for details.
hypeR.Rcheck/00install.out
############################################################################## ############################################################################## ### ### Running command: ### ### /Library/Frameworks/R.framework/Resources/bin/R CMD INSTALL hypeR ### ############################################################################## ############################################################################## * installing to library ‘/Library/Frameworks/R.framework/Versions/4.1/Resources/library’ * installing *source* package ‘hypeR’ ... ** using staged installation ** R ** data ** inst ** byte-compile and prepare package for lazy loading ** help *** installing help indices ** building package indices ** installing vignettes ** testing if installed package can be loaded from temporary location ** testing if installed package can be loaded from final location ** testing if installed package keeps a record of temporary installation path * DONE (hypeR)
hypeR.Rcheck/tests/testthat.Rout
R version 4.1.3 (2022-03-10) -- "One Push-Up"
Copyright (C) 2022 The R Foundation for Statistical Computing
Platform: x86_64-apple-darwin17.0 (64-bit)
R is free software and comes with ABSOLUTELY NO WARRANTY.
You are welcome to redistribute it under certain conditions.
Type 'license()' or 'licence()' for distribution details.
R is a collaborative project with many contributors.
Type 'contributors()' for more information and
'citation()' on how to cite R or R packages in publications.
Type 'demo()' for some demos, 'help()' for on-line help, or
'help.start()' for an HTML browser interface to help.
Type 'q()' to quit R.
> library(testthat)
> library(magrittr)
Attaching package: 'magrittr'
The following objects are masked from 'package:testthat':
equals, is_less_than, not
> library(hypeR)
>
> test_check("hypeR")
inline R code fragments
label: setup (with options)
List of 2
$ echo : logi FALSE
$ message: logi FALSE
ordinary text without R code
label: 1 (with options)
List of 2
$ fig.width: num 8.25
$ fig.align: chr "center"
ordinary text without R code
/usr/local/bin/pandoc +RTS -K512m -RTS hyp.1.knit.md --to html4 --from markdown+autolink_bare_uris+tex_math_single_backslash --output hyp.1.html --lua-filter /Library/Frameworks/R.framework/Versions/4.1/Resources/library/rmarkdown/rmarkdown/lua/pagebreak.lua --lua-filter /Library/Frameworks/R.framework/Versions/4.1/Resources/library/rmarkdown/rmarkdown/lua/latex-div.lua --self-contained --variable bs3=TRUE --standalone --section-divs --table-of-contents --toc-depth 1 --variable toc_float=1 --variable toc_selectors=h1 --variable toc_collapsed=1 --variable toc_smooth_scroll=1 --variable toc_print=1 --template /Library/Frameworks/R.framework/Versions/4.1/Resources/library/rmarkdown/rmd/h/default.html --no-highlight --variable highlightjs=1 --variable theme=united --mathjax --variable 'mathjax-url=https://mathjax.rstudio.com/latest/MathJax.js?config=TeX-AMS-MML_HTMLorMML' --include-in-header /tmp/RtmpzXdZcS/rmarkdown-str5be6447eb3d6.html --variable code_folding=hide --variable code_menu=1
inline R code fragments
label: setup (with options)
List of 2
$ echo : logi FALSE
$ message: logi FALSE
ordinary text without R code
label: 1 (with options)
List of 2
$ fig.width: num 8.25
$ fig.align: chr "center"
ordinary text without R code
label: 2 (with options)
List of 2
$ fig.width: num 8.25
$ fig.align: chr "center"
ordinary text without R code
label: 3 (with options)
List of 2
$ fig.width: num 8.25
$ fig.align: chr "center"
ordinary text without R code
/usr/local/bin/pandoc +RTS -K512m -RTS multihyp.1.knit.md --to html4 --from markdown+autolink_bare_uris+tex_math_single_backslash --output multihyp.1.html --lua-filter /Library/Frameworks/R.framework/Versions/4.1/Resources/library/rmarkdown/rmarkdown/lua/pagebreak.lua --lua-filter /Library/Frameworks/R.framework/Versions/4.1/Resources/library/rmarkdown/rmarkdown/lua/latex-div.lua --self-contained --variable bs3=TRUE --standalone --section-divs --table-of-contents --toc-depth 1 --variable toc_float=1 --variable toc_selectors=h1 --variable toc_collapsed=1 --variable toc_smooth_scroll=1 --variable toc_print=1 --template /Library/Frameworks/R.framework/Versions/4.1/Resources/library/rmarkdown/rmd/h/default.html --no-highlight --variable highlightjs=1 --variable theme=united --mathjax --variable 'mathjax-url=https://mathjax.rstudio.com/latest/MathJax.js?config=TeX-AMS-MML_HTMLorMML' --include-in-header /tmp/RtmpzXdZcS/rmarkdown-str5be6435936e9.html --variable code_folding=hide --variable code_menu=1
inline R code fragments
label: setup (with options)
List of 2
$ echo : logi FALSE
$ message: logi FALSE
ordinary text without R code
label: 1 (with options)
List of 2
$ fig.width: num 8.25
$ fig.align: chr "center"
ordinary text without R code
label: 2 (with options)
List of 2
$ fig.width: num 8.25
$ fig.align: chr "center"
ordinary text without R code
label: 3 (with options)
List of 2
$ fig.width: num 8.25
$ fig.align: chr "center"
ordinary text without R code
label: 4 (with options)
List of 2
$ fig.width: num 8.25
$ fig.align: chr "center"
ordinary text without R code
label: 5 (with options)
List of 2
$ fig.width: num 8.25
$ fig.align: chr "center"
ordinary text without R code
label: 6 (with options)
List of 2
$ fig.width: num 8.25
$ fig.align: chr "center"
ordinary text without R code
label: 7 (with options)
List of 2
$ fig.width: num 8.25
$ fig.align: chr "center"
ordinary text without R code
label: 8 (with options)
List of 2
$ fig.width: num 8.25
$ fig.align: chr "center"
ordinary text without R code
label: 9 (with options)
List of 2
$ fig.width: num 8.25
$ fig.align: chr "center"
ordinary text without R code
/usr/local/bin/pandoc +RTS -K512m -RTS lmultihyp.1.knit.md --to html4 --from markdown+autolink_bare_uris+tex_math_single_backslash --output lmultihyp.1.html --lua-filter /Library/Frameworks/R.framework/Versions/4.1/Resources/library/rmarkdown/rmarkdown/lua/pagebreak.lua --lua-filter /Library/Frameworks/R.framework/Versions/4.1/Resources/library/rmarkdown/rmarkdown/lua/latex-div.lua --self-contained --variable bs3=TRUE --standalone --section-divs --table-of-contents --toc-depth 1 --variable toc_float=1 --variable toc_selectors=h1 --variable toc_collapsed=1 --variable toc_smooth_scroll=1 --variable toc_print=1 --template /Library/Frameworks/R.framework/Versions/4.1/Resources/library/rmarkdown/rmd/h/default.html --no-highlight --variable highlightjs=1 --variable theme=united --mathjax --variable 'mathjax-url=https://mathjax.rstudio.com/latest/MathJax.js?config=TeX-AMS-MML_HTMLorMML' --include-in-header /tmp/RtmpzXdZcS/rmarkdown-str5be6606cfcfc.html --variable code_folding=hide --variable code_menu=1
inline R code fragments
label: setup (with options)
List of 2
$ echo : logi FALSE
$ message: logi FALSE
ordinary text without R code
label: 1 (with options)
List of 2
$ fig.width: num 8.25
$ fig.align: chr "center"
ordinary text without R code
/usr/local/bin/pandoc +RTS -K512m -RTS hyp.2.knit.md --to html4 --from markdown+autolink_bare_uris+tex_math_single_backslash --output hyp.2.html --lua-filter /Library/Frameworks/R.framework/Versions/4.1/Resources/library/rmarkdown/rmarkdown/lua/pagebreak.lua --lua-filter /Library/Frameworks/R.framework/Versions/4.1/Resources/library/rmarkdown/rmarkdown/lua/latex-div.lua --self-contained --variable bs3=TRUE --standalone --section-divs --table-of-contents --toc-depth 1 --variable toc_float=1 --variable toc_selectors=h1 --variable toc_collapsed=1 --variable toc_smooth_scroll=1 --variable toc_print=1 --template /Library/Frameworks/R.framework/Versions/4.1/Resources/library/rmarkdown/rmd/h/default.html --no-highlight --variable highlightjs=1 --variable theme=united --mathjax --variable 'mathjax-url=https://mathjax.rstudio.com/latest/MathJax.js?config=TeX-AMS-MML_HTMLorMML' --include-in-header /tmp/RtmpzXdZcS/rmarkdown-str5be6175bdd61.html --variable code_folding=hide --variable code_menu=1
inline R code fragments
label: setup (with options)
List of 2
$ echo : logi FALSE
$ message: logi FALSE
ordinary text without R code
label: 1 (with options)
List of 2
$ fig.width: num 8.25
$ fig.align: chr "center"
ordinary text without R code
label: 2 (with options)
List of 2
$ fig.width: num 8.25
$ fig.align: chr "center"
ordinary text without R code
label: 3 (with options)
List of 2
$ fig.width: num 8.25
$ fig.align: chr "center"
ordinary text without R code
/usr/local/bin/pandoc +RTS -K512m -RTS multihyp.2.knit.md --to html4 --from markdown+autolink_bare_uris+tex_math_single_backslash --output multihyp.2.html --lua-filter /Library/Frameworks/R.framework/Versions/4.1/Resources/library/rmarkdown/rmarkdown/lua/pagebreak.lua --lua-filter /Library/Frameworks/R.framework/Versions/4.1/Resources/library/rmarkdown/rmarkdown/lua/latex-div.lua --self-contained --variable bs3=TRUE --standalone --section-divs --table-of-contents --toc-depth 1 --variable toc_float=1 --variable toc_selectors=h1 --variable toc_collapsed=1 --variable toc_smooth_scroll=1 --variable toc_print=1 --template /Library/Frameworks/R.framework/Versions/4.1/Resources/library/rmarkdown/rmd/h/default.html --no-highlight --variable highlightjs=1 --variable theme=united --mathjax --variable 'mathjax-url=https://mathjax.rstudio.com/latest/MathJax.js?config=TeX-AMS-MML_HTMLorMML' --include-in-header /tmp/RtmpzXdZcS/rmarkdown-str5be637e9a285.html --variable code_folding=hide --variable code_menu=1
inline R code fragments
label: setup (with options)
List of 2
$ echo : logi FALSE
$ message: logi FALSE
ordinary text without R code
label: 1 (with options)
List of 2
$ fig.width: num 8.25
$ fig.align: chr "center"
ordinary text without R code
label: 2 (with options)
List of 2
$ fig.width: num 8.25
$ fig.align: chr "center"
ordinary text without R code
label: 3 (with options)
List of 2
$ fig.width: num 8.25
$ fig.align: chr "center"
ordinary text without R code
label: 4 (with options)
List of 2
$ fig.width: num 8.25
$ fig.align: chr "center"
ordinary text without R code
label: 5 (with options)
List of 2
$ fig.width: num 8.25
$ fig.align: chr "center"
ordinary text without R code
label: 6 (with options)
List of 2
$ fig.width: num 8.25
$ fig.align: chr "center"
ordinary text without R code
label: 7 (with options)
List of 2
$ fig.width: num 8.25
$ fig.align: chr "center"
ordinary text without R code
label: 8 (with options)
List of 2
$ fig.width: num 8.25
$ fig.align: chr "center"
ordinary text without R code
label: 9 (with options)
List of 2
$ fig.width: num 8.25
$ fig.align: chr "center"
ordinary text without R code
/usr/local/bin/pandoc +RTS -K512m -RTS lmultihyp.2.knit.md --to html4 --from markdown+autolink_bare_uris+tex_math_single_backslash --output lmultihyp.2.html --lua-filter /Library/Frameworks/R.framework/Versions/4.1/Resources/library/rmarkdown/rmarkdown/lua/pagebreak.lua --lua-filter /Library/Frameworks/R.framework/Versions/4.1/Resources/library/rmarkdown/rmarkdown/lua/latex-div.lua --self-contained --variable bs3=TRUE --standalone --section-divs --table-of-contents --toc-depth 1 --variable toc_float=1 --variable toc_selectors=h1 --variable toc_collapsed=1 --variable toc_smooth_scroll=1 --variable toc_print=1 --template /Library/Frameworks/R.framework/Versions/4.1/Resources/library/rmarkdown/rmd/h/default.html --no-highlight --variable highlightjs=1 --variable theme=united --mathjax --variable 'mathjax-url=https://mathjax.rstudio.com/latest/MathJax.js?config=TeX-AMS-MML_HTMLorMML' --include-in-header /tmp/RtmpzXdZcS/rmarkdown-str5be66d16c5fe.html --variable code_folding=hide --variable code_menu=1
inline R code fragments
label: setup (with options)
List of 2
$ echo : logi FALSE
$ message: logi FALSE
ordinary text without R code
label: 1 (with options)
List of 2
$ fig.width: num 8.25
$ fig.align: chr "center"
ordinary text without R code
label: 2 (with options)
List of 2
$ fig.width: num 8.25
$ fig.align: chr "center"
ordinary text without R code
label: 3 (with options)
List of 2
$ fig.width: num 8.25
$ fig.align: chr "center"
ordinary text without R code
label: 4 (with options)
List of 2
$ fig.width: num 8.25
$ fig.align: chr "center"
ordinary text without R code
label: 5 (with options)
List of 2
$ fig.width: num 8.25
$ fig.align: chr "center"
ordinary text without R code
label: 6 (with options)
List of 2
$ fig.width: num 8.25
$ fig.align: chr "center"
ordinary text without R code
label: 7 (with options)
List of 2
$ fig.width: num 8.25
$ fig.align: chr "center"
ordinary text without R code
label: 8 (with options)
List of 2
$ fig.width: num 8.25
$ fig.align: chr "center"
ordinary text without R code
label: 9 (with options)
List of 2
$ fig.width: num 8.25
$ fig.align: chr "center"
ordinary text without R code
/usr/local/bin/pandoc +RTS -K512m -RTS lmultihyp.3.knit.md --to html4 --from markdown+autolink_bare_uris+tex_math_single_backslash --output lmultihyp.3.html --lua-filter /Library/Frameworks/R.framework/Versions/4.1/Resources/library/rmarkdown/rmarkdown/lua/pagebreak.lua --lua-filter /Library/Frameworks/R.framework/Versions/4.1/Resources/library/rmarkdown/rmarkdown/lua/latex-div.lua --self-contained --variable bs3=TRUE --standalone --section-divs --table-of-contents --toc-depth 1 --variable toc_float=1 --variable toc_selectors=h1 --variable toc_collapsed=1 --variable toc_smooth_scroll=1 --variable toc_print=1 --template /Library/Frameworks/R.framework/Versions/4.1/Resources/library/rmarkdown/rmd/h/default.html --no-highlight --variable highlightjs=1 --variable theme=united --mathjax --variable 'mathjax-url=https://mathjax.rstudio.com/latest/MathJax.js?config=TeX-AMS-MML_HTMLorMML' --include-in-header /tmp/RtmpzXdZcS/rmarkdown-str5be616be5892.html --variable code_folding=hide --variable code_menu=1
inline R code fragments
label: setup (with options)
List of 2
$ echo : logi FALSE
$ message: logi FALSE
ordinary text without R code
label: 1 (with options)
List of 2
$ fig.width: num 8.25
$ fig.align: chr "center"
ordinary text without R code
/usr/local/bin/pandoc +RTS -K512m -RTS hyp.4.knit.md --to html4 --from markdown+autolink_bare_uris+tex_math_single_backslash --output hyp.4.html --lua-filter /Library/Frameworks/R.framework/Versions/4.1/Resources/library/rmarkdown/rmarkdown/lua/pagebreak.lua --lua-filter /Library/Frameworks/R.framework/Versions/4.1/Resources/library/rmarkdown/rmarkdown/lua/latex-div.lua --self-contained --variable bs3=TRUE --standalone --section-divs --table-of-contents --toc-depth 1 --variable toc_float=1 --variable toc_selectors=h1 --variable toc_collapsed=1 --variable toc_smooth_scroll=1 --variable toc_print=1 --template /Library/Frameworks/R.framework/Versions/4.1/Resources/library/rmarkdown/rmd/h/default.html --no-highlight --variable highlightjs=1 --variable theme=united --mathjax --variable 'mathjax-url=https://mathjax.rstudio.com/latest/MathJax.js?config=TeX-AMS-MML_HTMLorMML' --include-in-header /tmp/RtmpzXdZcS/rmarkdown-str5be64c689108.html --variable code_folding=hide --variable code_menu=1
inline R code fragments
label: setup (with options)
List of 2
$ echo : logi FALSE
$ message: logi FALSE
ordinary text without R code
label: 1 (with options)
List of 2
$ fig.width: num 8.25
$ fig.align: chr "center"
ordinary text without R code
label: 2 (with options)
List of 2
$ fig.width: num 8.25
$ fig.align: chr "center"
ordinary text without R code
label: 3 (with options)
List of 2
$ fig.width: num 8.25
$ fig.align: chr "center"
ordinary text without R code
/usr/local/bin/pandoc +RTS -K512m -RTS multihyp.4.knit.md --to html4 --from markdown+autolink_bare_uris+tex_math_single_backslash --output multihyp.4.html --lua-filter /Library/Frameworks/R.framework/Versions/4.1/Resources/library/rmarkdown/rmarkdown/lua/pagebreak.lua --lua-filter /Library/Frameworks/R.framework/Versions/4.1/Resources/library/rmarkdown/rmarkdown/lua/latex-div.lua --self-contained --variable bs3=TRUE --standalone --section-divs --table-of-contents --toc-depth 1 --variable toc_float=1 --variable toc_selectors=h1 --variable toc_collapsed=1 --variable toc_smooth_scroll=1 --variable toc_print=1 --template /Library/Frameworks/R.framework/Versions/4.1/Resources/library/rmarkdown/rmd/h/default.html --no-highlight --variable highlightjs=1 --variable theme=united --mathjax --variable 'mathjax-url=https://mathjax.rstudio.com/latest/MathJax.js?config=TeX-AMS-MML_HTMLorMML' --include-in-header /tmp/RtmpzXdZcS/rmarkdown-str5be6180398af.html --variable code_folding=hide --variable code_menu=1
inline R code fragments
label: setup (with options)
List of 2
$ echo : logi FALSE
$ message: logi FALSE
ordinary text without R code
label: 1 (with options)
List of 2
$ fig.width: num 8.25
$ fig.align: chr "center"
ordinary text without R code
label: 2 (with options)
List of 2
$ fig.width: num 8.25
$ fig.align: chr "center"
ordinary text without R code
label: 3 (with options)
List of 2
$ fig.width: num 8.25
$ fig.align: chr "center"
ordinary text without R code
label: 4 (with options)
List of 2
$ fig.width: num 8.25
$ fig.align: chr "center"
ordinary text without R code
/usr/local/bin/pandoc +RTS -K512m -RTS combo.1.knit.md --to html4 --from markdown+autolink_bare_uris+tex_math_single_backslash --output combo.1.html --lua-filter /Library/Frameworks/R.framework/Versions/4.1/Resources/library/rmarkdown/rmarkdown/lua/pagebreak.lua --lua-filter /Library/Frameworks/R.framework/Versions/4.1/Resources/library/rmarkdown/rmarkdown/lua/latex-div.lua --self-contained --variable bs3=TRUE --standalone --section-divs --table-of-contents --toc-depth 1 --variable toc_float=1 --variable toc_selectors=h1 --variable toc_collapsed=1 --variable toc_smooth_scroll=1 --variable toc_print=1 --template /Library/Frameworks/R.framework/Versions/4.1/Resources/library/rmarkdown/rmd/h/default.html --no-highlight --variable highlightjs=1 --variable theme=united --mathjax --variable 'mathjax-url=https://mathjax.rstudio.com/latest/MathJax.js?config=TeX-AMS-MML_HTMLorMML' --include-in-header /tmp/RtmpzXdZcS/rmarkdown-str5be610306155.html --variable code_folding=hide --variable code_menu=1
inline R code fragments
label: setup (with options)
List of 2
$ echo : logi FALSE
$ message: logi FALSE
ordinary text without R code
label: 1 (with options)
List of 2
$ fig.width: num 8.25
$ fig.align: chr "center"
ordinary text without R code
label: 2 (with options)
List of 2
$ fig.width: num 8.25
$ fig.align: chr "center"
ordinary text without R code
label: 3 (with options)
List of 2
$ fig.width: num 8.25
$ fig.align: chr "center"
ordinary text without R code
label: 4 (with options)
List of 2
$ fig.width: num 8.25
$ fig.align: chr "center"
ordinary text without R code
/usr/local/bin/pandoc +RTS -K512m -RTS combo.2.knit.md --to html4 --from markdown+autolink_bare_uris+tex_math_single_backslash --output combo.2.html --lua-filter /Library/Frameworks/R.framework/Versions/4.1/Resources/library/rmarkdown/rmarkdown/lua/pagebreak.lua --lua-filter /Library/Frameworks/R.framework/Versions/4.1/Resources/library/rmarkdown/rmarkdown/lua/latex-div.lua --self-contained --variable bs3=TRUE --standalone --section-divs --table-of-contents --toc-depth 1 --variable toc_float=1 --variable toc_selectors=h1 --variable toc_collapsed=1 --variable toc_smooth_scroll=1 --variable toc_print=1 --template /Library/Frameworks/R.framework/Versions/4.1/Resources/library/rmarkdown/rmd/h/default.html --no-highlight --variable highlightjs=1 --variable theme=united --mathjax --variable 'mathjax-url=https://mathjax.rstudio.com/latest/MathJax.js?config=TeX-AMS-MML_HTMLorMML' --include-in-header /tmp/RtmpzXdZcS/rmarkdown-str5be67037dfa2.html --variable code_folding=hide --variable code_menu=1
inline R code fragments
label: setup (with options)
List of 2
$ echo : logi FALSE
$ message: logi FALSE
ordinary text without R code
label: 1 (with options)
List of 2
$ fig.width: num 8.25
$ fig.align: chr "center"
ordinary text without R code
label: 2 (with options)
List of 2
$ fig.width: num 8.25
$ fig.align: chr "center"
ordinary text without R code
label: 3 (with options)
List of 2
$ fig.width: num 8.25
$ fig.align: chr "center"
ordinary text without R code
label: 4 (with options)
List of 2
$ fig.width: num 8.25
$ fig.align: chr "center"
ordinary text without R code
label: unnamed-chunk-1
ordinary text without R code
/usr/local/bin/pandoc +RTS -K512m -RTS combo.3.knit.md --to html4 --from markdown+autolink_bare_uris+tex_math_single_backslash --output combo.3.html --lua-filter /Library/Frameworks/R.framework/Versions/4.1/Resources/library/rmarkdown/rmarkdown/lua/pagebreak.lua --lua-filter /Library/Frameworks/R.framework/Versions/4.1/Resources/library/rmarkdown/rmarkdown/lua/latex-div.lua --self-contained --variable bs3=TRUE --standalone --section-divs --table-of-contents --toc-depth 1 --variable toc_float=1 --variable toc_selectors=h1 --variable toc_collapsed=1 --variable toc_smooth_scroll=1 --variable toc_print=1 --template /Library/Frameworks/R.framework/Versions/4.1/Resources/library/rmarkdown/rmd/h/default.html --no-highlight --variable highlightjs=1 --variable theme=united --mathjax --variable 'mathjax-url=https://mathjax.rstudio.com/latest/MathJax.js?config=TeX-AMS-MML_HTMLorMML' --include-in-header /tmp/RtmpzXdZcS/rmarkdown-str5be65ca20a95.html --variable code_folding=hide --variable code_menu=1
[ FAIL 0 | WARN 0 | SKIP 0 | PASS 409 ]
>
> proc.time()
user system elapsed
99.161 2.042 101.968
hypeR.Rcheck/hypeR-Ex.timings
| name | user | system | elapsed | |
| clean_genesets | 3.507 | 0.239 | 3.747 | |
| dot-format_str | 0.000 | 0.001 | 0.001 | |
| dot-string_args | 0.000 | 0.001 | 0.001 | |
| enrichr_available | 0.355 | 0.042 | 0.659 | |
| enrichr_download | 0.143 | 0.008 | 13.385 | |
| enrichr_gsets | 0.159 | 0.008 | 0.536 | |
| gsets | 0.001 | 0.001 | 0.003 | |
| hyp | 0.010 | 0.001 | 0.012 | |
| hyp_dots | 1.564 | 0.056 | 1.625 | |
| hyp_emap | 1.487 | 0.069 | 1.561 | |
| hyp_hmap | 11.898 | 0.092 | 12.636 | |
| hyp_show | 1.176 | 0.057 | 1.238 | |
| hyp_to_excel | 1.767 | 0.040 | 1.811 | |
| hyp_to_graph | 3.817 | 0.023 | 3.977 | |
| hyp_to_table | 1.058 | 0.032 | 1.091 | |
| hypeR | 1.108 | 0.026 | 1.135 | |
| hyperdb_available | 0.083 | 0.004 | 0.416 | |
| hyperdb_gsets | 0.038 | 0.003 | 0.331 | |
| hyperdb_rgsets | 0.057 | 0.004 | 0.172 | |
| msigdb_available | 29.960 | 1.478 | 31.474 | |
| msigdb_check_species | 0.000 | 0.000 | 0.001 | |
| msigdb_download | 0.557 | 0.018 | 0.575 | |
| msigdb_gsets | 0.436 | 0.016 | 0.453 | |
| msigdb_info | 0.002 | 0.001 | 0.003 | |
| msigdb_species | 0.025 | 0.001 | 0.025 | |
| msigdb_version | 0.001 | 0.001 | 0.001 | |
| multihyp | 0.000 | 0.000 | 0.001 | |
| rctbl_build | 0.801 | 0.072 | 0.873 | |
| rctbl_hyp | 0.622 | 0.021 | 0.642 | |
| rctbl_mhyp | 0.774 | 0.061 | 0.835 | |