| Back to Multiple platform build/check report for BioC 3.14 | 
 | 
This page was generated on 2022-04-13 12:06:42 -0400 (Wed, 13 Apr 2022).
| Hostname | OS | Arch (*) | R version | Installed pkgs | 
|---|---|---|---|---|
| nebbiolo2 | Linux (Ubuntu 20.04.4 LTS) | x86_64 | 4.1.3 (2022-03-10) -- "One Push-Up" | 4324 | 
| tokay2 | Windows Server 2012 R2 Standard | x64 | 4.1.3 (2022-03-10) -- "One Push-Up" | 4077 | 
| machv2 | macOS 10.14.6 Mojave | x86_64 | 4.1.3 (2022-03-10) -- "One Push-Up" | 4137 | 
| Click on any hostname to see more info about the system (e.g. compilers) (*) as reported by 'uname -p', except on Windows and Mac OS X | ||||
| To the developers/maintainers of the hmdbQuery package: - Please allow up to 24 hours (and sometimes 48 hours) for your latest push to git@git.bioconductor.org:packages/hmdbQuery.git to reflect on this report. See How and When does the builder pull? When will my changes propagate? for more information. - Make sure to use the following settings in order to reproduce any error or warning you see on this page. | 
| Package 880/2083 | Hostname | OS / Arch | INSTALL | BUILD | CHECK | BUILD BIN | ||||||||
| hmdbQuery 1.14.2  (landing page) VJ Carey 
 | nebbiolo2 | Linux (Ubuntu 20.04.4 LTS) / x86_64 | OK | OK | OK |  | ||||||||
| tokay2 | Windows Server 2012 R2 Standard / x64 | OK | OK | OK | OK |  | ||||||||
| machv2 | macOS 10.14.6 Mojave / x86_64 | OK | OK | OK | OK |  | ||||||||
| Package: hmdbQuery | 
| Version: 1.14.2 | 
| Command: C:\cygwin\bin\curl.exe -O http://155.52.207.166/BBS/3.14/bioc/src/contrib/hmdbQuery_1.14.2.tar.gz && rm -rf hmdbQuery.buildbin-libdir && mkdir hmdbQuery.buildbin-libdir && C:\Users\biocbuild\bbs-3.14-bioc\R\bin\R.exe CMD INSTALL --merge-multiarch --build --library=hmdbQuery.buildbin-libdir hmdbQuery_1.14.2.tar.gz && C:\Users\biocbuild\bbs-3.14-bioc\R\bin\R.exe CMD INSTALL hmdbQuery_1.14.2.zip && rm hmdbQuery_1.14.2.tar.gz hmdbQuery_1.14.2.zip | 
| StartedAt: 2022-04-12 04:37:53 -0400 (Tue, 12 Apr 2022) | 
| EndedAt: 2022-04-12 04:38:32 -0400 (Tue, 12 Apr 2022) | 
| EllapsedTime: 39.0 seconds | 
| RetCode: 0 | 
| Status: OK | 
##############################################################################
##############################################################################
###
### Running command:
###
###   C:\cygwin\bin\curl.exe -O http://155.52.207.166/BBS/3.14/bioc/src/contrib/hmdbQuery_1.14.2.tar.gz && rm -rf hmdbQuery.buildbin-libdir && mkdir hmdbQuery.buildbin-libdir && C:\Users\biocbuild\bbs-3.14-bioc\R\bin\R.exe CMD INSTALL --merge-multiarch --build --library=hmdbQuery.buildbin-libdir hmdbQuery_1.14.2.tar.gz && C:\Users\biocbuild\bbs-3.14-bioc\R\bin\R.exe CMD INSTALL hmdbQuery_1.14.2.zip && rm hmdbQuery_1.14.2.tar.gz hmdbQuery_1.14.2.zip
###
##############################################################################
##############################################################################
  % Total    % Received % Xferd  Average Speed   Time    Time     Time  Current
                                 Dload  Upload   Total   Spent    Left  Speed
  0     0    0     0    0     0      0      0 --:--:-- --:--:-- --:--:--     0
100  515k  100  515k    0     0   766k      0 --:--:-- --:--:-- --:--:--  768k
install for i386
Warning in untar2(tarfile, files, list, exdir, restore_times) :
  failed to copy 'hmdbQuery/vignettes/hmdbQuery.Rmd' to 'hmdbQuery/README.md'
* installing *source* package 'hmdbQuery' ...
** using staged installation
** R
** data
** inst
** byte-compile and prepare package for lazy loading
** help
*** installing help indices
  converting help for package 'hmdbQuery'
    finding HTML links ... done
    HmdbEntry-class                         html  
    HmdbEntry                               html  
    biospecimens-HmdbEntry-method           html  
    diseases-HmdbEntry-method               html  
    hmdb1                                   html  
    hmdb_disease                            html  
    hmdb_gene                               html  
    hmdb_omim                               html  
    hmdb_protein                            html  
    store-HmdbEntry-method                  html  
    tissues-HmdbEntry-method                html  
** building package indices
** installing vignettes
** testing if installed package can be loaded from temporary location
** testing if installed package can be loaded from final location
** testing if installed package keeps a record of temporary installation path
install for x64
Warning in untar2(tarfile, files, list, exdir, restore_times) :
  failed to copy 'hmdbQuery/vignettes/hmdbQuery.Rmd' to 'hmdbQuery/README.md'
* installing *source* package 'hmdbQuery' ...
** testing if installed package can be loaded
* MD5 sums
packaged installation of 'hmdbQuery' as hmdbQuery_1.14.2.zip
* DONE (hmdbQuery)
* installing to library 'C:/Users/biocbuild/bbs-3.14-bioc/R/library'
package 'hmdbQuery' successfully unpacked and MD5 sums checked