| Back to Multiple platform build/check report for BioC 3.14 |
|
This page was generated on 2022-04-13 12:06:42 -0400 (Wed, 13 Apr 2022).
| Hostname | OS | Arch (*) | R version | Installed pkgs |
|---|---|---|---|---|
| nebbiolo2 | Linux (Ubuntu 20.04.4 LTS) | x86_64 | 4.1.3 (2022-03-10) -- "One Push-Up" | 4324 |
| tokay2 | Windows Server 2012 R2 Standard | x64 | 4.1.3 (2022-03-10) -- "One Push-Up" | 4077 |
| machv2 | macOS 10.14.6 Mojave | x86_64 | 4.1.3 (2022-03-10) -- "One Push-Up" | 4137 |
| Click on any hostname to see more info about the system (e.g. compilers) (*) as reported by 'uname -p', except on Windows and Mac OS X | ||||
|
To the developers/maintainers of the hipathia package: - Please allow up to 24 hours (and sometimes 48 hours) for your latest push to git@git.bioconductor.org:packages/hipathia.git to reflect on this report. See How and When does the builder pull? When will my changes propagate? for more information. - Make sure to use the following settings in order to reproduce any error or warning you see on this page. |
| Package 875/2083 | Hostname | OS / Arch | INSTALL | BUILD | CHECK | BUILD BIN | ||||||||
| hipathia 2.10.0 (landing page) Marta R. Hidalgo
| nebbiolo2 | Linux (Ubuntu 20.04.4 LTS) / x86_64 | OK | OK | OK | |||||||||
| tokay2 | Windows Server 2012 R2 Standard / x64 | OK | OK | OK | OK | |||||||||
| machv2 | macOS 10.14.6 Mojave / x86_64 | OK | OK | OK | OK | |||||||||
| Package: hipathia |
| Version: 2.10.0 |
| Command: rm -rf hipathia.buildbin-libdir && mkdir hipathia.buildbin-libdir && C:\Users\biocbuild\bbs-3.14-bioc\R\bin\R.exe CMD INSTALL --merge-multiarch --build --library=hipathia.buildbin-libdir hipathia_2.10.0.tar.gz |
| StartedAt: 2022-04-13 06:24:50 -0400 (Wed, 13 Apr 2022) |
| EndedAt: 2022-04-13 06:26:05 -0400 (Wed, 13 Apr 2022) |
| EllapsedTime: 75.1 seconds |
| RetCode: 0 |
| Status: OK |
| PackageFile: hipathia_2.10.0.zip |
| PackageFileSize: 8.388 MiB |
##############################################################################
##############################################################################
###
### Running command:
###
### rm -rf hipathia.buildbin-libdir && mkdir hipathia.buildbin-libdir && C:\Users\biocbuild\bbs-3.14-bioc\R\bin\R.exe CMD INSTALL --merge-multiarch --build --library=hipathia.buildbin-libdir hipathia_2.10.0.tar.gz
###
##############################################################################
##############################################################################
install for i386
* installing *source* package 'hipathia' ...
** using staged installation
** R
** data
*** moving datasets to lazyload DB
** inst
** byte-compile and prepare package for lazy loading
** help
*** installing help indices
converting help for package 'hipathia'
finding HTML links ... done
annotate_paths html
brca html
brca_data html
brca_design html
comp html
create_report html
do_pca html
do_wilcoxon html
exp_data html
get_go_names html
get_highest_sig_ancestor html
get_node_names html
get_nodes_data html
get_path_names html
get_paths_data html
get_pathway_functions html
get_pathways_annotations html
get_pathways_list html
get_pathways_summary html
go_vals html
heatmap_plot html
hhead html
hipathia html
igraphs_upgrade html
is_accepted_species html
load_annofuns html
load_annots html
load_entrez_hgnc html
load_gobp_frame html
load_gobp_net html
load_mgi html
load_pathways html
load_pseudo_mgi html
load_xref html
mgi_from_sif html
multiple_pca_plot html
node_color html
node_color_per_de html
normalize_data html
normalize_paths html
path_vals html
paths_to_go_ancestor html
pathway_comparison_plot html
pca_plot html
quantify_terms html
results html
save_results html
top_pathways html
translate_data html
translate_matrix html
visualize_report html
** building package indices
** installing vignettes
** testing if installed package can be loaded from temporary location
** testing if installed package can be loaded from final location
** testing if installed package keeps a record of temporary installation path
install for x64
* installing *source* package 'hipathia' ...
** testing if installed package can be loaded
* MD5 sums
packaged installation of 'hipathia' as hipathia_2.10.0.zip
* DONE (hipathia)