| Back to Multiple platform build/check report for BioC 3.14 | 
  | 
This page was generated on 2022-04-13 12:06:40 -0400 (Wed, 13 Apr 2022).
| Hostname | OS | Arch (*) | R version | Installed pkgs | 
|---|---|---|---|---|
| nebbiolo2 | Linux (Ubuntu 20.04.4 LTS) | x86_64 | 4.1.3 (2022-03-10) -- "One Push-Up" | 4324 | 
| tokay2 | Windows Server 2012 R2 Standard | x64 | 4.1.3 (2022-03-10) -- "One Push-Up" | 4077 | 
| machv2 | macOS 10.14.6 Mojave | x86_64 | 4.1.3 (2022-03-10) -- "One Push-Up" | 4137 | 
| Click on any hostname to see more info about the system (e.g. compilers) (*) as reported by 'uname -p', except on Windows and Mac OS X | ||||
| 
To the developers/maintainers of the gprege package: - Please allow up to 24 hours (and sometimes 48 hours) for your latest push to git@git.bioconductor.org:packages/gprege.git to reflect on this report. See How and When does the builder pull? When will my changes propagate? for more information. - Make sure to use the following settings in order to reproduce any error or warning you see on this page.  | 
| Package 813/2083 | Hostname | OS / Arch | INSTALL | BUILD | CHECK | BUILD BIN | ||||||||
| gprege 1.38.0  (landing page) Alfredo Kalaitzis 
  | nebbiolo2 | Linux (Ubuntu 20.04.4 LTS) / x86_64 | OK | OK | OK | |||||||||
| tokay2 | Windows Server 2012 R2 Standard / x64 | OK | OK | OK | OK | |||||||||
| machv2 | macOS 10.14.6 Mojave / x86_64 | OK | OK | OK | OK | |||||||||
| Package: gprege | 
| Version: 1.38.0 | 
| Command: C:\cygwin\bin\curl.exe -O http://155.52.207.166/BBS/3.14/bioc/src/contrib/gprege_1.38.0.tar.gz && rm -rf gprege.buildbin-libdir && mkdir gprege.buildbin-libdir && C:\Users\biocbuild\bbs-3.14-bioc\R\bin\R.exe CMD INSTALL --merge-multiarch --build --library=gprege.buildbin-libdir gprege_1.38.0.tar.gz && C:\Users\biocbuild\bbs-3.14-bioc\R\bin\R.exe CMD INSTALL gprege_1.38.0.zip && rm gprege_1.38.0.tar.gz gprege_1.38.0.zip | 
| StartedAt: 2022-04-12 04:59:17 -0400 (Tue, 12 Apr 2022) | 
| EndedAt: 2022-04-12 05:00:50 -0400 (Tue, 12 Apr 2022) | 
| EllapsedTime: 93.4 seconds | 
| RetCode: 0 | 
| Status: OK | 
##############################################################################
##############################################################################
###
### Running command:
###
###   C:\cygwin\bin\curl.exe -O http://155.52.207.166/BBS/3.14/bioc/src/contrib/gprege_1.38.0.tar.gz && rm -rf gprege.buildbin-libdir && mkdir gprege.buildbin-libdir && C:\Users\biocbuild\bbs-3.14-bioc\R\bin\R.exe CMD INSTALL --merge-multiarch --build --library=gprege.buildbin-libdir gprege_1.38.0.tar.gz && C:\Users\biocbuild\bbs-3.14-bioc\R\bin\R.exe CMD INSTALL gprege_1.38.0.zip && rm gprege_1.38.0.tar.gz gprege_1.38.0.zip
###
##############################################################################
##############################################################################
  % Total    % Received % Xferd  Average Speed   Time    Time     Time  Current
                                 Dload  Upload   Total   Spent    Left  Speed
  0     0    0     0    0     0      0      0 --:--:-- --:--:-- --:--:--     0
  0 2977k    0 15987    0     0   133k      0  0:00:22 --:--:--  0:00:22  133k
 58 2977k   58 1749k    0     0  1570k      0  0:00:01  0:00:01 --:--:-- 1570k
100 2977k  100 2977k    0     0  1864k      0  0:00:01  0:00:01 --:--:-- 1864k
install for i386
* installing *source* package 'gprege' ...
** using staged installation
** R
** data
** inst
** byte-compile and prepare package for lazy loading
** help
*** installing help indices
  converting help for package 'gprege'
    finding HTML links ... done
    DGdat_p63                               html  
    DellaGattaData                          html  
    compareROC                              html  
    demTp63Gp1                              html  
    exhaustivePlot                          html  
    gprege-package                          html  
    finding level-2 HTML links ... done
    gprege                                  html  
    rocStats                                html  
** building package indices
** installing vignettes
   'gprege_quick.Rnw' 
** testing if installed package can be loaded from temporary location
** testing if installed package can be loaded from final location
** testing if installed package keeps a record of temporary installation path
install for x64
* installing *source* package 'gprege' ...
** testing if installed package can be loaded
* MD5 sums
packaged installation of 'gprege' as gprege_1.38.0.zip
* DONE (gprege)
* installing to library 'C:/Users/biocbuild/bbs-3.14-bioc/R/library'
package 'gprege' successfully unpacked and MD5 sums checked