| Back to Multiple platform build/check report for BioC 3.14 | 
 | 
This page was generated on 2022-04-13 12:05:26 -0400 (Wed, 13 Apr 2022).
| Hostname | OS | Arch (*) | R version | Installed pkgs | 
|---|---|---|---|---|
| nebbiolo2 | Linux (Ubuntu 20.04.4 LTS) | x86_64 | 4.1.3 (2022-03-10) -- "One Push-Up" | 4324 | 
| tokay2 | Windows Server 2012 R2 Standard | x64 | 4.1.3 (2022-03-10) -- "One Push-Up" | 4077 | 
| machv2 | macOS 10.14.6 Mojave | x86_64 | 4.1.3 (2022-03-10) -- "One Push-Up" | 4137 | 
| Click on any hostname to see more info about the system (e.g. compilers) (*) as reported by 'uname -p', except on Windows and Mac OS X | ||||
| To the developers/maintainers of the goSTAG package: - Please allow up to 24 hours (and sometimes 48 hours) for your latest push to git@git.bioconductor.org:packages/goSTAG.git to reflect on this report. See How and When does the builder pull? When will my changes propagate? for more information. - Make sure to use the following settings in order to reproduce any error or warning you see on this page. | 
| Package 805/2083 | Hostname | OS / Arch | INSTALL | BUILD | CHECK | BUILD BIN | ||||||||
| goSTAG 1.18.0  (landing page) Brian D. Bennett 
 | nebbiolo2 | Linux (Ubuntu 20.04.4 LTS) / x86_64 | OK | OK | OK |  | ||||||||
| tokay2 | Windows Server 2012 R2 Standard / x64 | OK | OK | OK | OK |  | ||||||||
| machv2 | macOS 10.14.6 Mojave / x86_64 | OK | OK | OK | OK |  | ||||||||
| Package: goSTAG | 
| Version: 1.18.0 | 
| Command: /home/biocbuild/bbs-3.14-bioc/R/bin/R CMD check --install=check:goSTAG.install-out.txt --library=/home/biocbuild/bbs-3.14-bioc/R/library --no-vignettes --timings goSTAG_1.18.0.tar.gz | 
| StartedAt: 2022-04-12 07:40:37 -0400 (Tue, 12 Apr 2022) | 
| EndedAt: 2022-04-12 07:45:26 -0400 (Tue, 12 Apr 2022) | 
| EllapsedTime: 288.6 seconds | 
| RetCode: 0 | 
| Status: OK | 
| CheckDir: goSTAG.Rcheck | 
| Warnings: 0 | 
##############################################################################
##############################################################################
###
### Running command:
###
###   /home/biocbuild/bbs-3.14-bioc/R/bin/R CMD check --install=check:goSTAG.install-out.txt --library=/home/biocbuild/bbs-3.14-bioc/R/library --no-vignettes --timings goSTAG_1.18.0.tar.gz
###
##############################################################################
##############################################################################
* using log directory ‘/home/biocbuild/bbs-3.14-bioc/meat/goSTAG.Rcheck’
* using R version 4.1.3 (2022-03-10)
* using platform: x86_64-pc-linux-gnu (64-bit)
* using session charset: UTF-8
* using option ‘--no-vignettes’
* checking for file ‘goSTAG/DESCRIPTION’ ... OK
* checking extension type ... Package
* this is package ‘goSTAG’ version ‘1.18.0’
* checking package namespace information ... OK
* checking package dependencies ... OK
* checking if this is a source package ... OK
* checking if there is a namespace ... OK
* checking for hidden files and directories ... OK
* checking for portable file names ... OK
* checking for sufficient/correct file permissions ... OK
* checking whether package ‘goSTAG’ can be installed ... OK
* checking installed package size ... OK
* checking package directory ... OK
* checking ‘build’ directory ... OK
* checking DESCRIPTION meta-information ... OK
* checking top-level files ... OK
* checking for left-over files ... OK
* checking index information ... OK
* checking package subdirectories ... OK
* checking R files for non-ASCII characters ... OK
* checking R files for syntax errors ... OK
* checking whether the package can be loaded ... OK
* checking whether the package can be loaded with stated dependencies ... OK
* checking whether the package can be unloaded cleanly ... OK
* checking whether the namespace can be loaded with stated dependencies ... OK
* checking whether the namespace can be unloaded cleanly ... OK
* checking dependencies in R code ... OK
* checking S3 generic/method consistency ... OK
* checking replacement functions ... OK
* checking foreign function calls ... OK
* checking R code for possible problems ... OK
* checking Rd files ... OK
* checking Rd metadata ... OK
* checking Rd cross-references ... OK
* checking for missing documentation entries ... OK
* checking for code/documentation mismatches ... OK
* checking Rd \usage sections ... OK
* checking Rd contents ... OK
* checking for unstated dependencies in examples ... OK
* checking contents of ‘data’ directory ... OK
* checking data for non-ASCII characters ... OK
* checking LazyData ... OK
* checking data for ASCII and uncompressed saves ... OK
* checking files in ‘vignettes’ ... OK
* checking examples ... OK
Examples with CPU (user + system) or elapsed time > 5s
                                user system elapsed
performGOEnrichment           32.274  0.035  34.893
plotHeatmap                   31.396  0.108  32.571
performHierarchicalClustering 31.454  0.048  31.694
groupClusters                 29.125  0.080  29.205
annotateClusters              27.071  0.209  27.279
goSTAG-package                26.499  0.092  26.590
* checking for unstated dependencies in ‘tests’ ... OK
* checking tests ...
  Running ‘testthat.R’
 OK
* checking for unstated dependencies in vignettes ... OK
* checking package vignettes in ‘inst/doc’ ... OK
* checking running R code from vignettes ... SKIPPED
* checking re-building of vignette outputs ... SKIPPED
* checking PDF version of manual ... OK
* DONE
Status: OK
goSTAG.Rcheck/00install.out
############################################################################## ############################################################################## ### ### Running command: ### ### /home/biocbuild/bbs-3.14-bioc/R/bin/R CMD INSTALL goSTAG ### ############################################################################## ############################################################################## * installing to library ‘/home/biocbuild/bbs-3.14-bioc/R/library’ * installing *source* package ‘goSTAG’ ... ** using staged installation ** R ** data *** moving datasets to lazyload DB ** inst ** byte-compile and prepare package for lazy loading ** help *** installing help indices ** building package indices ** installing vignettes ** testing if installed package can be loaded from temporary location ** testing if installed package can be loaded from final location ** testing if installed package keeps a record of temporary installation path * DONE (goSTAG)
goSTAG.Rcheck/tests/testthat.Rout
R version 4.1.3 (2022-03-10) -- "One Push-Up"
Copyright (C) 2022 The R Foundation for Statistical Computing
Platform: x86_64-pc-linux-gnu (64-bit)
R is free software and comes with ABSOLUTELY NO WARRANTY.
You are welcome to redistribute it under certain conditions.
Type 'license()' or 'licence()' for distribution details.
R is a collaborative project with many contributors.
Type 'contributors()' for more information and
'citation()' on how to cite R or R packages in publications.
Type 'demo()' for some demos, 'help()' for on-line help, or
'help.start()' for an HTML browser interface to help.
Type 'q()' to quit R.
> library(testthat)
> library(goSTAG)
> 
> test_check("goSTAG")
[ FAIL 0 | WARN 0 | SKIP 0 | PASS 0 ]
> 
> proc.time()
   user  system elapsed 
  7.369   0.467   8.609 
goSTAG.Rcheck/goSTAG-Ex.timings
| name | user | system | elapsed | |
| annotateClusters | 27.071 | 0.209 | 27.279 | |
| goSTAG-package | 26.499 | 0.092 | 26.590 | |
| goSTAG_example_gene_lists | 0.002 | 0.000 | 0.002 | |
| goSTAG_go_genes_human | 0.059 | 0.000 | 0.059 | |
| goSTAG_go_genes_mouse | 0.062 | 0.004 | 0.065 | |
| goSTAG_go_genes_rat | 0.066 | 0.000 | 0.066 | |
| groupClusters | 29.125 | 0.080 | 29.205 | |
| loadGOTerms | 0.137 | 0.000 | 0.137 | |
| loadGeneLists | 0.004 | 0.000 | 0.003 | |
| performGOEnrichment | 32.274 | 0.035 | 34.893 | |
| performHierarchicalClustering | 31.454 | 0.048 | 31.694 | |
| plotHeatmap | 31.396 | 0.108 | 32.571 | |
| rat_cancer_therapeutics_gene_lists | 0.009 | 0.000 | 0.008 | |